BEGIN:VCALENDAR
VERSION:2.0
PRODID:-//Bains des Pâquis - ECPv6.15.20//NONSGML v1.0//EN
CALSCALE:GREGORIAN
METHOD:PUBLISH
X-ORIGINAL-URL:https://aubp.ch/en/
X-WR-CALDESC:Events for Bains des Pâquis
REFRESH-INTERVAL;VALUE=DURATION:PT1H
X-Robots-Tag:noindex
X-PUBLISHED-TTL:PT1H
BEGIN:VTIMEZONE
TZID:Europe/Zurich
BEGIN:DAYLIGHT
TZOFFSETFROM:+0100
TZOFFSETTO:+0200
TZNAME:CEST
DTSTART:20250330T010000
END:DAYLIGHT
BEGIN:STANDARD
TZOFFSETFROM:+0200
TZOFFSETTO:+0100
TZNAME:CET
DTSTART:20251026T010000
END:STANDARD
BEGIN:DAYLIGHT
TZOFFSETFROM:+0100
TZOFFSETTO:+0200
TZNAME:CEST
DTSTART:20260329T010000
END:DAYLIGHT
BEGIN:STANDARD
TZOFFSETFROM:+0200
TZOFFSETTO:+0100
TZNAME:CET
DTSTART:20261025T010000
END:STANDARD
BEGIN:DAYLIGHT
TZOFFSETFROM:+0100
TZOFFSETTO:+0200
TZNAME:CEST
DTSTART:20270328T010000
END:DAYLIGHT
BEGIN:STANDARD
TZOFFSETFROM:+0200
TZOFFSETTO:+0100
TZNAME:CET
DTSTART:20271031T010000
END:STANDARD
END:VTIMEZONE
BEGIN:VEVENT
DTSTART;TZID=Europe/Zurich:20260509T110000
DTEND;TZID=Europe/Zurich:20260509T120000
DTSTAMP:20260426T032532
CREATED:20260416T145221Z
LAST-MODIFIED:20260416T145221Z
UID:10027981-1778324400-1778328000@aubp.ch
SUMMARY:Poetic aperitif
DESCRIPTION:Apéro poétique with Fabienne Radi \nFabienne Radi writes (essays\, fiction\, poems)\, produces artist’s editions (books\, posters\, records) and teaches visual arts at the Geneva University of Art and Design (HEAD). Her early training in geology gave her a love of layers\, her brief foray into librarianship sparked an infatuation with filing\, and her later art studies transformed her view of everyday objects. Titles\, folds\, misunderstandings\, haircuts\, dentists\, Shelley Duvall and Paul Newman are recurring motifs in her work. Born in Fribourg\, she lives in Geneva and regularly visits the Gruyère region.
URL:https://aubp.ch/en/event/poetic-aperitif-28/
CATEGORIES:Poésie
ATTACH;FMTTYPE=image/jpeg:https://aubp.ch/wp-content/uploads/2026/04/FAB.MITAINE.OK-credit-Julien-Chavaillaz-2022-copie-2-1-e1666170299909.jpg
END:VEVENT
END:VCALENDAR