BEGIN:VCALENDAR
VERSION:2.0
PRODID:-//Bains des Pâquis - ECPv6.15.20//NONSGML v1.0//EN
CALSCALE:GREGORIAN
METHOD:PUBLISH
X-ORIGINAL-URL:https://aubp.ch/en/
X-WR-CALDESC:Events for Bains des Pâquis
REFRESH-INTERVAL;VALUE=DURATION:PT1H
X-Robots-Tag:noindex
X-PUBLISHED-TTL:PT1H
BEGIN:VTIMEZONE
TZID:Europe/Zurich
BEGIN:DAYLIGHT
TZOFFSETFROM:+0100
TZOFFSETTO:+0200
TZNAME:CEST
DTSTART:20230326T010000
END:DAYLIGHT
BEGIN:STANDARD
TZOFFSETFROM:+0200
TZOFFSETTO:+0100
TZNAME:CET
DTSTART:20231029T010000
END:STANDARD
BEGIN:DAYLIGHT
TZOFFSETFROM:+0100
TZOFFSETTO:+0200
TZNAME:CEST
DTSTART:20240331T010000
END:DAYLIGHT
BEGIN:STANDARD
TZOFFSETFROM:+0200
TZOFFSETTO:+0100
TZNAME:CET
DTSTART:20241027T010000
END:STANDARD
BEGIN:DAYLIGHT
TZOFFSETFROM:+0100
TZOFFSETTO:+0200
TZNAME:CEST
DTSTART:20250330T010000
END:DAYLIGHT
BEGIN:STANDARD
TZOFFSETFROM:+0200
TZOFFSETTO:+0100
TZNAME:CET
DTSTART:20251026T010000
END:STANDARD
END:VTIMEZONE
BEGIN:VEVENT
DTSTART;VALUE=DATE:20241002
DTEND;VALUE=DATE:20241109
DTSTAMP:20260424T174549
CREATED:20241009T091320Z
LAST-MODIFIED:20241009T111920Z
UID:10005682-1727827200-1731110399@aubp.ch
SUMMARY:Exhibition: Cataracts
DESCRIPTION:The “Cataracte” exhibition will run from October 2 to November 10\, 2024\, with a vernissage on October 1\, 2024 at 6pm at the Bains des Pâquis\, accompanied by readings of Philippe Constantin’s poetic text and a talk by Dr. Tawfik Chamaa of UOSSM. A café-philo will also be organized. This work was presented at the ON/OFF festival in Arles in 2023 and at the Leica Galerie in Geneva. These exhibitions raise public awareness of humanitarian issues while offering a visual immersion in this essential mission. Cataracts\, a scourge that indiscriminately affects young and old alike in Africa\, were recently the focus of a campaign of ophthalmological operations carried out by the NGO UOSSM in Mozambique. This project was documented by Geneva-based photographer Denis Ponté\, whose in-depth knowledge of Africa\, acquired through many years of reporting\, was brought face to face with a reality as unthinkable as it is harrowing.
URL:https://aubp.ch/en/event/exhibition-cataracts/
CATEGORIES:Exposition
ATTACH;FMTTYPE=image/jpeg:https://aubp.ch/wp-content/uploads/2024/09/cataracte.jpg
END:VEVENT
BEGIN:VEVENT
DTSTART;TZID=Europe/Zurich:20241007T123000
DTEND;TZID=Europe/Zurich:20241007T133000
DTSTAMP:20260424T174549
CREATED:20241009T091323Z
LAST-MODIFIED:20251209T112626Z
UID:10006088-1728304200-1728307800@aubp.ch
SUMMARY:Cold water swimming lessons
DESCRIPTION:Would you like to start cold water swimming and join a movement of several hundred people who swim all winter at the Bains? Would you like to enjoy the many benefits of cold water swimming (immune defenses\, mental well-being\, etc.)? \nFrom October 7\, Les Bains will be offering classes every Monday between 12:30 and 1:30 pm in groups of up to 8\, to give you all the keys you need to get started. \nThis course is designed for intermediate and advanced swimmers (we don’t teach you how to swim during the course). \nRegistration at the Rotonde des Bains\, CHF 10 per course.
URL:https://aubp.ch/en/event/cold-water-swimming-lessons/2024-10-07/
LOCATION:On the pier
ATTACH;FMTTYPE=image/jpeg:https://aubp.ch/wp-content/uploads/2024/10/cours_natation.jpg
END:VEVENT
BEGIN:VEVENT
DTSTART;TZID=Europe/Zurich:20241012T100000
DTEND;TZID=Europe/Zurich:20241012T110000
DTSTAMP:20260424T174549
CREATED:20240228T090556Z
LAST-MODIFIED:20241009T091640Z
UID:10006288-1728727200-1728730800@aubp.ch
SUMMARY:Yoga
DESCRIPTION:Suggested by Natachafaitduyoga\nWith a view over the lake\, between the lighthouse’s plane trees\, Natachafaitduyoga offers a wellness break adapted to the rhythm of the seasons\, once a week. Caring\, regenerating and accessible to all\, these sessions invite you to connect with your inner state\, take care of yourself and recharge your batteries. \nThrough movement\, conscious breathing and meditation\, the practice harmonizes the body\, honors the present moment and increases vital energy. Return to sensation\, awaken the body\, release the breath and relax before or after a swim. \nEvery Saturday at\nFrom October to April: 10am to 11am \nMay to September: 9 a.m. to 10 a.m. \n  \nhttps://www.instagram.com/natachafaitduyoga/ \nTo stay informed: https: //t.me/natachafaitduyoga
URL:https://aubp.ch/en/event/yoga/2024-10-12/
CATEGORIES:Détente
ATTACH;FMTTYPE=image/jpeg:https://aubp.ch/wp-content/uploads/2023/09/yoga-e1706468553755.jpg
END:VEVENT
BEGIN:VEVENT
DTSTART;TZID=Europe/Zurich:20241012T110000
DTEND;TZID=Europe/Zurich:20241012T120000
DTSTAMP:20260424T174549
CREATED:20241009T091327Z
LAST-MODIFIED:20241009T091327Z
UID:10006166-1728730800-1728734400@aubp.ch
SUMMARY:Poetic aperitif
DESCRIPTION:Saturday\, October 12\, 11 a.m. Resumption of the apéros poétiques with a carte blanche by Editions A côté de cela Reading of texts from the works of :  \nFrancesco Micieli\, Carin Caduff\, \nPablo Jofré\, Philippe Constantin\, \nDidier Jordan\, Marcel Burger\, Paul \nVerlaine.
URL:https://aubp.ch/en/event/poetic-aperitif-2/
CATEGORIES:Culture
ATTACH;FMTTYPE=image/png:https://aubp.ch/wp-content/uploads/2024/10/Capture-decran-2024-10-07-a-16.53.29-1.png
END:VEVENT
BEGIN:VEVENT
DTSTART;TZID=Europe/Zurich:20241013T150000
DTEND;TZID=Europe/Zurich:20241013T170000
DTSTAMP:20260424T174549
CREATED:20241009T091329Z
LAST-MODIFIED:20241009T091329Z
UID:10006167-1728831600-1728838800@aubp.ch
SUMMARY:Fête du Théâtre: Band(e) à part
DESCRIPTION:Band(e) à part is constructed as a theatrical documentary\, with the audience taking on the role of the camera. We follow a pop rock band as they go about their daily business and tour Europe.  \nBetween interviews with band members\, live concert scenes and backstage footage\, Collectif Duncan explores in music the social mechanisms that govern the evolution of individuals within a group. What remains of each individual in a shared project? A comic and sensitive show\, full of disagreements and unison.   \nA creation by Collectif Duncan \nText\, musical composition\, direction and acting: Paul Berrocal\, Boris Degex and Coralie Vollichard \nArtistic collaboration: Alain Borek \nSound: in progress \nPhoto credit: Aurélia Thys 50 free tickets Reservations: 022 908 20 31 / fetedutheatre.ch From age 12 Running time: 55 min
URL:https://aubp.ch/en/event/fete-du-theatre-bande-a-part/
CATEGORIES:Culture
ATTACH;FMTTYPE=image/jpeg:https://aubp.ch/wp-content/uploads/2024/09/BandEAPart-A.jpg
END:VEVENT
END:VCALENDAR