BEGIN:VCALENDAR
VERSION:2.0
PRODID:-//Bains des Pâquis - ECPv6.15.20//NONSGML v1.0//EN
CALSCALE:GREGORIAN
METHOD:PUBLISH
X-ORIGINAL-URL:https://aubp.ch/en/
X-WR-CALDESC:Events for Bains des Pâquis
REFRESH-INTERVAL;VALUE=DURATION:PT1H
X-Robots-Tag:noindex
X-PUBLISHED-TTL:PT1H
BEGIN:VTIMEZONE
TZID:Europe/Zurich
BEGIN:DAYLIGHT
TZOFFSETFROM:+0100
TZOFFSETTO:+0200
TZNAME:CEST
DTSTART:20250330T010000
END:DAYLIGHT
BEGIN:STANDARD
TZOFFSETFROM:+0200
TZOFFSETTO:+0100
TZNAME:CET
DTSTART:20251026T010000
END:STANDARD
BEGIN:DAYLIGHT
TZOFFSETFROM:+0100
TZOFFSETTO:+0200
TZNAME:CEST
DTSTART:20260329T010000
END:DAYLIGHT
BEGIN:STANDARD
TZOFFSETFROM:+0200
TZOFFSETTO:+0100
TZNAME:CET
DTSTART:20261025T010000
END:STANDARD
BEGIN:DAYLIGHT
TZOFFSETFROM:+0100
TZOFFSETTO:+0200
TZNAME:CEST
DTSTART:20270328T010000
END:DAYLIGHT
BEGIN:STANDARD
TZOFFSETFROM:+0200
TZOFFSETTO:+0100
TZNAME:CET
DTSTART:20271031T010000
END:STANDARD
END:VTIMEZONE
BEGIN:VEVENT
DTSTART;TZID=Europe/Zurich:20260309T123000
DTEND;TZID=Europe/Zurich:20260309T133000
DTSTAMP:20260425T061930
CREATED:20250622T164206Z
LAST-MODIFIED:20260126T102411Z
UID:10013781-1773059400-1773063000@aubp.ch
SUMMARY:Cold water swimming lessons
DESCRIPTION:Would you like to start cold water swimming and join a movement of several hundred people who swim all winter at the Bains? Would you like to enjoy the many benefits of cold water swimming (immune defenses\, mental well-being\, etc.)? \nFrom September 1\, Les Bains will be offering classes every Monday between 12:30 and 1:30 pm in groups of up to 8\, to give you all the keys you need to get started. \nThis course is designed for intermediate and advanced swimmers (we don’t teach you how to swim during the course). \nRegistration at the Rotonde des Bains\, CHF 10 per course.
URL:https://aubp.ch/en/event/cold-water-swimming-lessons-2/2026-03-09/
LOCATION:On the pier
ATTACH;FMTTYPE=image/jpeg:https://aubp.ch/wp-content/uploads/2024/10/cours_natation.jpg
END:VEVENT
BEGIN:VEVENT
DTSTART;TZID=Europe/Zurich:20260310T080000
DTEND;TZID=Europe/Zurich:20260401T090000
DTSTAMP:20260425T061930
CREATED:20260312T083350Z
LAST-MODIFIED:20260328T235847Z
UID:10027961-1773129600-1775034000@aubp.ch
SUMMARY:Attention Small Sauna out of order
DESCRIPTION:Due to a technical problem\, the small sauna is out of service until Tuesday\, March 31. Reopening April 1 at 9 a.m.   hours.   \nLimited seating.   \nThank you for your understanding.
URL:https://aubp.ch/en/event/attention-large-sauna-out-of-order/
CATEGORIES:Annonces
ATTACH;FMTTYPE=image/jpeg:https://aubp.ch/wp-content/uploads/2026/03/sauna_10.jpg
END:VEVENT
BEGIN:VEVENT
DTSTART;TZID=Europe/Zurich:20260312T173000
DTEND;TZID=Europe/Zurich:20260312T190000
DTSTAMP:20260425T061930
CREATED:20260227T154033Z
LAST-MODIFIED:20260408T121719Z
UID:10027941-1773336600-1773342000@aubp.ch
SUMMARY:Exhibition: Des glaciers aux Bains des Pâquis
DESCRIPTION:“From the glaciers to the Bains des Pâquis”: the water of Lake Geneva\, a precious asset to be protected \nAs part of Mr. Alfonso Gomez’s year as mayor\, the City of Geneva\, in partnership with the Maison de la Rivière\, is honoring Lake Geneva and its biodiversity with an open-air exhibition. The images taken by photographer Michel Roggo plunge the public into the fascinating world of the lake. Water shapes territories\, creates surprising aquatic landscapes and becomes an essential habitat for plants and animals. Lake Geneva is an essential\, but often little-known\, reservoir of nature in the Geneva region. This exhibition reveals an unseen universe where primordial biological balances are at play.    \n “Des glaciers aux Bains des Pâquis”\, open-air exhibition at the Bains des Pâquis from March 12 to April 15\, 2026
URL:https://aubp.ch/en/event/exhibition-des-glaciers-aux-bains-des-paquis/
LOCATION:On the pier
CATEGORIES:Exposition
ATTACH;FMTTYPE=image/jpeg:https://aubp.ch/wp-content/uploads/2026/02/DES_GLACIERS_AUX_BDP_MARS_4_5-e1772206789402.jpg
END:VEVENT
BEGIN:VEVENT
DTSTART;TZID=Europe/Zurich:20260313T121500
DTEND;TZID=Europe/Zurich:20260313T131500
DTSTAMP:20260425T061930
CREATED:20260201T094650Z
LAST-MODIFIED:20260310T133609Z
UID:10022465-1773404100-1773407700@aubp.ch
SUMMARY:Sport courses for all levels
DESCRIPTION:Want to move\, breathe and take care of yourself in a unique setting?\nDavid offers outdoor sports classes at the Bains des Pâquis\, accessible to all. Through mobility and strengthening exercises\, come and (re)discover the benefits of physical activity for body and mind.  \nThe program includes a variety of exercises\, a breathtaking view of the lake\, and guaranteed motivation! \nSchedule: every Friday\, 12.15pm – 1.15pm\nBring your own yoga mat. Classes open to all – offered by Les Bains – no registration required \nAUBP membership fee: CHF 20.00 per year\nAdmission to baths: CHF 2.00 during warm season \nTeacher : David Collins\, coach
URL:https://aubp.ch/en/event/sport-courses-for-all-levels-2/2026-03-13/
CATEGORIES:Sport
ATTACH;FMTTYPE=image/jpeg:https://aubp.ch/wp-content/uploads/2025/06/image00002.jpeg
END:VEVENT
BEGIN:VEVENT
DTSTART;TZID=Europe/Zurich:20260313T200000
DTEND;TZID=Europe/Zurich:20260313T213000
DTSTAMP:20260425T061930
CREATED:20260227T155118Z
LAST-MODIFIED:20260227T155118Z
UID:10027943-1773432000-1773437400@aubp.ch
SUMMARY:Concert: Aï Quartet
DESCRIPTION:Agnès sings and saws\, Françoise plays accordion\, Jean-Elie plays electric guitar and banjo\, and Dom plays baritone saxophone. This group is in fact a “side project” of Les Canards des Cropettes\, since we’re all part of it! Our repertoire is made up of covers from the last century\, from “Nessuno” to “Canzione Arrabiata”\, including “Sous aucun prétexte”\, “Perfect Day” and “Boulevard of Broken Dreams”. The result is a nostalgic flavour that has been brought up to date\, and the joy of revisiting these songs and playing them together.    \nConcert under the yurt\, free admission.
URL:https://aubp.ch/en/event/concert-ai-quartet/
LOCATION:Yurt
CATEGORIES:Culture
ATTACH;FMTTYPE=image/jpeg:https://aubp.ch/wp-content/uploads/2026/02/Ai_quartet.jpg
END:VEVENT
BEGIN:VEVENT
DTSTART;TZID=Europe/Zurich:20260314T100000
DTEND;TZID=Europe/Zurich:20260314T110000
DTSTAMP:20260425T061930
CREATED:20260201T093948Z
LAST-MODIFIED:20260201T094450Z
UID:10022173-1773482400-1773486000@aubp.ch
SUMMARY:Yoga & meditation
DESCRIPTION:With a view over the lake\, between the lighthouse’s plane trees\, Natacha and Dalia take turns offering a wellness break adapted to the rhythm of the seasons. Caring\, regenerating and accessible to all\, these sessions invite you to connect with your inner state\, take care of yourself and recharge your batteries. \nThrough movement\, conscious breathing and meditation\, the practice harmonizes the body\, honors the present moment and increases vital energy. Return to sensation\, awaken the body\, release the breath and relax before or after a swim. \nEvery Saturday at\nFrom October to April: 10am to 11am \nMay to September: 9 a.m. to 10 a.m.
URL:https://aubp.ch/en/event/yoga-2-2-2/2026-03-14/
CATEGORIES:Détente
ATTACH;FMTTYPE=image/jpeg:https://aubp.ch/wp-content/uploads/2023/09/yoga-e1706468553755.jpg
END:VEVENT
BEGIN:VEVENT
DTSTART;TZID=Europe/Zurich:20260315T100000
DTEND;TZID=Europe/Zurich:20260315T110000
DTSTAMP:20260425T061930
CREATED:20250429T111042Z
LAST-MODIFIED:20250429T125711Z
UID:10006729-1773568800-1773572400@aubp.ch
SUMMARY:Tai-Chi classes
DESCRIPTION:Every Sunday at the Spa \n\nJune to September: 9:15 to 10:15 a.m.\nOctober to May: 10am to 11am\n\nIn case of rain or wind: bistro-side shelter \nClasses open to all – offered by Les Bains – no registration required \n\nAUBP membership fee: CHF 20 per year\nAdmission to the baths : CHF 2.00 during the warm season\n\nTai chi teachers: Laurence Bovay\, Careen Croset\, Valérie Oppel\, Marianne Schweizer \nSense of direction\, praise for slowness\, muscle tone\, breathing\, meditation\, flexibility\, memory\, balance
URL:https://aubp.ch/en/event/tai-chi-classes/2026-03-15/
LOCATION:On the pier
CATEGORIES:Détente
ATTACH;FMTTYPE=image/png:https://aubp.ch/wp-content/uploads/2025/02/IMG_7282.png
END:VEVENT
BEGIN:VEVENT
DTSTART;TZID=Europe/Zurich:20260315T100000
DTEND;TZID=Europe/Zurich:20260315T113000
DTSTAMP:20260425T061930
CREATED:20260225T143406Z
LAST-MODIFIED:20260225T143847Z
UID:10027929-1773568800-1773574200@aubp.ch
SUMMARY:Philo aux Bains: How to respond to the violence of capitalism? with Nicolas Framont
DESCRIPTION:How do we respond to the violence of capitalism? And what happens when this violence is no longer merely structural\, but provokes irreversible action?  \nFor this Philo aux Bains event\, we welcome Nicolas Framont\, sociologist and editor-in-chief of Frustration magazine\, for a discussion based on two of his books: Parasites and Saint-Luigi: comment répondre à la violence du capitalisme. \nIn Parasites\, Nicolas Framont dismantles a well-honed ideological mechanism: that of designating certain populations as “welfare recipients”\, “profiteers” or “burdens” on society. Against this rhetoric\, he asks a simple\, incisive question: who is really living off whom? Through a sociological and political analysis\, he shows how the accusation of parasitism serves to mask the true relations of exploitation and protect the interests of the dominant classes.   \nWith Saint-Luigi\, he takes a different approach\, more directly rooted in a tragic news item: the murder of Brian Thomson by Luigi Mangione. Based on this event\, Nicolas Framont proposes a reflection on political and social violence. What does such an act say about the times in which we live? How can we understand how an individual could commit such an irreparable act in the name of denouncing capitalism? And above all: how can we respond to systemic violence without tipping ourselves into a logic of destruction?     \nAs always at Philo aux Bains\, this meeting is intended as a space for collective reflection\, taking the time to consider the tensions of our times – and the possible paths towards greater justice. \nThe meeting takes place as part of the FIFDH. \nUnder the yurt\, free admission.
URL:https://aubp.ch/en/event/philo-aux-bains-how-to-respond-to-the-violence-of-capitalism-with-nicolas-framont/
LOCATION:Yurt
CATEGORIES:Philo
ATTACH;FMTTYPE=image/jpeg:https://aubp.ch/wp-content/uploads/2026/02/Nicolas-Framont-Friction-Magazine-4263886888-e1772030235874.jpg
END:VEVENT
END:VCALENDAR