BEGIN:VCALENDAR
VERSION:2.0
PRODID:-//Bains des Pâquis - ECPv6.15.20//NONSGML v1.0//EN
CALSCALE:GREGORIAN
METHOD:PUBLISH
X-ORIGINAL-URL:https://aubp.ch/en/
X-WR-CALDESC:Events for Bains des Pâquis
REFRESH-INTERVAL;VALUE=DURATION:PT1H
X-Robots-Tag:noindex
X-PUBLISHED-TTL:PT1H
BEGIN:VTIMEZONE
TZID:Europe/Zurich
BEGIN:DAYLIGHT
TZOFFSETFROM:+0100
TZOFFSETTO:+0200
TZNAME:CEST
DTSTART:20230326T010000
END:DAYLIGHT
BEGIN:STANDARD
TZOFFSETFROM:+0200
TZOFFSETTO:+0100
TZNAME:CET
DTSTART:20231029T010000
END:STANDARD
BEGIN:DAYLIGHT
TZOFFSETFROM:+0100
TZOFFSETTO:+0200
TZNAME:CEST
DTSTART:20240331T010000
END:DAYLIGHT
BEGIN:STANDARD
TZOFFSETFROM:+0200
TZOFFSETTO:+0100
TZNAME:CET
DTSTART:20241027T010000
END:STANDARD
BEGIN:DAYLIGHT
TZOFFSETFROM:+0100
TZOFFSETTO:+0200
TZNAME:CEST
DTSTART:20250330T010000
END:DAYLIGHT
BEGIN:STANDARD
TZOFFSETFROM:+0200
TZOFFSETTO:+0100
TZNAME:CET
DTSTART:20251026T010000
END:STANDARD
BEGIN:DAYLIGHT
TZOFFSETFROM:+0100
TZOFFSETTO:+0200
TZNAME:CEST
DTSTART:20260329T010000
END:DAYLIGHT
BEGIN:STANDARD
TZOFFSETFROM:+0200
TZOFFSETTO:+0100
TZNAME:CET
DTSTART:20261025T010000
END:STANDARD
END:VTIMEZONE
BEGIN:VEVENT
DTSTART;TZID=Europe/Zurich:20241115T090000
DTEND;TZID=Europe/Zurich:20250526T223000
DTSTAMP:20260421T111032
CREATED:20250429T121722Z
LAST-MODIFIED:20250429T130906Z
UID:10006957-1731661200-1748298600@aubp.ch
SUMMARY:Full Moon Sauna
DESCRIPTION:On full-moon evenings\, the saunas are open until 11:30pm. \nEnjoy the magic of the Night Baths with a brazier\, clay to spread on your body\, ice cubes and orange pieces. \nDates: October 17\, November 15\, December 15\, January 13\, February 12\, March 14\, April 13 and May 12.
URL:https://aubp.ch/en/event/full-moon-sauna-2/
LOCATION:Sauna
CATEGORIES:Détente
ATTACH;FMTTYPE=image/png:https://aubp.ch/wp-content/uploads/2024/11/Capture-decran-2024-11-10-a-18.28.36.png
END:VEVENT
BEGIN:VEVENT
DTSTART;VALUE=DATE:20240915
DTEND;VALUE=DATE:20240916
DTSTAMP:20260421T111032
CREATED:20241009T091314Z
LAST-MODIFIED:20241009T091314Z
UID:10005677-1726358400-1726444799@aubp.ch
SUMMARY:Sauna opening and new opening hours
DESCRIPTION:You may have noticed it when you come to the Bains these days: the Bains have begun their almost end-of-summer makeover… David\, Mike and Bimbi have begun reassembling the saunas. Three weeks of intense work will culminate in the opening of the saunas\, steam rooms and Turkish bath on Sunday\, September 15! And as of September 15\, we’re extending our sauna opening hours: you’ll be able to lounge in the baths for an extra hour in the evening!
URL:https://aubp.ch/en/event/sauna-opening-and-new-opening-hours/
LOCATION:Sauna
CATEGORIES:Détente,Feature
ATTACH;FMTTYPE=image/png:https://aubp.ch/wp-content/uploads/2024/08/IMG_1544.png
END:VEVENT
END:VCALENDAR