BEGIN:VCALENDAR
VERSION:2.0
PRODID:-//Bains des Pâquis - ECPv6.15.20//NONSGML v1.0//EN
CALSCALE:GREGORIAN
METHOD:PUBLISH
X-WR-CALNAME:Bains des Pâquis
X-ORIGINAL-URL:https://aubp.ch
X-WR-CALDESC:Évènements pour Bains des Pâquis
REFRESH-INTERVAL;VALUE=DURATION:PT1H
X-Robots-Tag:noindex
X-PUBLISHED-TTL:PT1H
BEGIN:VTIMEZONE
TZID:Europe/Zurich
BEGIN:DAYLIGHT
TZOFFSETFROM:+0100
TZOFFSETTO:+0200
TZNAME:CEST
DTSTART:20220327T010000
END:DAYLIGHT
BEGIN:STANDARD
TZOFFSETFROM:+0200
TZOFFSETTO:+0100
TZNAME:CET
DTSTART:20221030T010000
END:STANDARD
BEGIN:DAYLIGHT
TZOFFSETFROM:+0100
TZOFFSETTO:+0200
TZNAME:CEST
DTSTART:20230326T010000
END:DAYLIGHT
BEGIN:STANDARD
TZOFFSETFROM:+0200
TZOFFSETTO:+0100
TZNAME:CET
DTSTART:20231029T010000
END:STANDARD
BEGIN:DAYLIGHT
TZOFFSETFROM:+0100
TZOFFSETTO:+0200
TZNAME:CEST
DTSTART:20240331T010000
END:DAYLIGHT
BEGIN:STANDARD
TZOFFSETFROM:+0200
TZOFFSETTO:+0100
TZNAME:CET
DTSTART:20241027T010000
END:STANDARD
BEGIN:DAYLIGHT
TZOFFSETFROM:+0100
TZOFFSETTO:+0200
TZNAME:CEST
DTSTART:20250330T010000
END:DAYLIGHT
BEGIN:STANDARD
TZOFFSETFROM:+0200
TZOFFSETTO:+0100
TZNAME:CET
DTSTART:20251026T010000
END:STANDARD
BEGIN:DAYLIGHT
TZOFFSETFROM:+0100
TZOFFSETTO:+0200
TZNAME:CEST
DTSTART:20260329T010000
END:DAYLIGHT
BEGIN:STANDARD
TZOFFSETFROM:+0200
TZOFFSETTO:+0100
TZNAME:CET
DTSTART:20261025T010000
END:STANDARD
END:VTIMEZONE
BEGIN:VEVENT
DTSTART;TZID=Europe/Zurich:20250222T110000
DTEND;TZID=Europe/Zurich:20250222T123000
DTSTAMP:20260419T204211
CREATED:20250218T081704Z
LAST-MODIFIED:20250218T081704Z
UID:10006629-1740222000-1740227400@aubp.ch
SUMMARY:Apéro poétique
DESCRIPTION:Samedi 22 février à 11h00\, carte blanche à Pavel Arsenev. \nPavel Arsenev\, né en 1986 à Leningrad (URSS)\, est un poète\, artiste et théoricien. \nIl habite actuellement Marseille\, où il fait partie des porteurs de la revue littéraire indépendante [Translit]\, qui regroupe des textes (réflexifs et de création) d’auteurs et d’activistes qui ont fui les pays post-soviétiques. Cette revue\, qu’il a dirigé à Saint-Pétersbourg\, à partir de 2006\, était une des rares revues littéraires en Russie consacrée à la dissidence politique et esthétique. En 2012\, il a reçu le prix Andrei Bely dans la catégorie « projets littéraires ». \nSes textes poétiques ont été traduits en anglais\, français\, allemand\, italien\, danois\, néerlandais\, finnois\, grec\, tchèque\, polonais\, bulgare\, romain\, hébreu\, et publiés dans des collections\, magazines et journaux d’artistes.\nEn tant qu’artiste textuel\, il travaille sur les aspects graphiques et la matérialisation du texte poétique\, en créant des videos textographiques\, des objets et installations textuelles et des lectures-performances poétiques. \nAprès avoir préparé sa thèse de doctorat à l’Université de Genève\, sur la ‘littérature du fait’ (soutenue en 2021\, un livre tiré de ce travail vient d’être publié)\, il a été accueilli en France en tant que chercheur grâce au Programme PAUSE de Collège de France. Actuellement il enseigne à Sorbonne l’histoire matérielle des avant-gardes russes et soviétiques au prisme des questions de médiums. \nLivres publiés : \n• Les choses qui ne rentrent pas dans votre tête (AnnaNova\, St.-Petersburg\, 2005)\, \n• Les idées vertes incolores dorment furieusement (Kraft\, Moscow\, St.Petersburg\, 2011)\n• Spasm of accomodation (Commune editions\, Berkeley\, 2017)\n• Reported speech (Cicada Press\, New York\, 2018)\n• Lo spasmo di alloggio (Arcipelago Itaca Edizioni\, Bologna\, 2021).\n• Russo lingua non materna (Seri Editore\, Macerata\, 2024).\n• Le russe comme non maternelle (Vanloo éditions/CIPM\, Aix-en-Provemce \, 2021).
URL:https://aubp.ch/event/apero-poetique-10/
LOCATION:Yourte
CATEGORIES:Culture
ATTACH;FMTTYPE=image/jpeg:https://aubp.ch/wp-content/uploads/2025/02/pavelarseniev_photo2-signature-e1739866602387.jpg
END:VEVENT
BEGIN:VEVENT
DTSTART;TZID=Europe/Zurich:20250111T140000
DTEND;TZID=Europe/Zurich:20250111T153000
DTSTAMP:20260419T204211
CREATED:20241226T064444Z
LAST-MODIFIED:20241226T064444Z
UID:10006357-1736604000-1736609400@aubp.ch
SUMMARY:Philo aux Bains: Le coût environnemental du bonheur avec Gaël Brulé
DESCRIPTION:Dans un monde où la consommation est souvent synonyme de bien-être\, quelles sont les conséquences environnementales de nos choix ? Et surtout\, est-il possible de redéfinir le bonheur d’une manière plus sobre et respectueuse de la planète ? \nGaël Brulé\, sociologue et chercheur\, explore dans son ouvrage Le coût environnemental du bonheur les liens entre nos aspirations individuelles et leurs impacts écologiques. En mêlant réflexion philosophique et analyse sociologique\, il propose des pistes pour repenser le bonheur en tenant compte des défis environnementaux. \nAu cours de ce café-philo\, nous discuterons de questions centrales : notre définition du bonheur est-elle compatible avec un monde aux ressources limitées ? Comment les sociétés modernes peuvent-elles évoluer vers des modèles de bien-être durables ? Et quelles solutions concrètes peuvent être mises en œuvre pour réduire le coût environnemental de notre quête de bonheur ? \nIngénieur de formation initiale\, Gaël Brulé est sociologue et professeur de santé environnementale à la HES à Genève. Il a réalisé en sociologie sur le bonheur. Ses travaux de recherche portent sur les liens entre bien-être et conditions sociales\, institutionnelles et écosystèmes. Il est cofondateur et rédacteur en chef de la revue Sciences & Bonheur. \nLe café-philo aura lieu aux Bains des Pâquis\, sur la jetée sous la yourte\, et sera diffusé en direct sur Facebook et en différé sur YouTube. Entrée libre.
URL:https://aubp.ch/event/philo-aux-bains-le-cout-environnemental-du-bonheur-avec-gael-brule/
LOCATION:Yourte
CATEGORIES:Philo
ATTACH;FMTTYPE=image/jpeg:https://aubp.ch/wp-content/uploads/2024/12/portrait2_large.jpg
END:VEVENT
BEGIN:VEVENT
DTSTART;TZID=Europe/Zurich:20241105T180000
DTEND;TZID=Europe/Zurich:20241105T193000
DTSTAMP:20260419T204211
CREATED:20241019T183815Z
LAST-MODIFIED:20241023T115023Z
UID:10006317-1730829600-1730835000@aubp.ch
SUMMARY:Philo aux Bains: Café mortel
DESCRIPTION:Philo aux Bains vous donne rendez-vous dans la Yourte sur la jetée pour un Café mortel durant lequel vous pourrez partager vos expériences de la mort dans une ambiance conviviale.\n\nNés d’une idée de Bernard Crettaz\, sociologue\, fondateur de la société d’études thanatologiques et fervent chrétien\, qui voulait qu’on « parle de la mort au bistrot »\, ces Cafés sont créés pour libérer la parole sur la mort en déloger les tabous les plus forts.\nAujourd’hui\, Rita Bonvin est l’une des personnes qui a repris le flambeau avec l’association Envie de dire la mort et qui pérennise ces espaces d’échanges particuliers dont l’objectif est : « une oralité vivante » c’est-à-dire un échange en présence qui invite à la rencontre – « une oralité citoyenne » qui concerne tout un chacun – « une oralité non spécialisée » qui reconnait l’expérience\, le vécu. En ce sens\, pour favoriser les échanges libres de tout jugement entre êtres humains à part entière il est demandé de s’exprimer sans « posture professionnelle (…) sans théorie (…) ni thérapie ».\nLe dernier ouvrage de l’anthropologue sera disponible sur place grâce à la collaboration des éditions Labor et Fides qui l’ont réédité et que nous remercions pour leur participation.
URL:https://aubp.ch/event/philo-aux-bains-cafe-mortel/
LOCATION:Yourte
CATEGORIES:Culture
ATTACH;FMTTYPE=image/jpeg:https://aubp.ch/wp-content/uploads/2024/10/463195451_956457486524049_5807566082624504997_n-e1729363081263.jpg
END:VEVENT
BEGIN:VEVENT
DTSTART;TZID=Europe/Zurich:20241020T100000
DTEND;TZID=Europe/Zurich:20241020T113000
DTSTAMP:20260419T204211
CREATED:20241009T191825Z
LAST-MODIFIED:20241009T191903Z
UID:10006183-1729418400-1729423800@aubp.ch
SUMMARY:Philo aux Bains: L'humanitaire\, un élan de solidarité ou un terrain de contradictions ?
DESCRIPTION:L’aide humanitaire crée-t-elle plus de dépendance qu’elle ne résout de problèmes ? Les motivations des acteurs humanitaires sont-elles toujours aussi altruistes qu’on le pense ? Comment éviter que l’humanitaire devienne un vecteur de néo-colonialisme ? \nVenez débattre de ce thème fascinant lors de notre prochain café-philo en compagnie de Tawfik Chamaa. Nous explorerons ensemble les motivations profondes de l’engagement humanitaire\, mais aussi ses paradoxes et ses conséquences parfois inattendues : dépendance\, nouveau colonialisme\, bonnes intentions qui se retournent… Ce café-philo est une invitation à réfléchir sur les enjeux éthiques de l’aide internationale\, à travers des questions qui nous concernent tous. Venez partager vos idées\, vos réflexions et vos doutes dans une ambiance conviviale et ouverte au dialogue. \nLe Dr Chamaa est actuellement directeur du Service Medical Junction (groupe médical multidisciplinaire) qu’il a fondé en 1997 et qui dessert un grand nombre de personnes dans le centre de Genève. \nEn septembre 2011\, suite au soulèvement syrien\, il a co-créé l’association Syrian Democrates (DS)\, basée à Genève\, pour soutenir les Syriens dans leur demande de démocratie et de liberté. \nIl est par ailleurs membre du conseil d’administration de l’UOSSM international\, de HRI et président de GLOCA (Global Organisation for Civil Society Advancement _ Shabab Pro project). \nLe café-philo  est organisé dans le cadre de l’exposition Cataracte et aura lieu sous la yourte\, sur la jetée des Bains. Entrée libre.
URL:https://aubp.ch/event/philo-aux-bains-lhumanitaire-un-elan-de-solidarite-ou-un-terrain-de-contradictions/
LOCATION:Yourte
CATEGORIES:Culture
ATTACH;FMTTYPE=image/jpeg:https://aubp.ch/wp-content/uploads/2024/10/Sans-titre.jpg
END:VEVENT
BEGIN:VEVENT
DTSTART;TZID=Europe/Zurich:20241005T140000
DTEND;TZID=Europe/Zurich:20241005T153000
DTSTAMP:20260419T204211
CREATED:20240919T071835Z
LAST-MODIFIED:20240919T092520Z
UID:10005189-1728136800-1728142200@aubp.ch
SUMMARY:Philo aux Bains: la naissance\, qu'est-ce que ça change?
DESCRIPTION:“Nous survenons au beau milieu d’une conversation commencée avant nous”\, écrivait Ricœur dont Olivier Abel fut non seulement l’élève mais aussi l’ami. La naissance nous jette à la fois dans l’histoire et dans les aléas du hasard. Splendeur de l’incarnation qui met devant le nouveau-né la possibilité de jouer sa partition\, elle se retourne parfois en angoisse de l’incarcération d’être coincé en soi-même et voué à la mort. Mais la désolation de notre finitude trouve sa consolation dans la merveille qu’est la pluralité des existences\, des formes de vie. Chacun se trouve l’obligé de sa naissance\, et transforme par son existence le hasard brut en hasard consenti.\n\n\n\nEn faisant de la naissance la racine perpétuellement renouvelée de la démocratie\, Olivier Abel nous offre une superbe méditation existentielle et politique où chaque naissance change quelque chose pour soi (évidemment !) mais aussi pour le monde. \n\n\nEn compagnie d’Olivier Abel\, professeur de philosophie et d’éthique à la faculté de théologie protestante de Montpellier\, et auteur de “La Naissance\, qu’est ce que ça change?” il s’agira de dessiner certains contours du terme pour en comprendre les sens\, les usages et les imaginaires qui en découlent.\n\nSuivant la démarche de la collection Qu’est ce que ça change? qui invite à une réflexion libre sur un sujet vaste qui concerne tout un chacun\, l’idée est de partager le regard du philosophe et de décliner ensemble ce que nous évoque cette notion.\n\nEn collaboration avec les éditions Labor et Fides Philo aux Bains vous invite à questionner une notion simple et complexe: la naissance.
URL:https://aubp.ch/event/philo-aux-bains-la-naissance-quest-ce-que-ca-change/
LOCATION:Yourte
CATEGORIES:Philo
ATTACH;FMTTYPE=image/jpeg:https://aubp.ch/wp-content/uploads/2024/09/Olivier_Abel_Credit_Marino-Carnevale-e1728502411179.jpg
END:VEVENT
BEGIN:VEVENT
DTSTART;TZID=Europe/Zurich:20230924T100000
DTEND;TZID=Europe/Zurich:20230924T170000
DTSTAMP:20260419T204211
CREATED:20230929T154548Z
LAST-MODIFIED:20230929T155006Z
UID:10000004-1695549600-1695574800@aubp.ch
SUMMARY:Quelle évolution pour la langue des signes à Genève?
DESCRIPTION:Dans le cadre de l’exposition “Portraits parlés” aux Bains\, ce café-philo se penchera sur le quotidien des personnes sourdes pour tenter de mieux comprendre cette communauté trop souvent ostracisée en ouvrant le dialogue et l’échange entre les entendant·es et les sourd·es. Nous tenterons notamment de réfléchir ensemble aux nombreuses évolutions de la langue des signes à Genève comme autant d’adaptations nécessaires comme des réponses sociales\, culturelles et linguistiques à la perte auditive. \nLes invités : \nFrédérik est un artiste sourd\, peintre\, illustrateur et bédéiste. Né en 1974\, il vit à Genève\, il a commencé à dessiner à l’âge de 5 ans pour ne plus lâcher son crayon. En 1995\, il obtient son diplôme de décorateur de théâtre. La RTS et la presse lui confient plusieurs mandats en tant que conteur et dessinateur. Depuis 2008\, son projet sur l’Histoire des Sourds l’occupe à plein temps; réalisé sous forme de grands tableaux\, peints à la gouache en y mêlant une technique picturale unique\, ils représentent des personnages emblématiques\, une époque\, une thématique\, liés à la surdité. Ces peintures\, déjà très remarquées par le public lors d’expositions\, sont nourries d’un symbolisme puissant et très colorés ; elles nous racontent l’Histoire des Sourds\, son\nmonde intérieur. \nJaime Barria est un artiste hip-hop et blogueur genevois d’origine chilienne et colombienne. Passionné par l’événementiel\, il excelle en tant qu’entrepreneur et organise également des cafés philosophiques. À l’Université de Genève\, sa recherche portait sur la population sourde genevoise\, dans le but de créer une visite guidée mettant en valeur leur histoire\, culture et arts. Il a notamment exploré l’émission “Signes” de la RTS et la traduction de la bible en LSF. La visite s’est terminée au restaurant VROOM\, et a permis de découvrir la richesse de la culture sourde genevoise. \nLe café-philo aura lieu sous la yourte. Entrée libre
URL:https://aubp.ch/event/quelle-evolution-pour-la-langue-des-signes-a-geneve/
LOCATION:Yourte
CATEGORIES:Philo
ATTACH;FMTTYPE=image/jpeg:https://aubp.ch/wp-content/uploads/2023/09/portraits-pares.jpg
END:VEVENT
END:VCALENDAR