BEGIN:VCALENDAR
VERSION:2.0
PRODID:-//Bains des Pâquis - ECPv6.15.20//NONSGML v1.0//EN
CALSCALE:GREGORIAN
METHOD:PUBLISH
X-ORIGINAL-URL:https://aubp.ch
X-WR-CALDESC:Évènements pour Bains des Pâquis
REFRESH-INTERVAL;VALUE=DURATION:PT1H
X-Robots-Tag:noindex
X-PUBLISHED-TTL:PT1H
BEGIN:VTIMEZONE
TZID:Europe/Zurich
BEGIN:DAYLIGHT
TZOFFSETFROM:+0100
TZOFFSETTO:+0200
TZNAME:CEST
DTSTART:20230326T010000
END:DAYLIGHT
BEGIN:STANDARD
TZOFFSETFROM:+0200
TZOFFSETTO:+0100
TZNAME:CET
DTSTART:20231029T010000
END:STANDARD
BEGIN:DAYLIGHT
TZOFFSETFROM:+0100
TZOFFSETTO:+0200
TZNAME:CEST
DTSTART:20240331T010000
END:DAYLIGHT
BEGIN:STANDARD
TZOFFSETFROM:+0200
TZOFFSETTO:+0100
TZNAME:CET
DTSTART:20241027T010000
END:STANDARD
BEGIN:DAYLIGHT
TZOFFSETFROM:+0100
TZOFFSETTO:+0200
TZNAME:CEST
DTSTART:20250330T010000
END:DAYLIGHT
BEGIN:STANDARD
TZOFFSETFROM:+0200
TZOFFSETTO:+0100
TZNAME:CET
DTSTART:20251026T010000
END:STANDARD
BEGIN:DAYLIGHT
TZOFFSETFROM:+0100
TZOFFSETTO:+0200
TZNAME:CEST
DTSTART:20260329T010000
END:DAYLIGHT
BEGIN:STANDARD
TZOFFSETFROM:+0200
TZOFFSETTO:+0100
TZNAME:CET
DTSTART:20261025T010000
END:STANDARD
END:VTIMEZONE
BEGIN:VEVENT
DTSTART;TZID=Europe/Zurich:20250720T100000
DTEND;TZID=Europe/Zurich:20250720T150000
DTSTAMP:20260422T031056
CREATED:20250711T073318Z
LAST-MODIFIED:20250711T073318Z
UID:10011759-1753005600-1753023600@aubp.ch
SUMMARY:Tournoi d'échec
DESCRIPTION:Dimanche 20 juillet à 10h \nNous avons le plaisir de vous accueillir pour la 2 ème édition du tournoi d’échecs aux Bains des Pâquis ! \nLa cadence sera rapide (10+0) \, le tournoi est divisé en deux niveaux : 500-1500 élo et +1500 élo. Inscription gratuite\, bons fondue\, plat du jour et petit déjeuner à gagner ! \nNous vous attendons avec vos ouvertures bien révisées !
URL:https://aubp.ch/event/tournoi-dechec/
CATEGORIES:Loisirs
ATTACH;FMTTYPE=application/pdf:https://aubp.ch/wp-content/uploads/2025/07/Affiche-tournois-echec-1.pdf
END:VEVENT
BEGIN:VEVENT
DTSTART;TZID=Europe/Zurich:20250626T080000
DTEND;TZID=Europe/Zurich:20250626T170000
DTSTAMP:20260422T031056
CREATED:20250626T151640Z
LAST-MODIFIED:20250626T151640Z
UID:10011233-1750924800-1750957200@aubp.ch
SUMMARY:Tournoi de ping pon
DESCRIPTION:Grand tournoi de ping pong \nSamedi 16 août \nInscriptions dès 13h\, tournoi dès 14h
URL:https://aubp.ch/event/tournoi-de-ping-pon/
CATEGORIES:Loisirs
ATTACH;FMTTYPE=image/png:https://aubp.ch/wp-content/uploads/2025/06/Capture-decran-2025-06-26-a-16.56.03-2.png
END:VEVENT
BEGIN:VEVENT
DTSTART;TZID=Europe/Zurich:20250607T140000
DTEND;TZID=Europe/Zurich:20250607T180000
DTSTAMP:20260422T031056
CREATED:20250506T074059Z
LAST-MODIFIED:20250524T121358Z
UID:10006966-1749304800-1749319200@aubp.ch
SUMMARY:Tournoi de jass de la Pentecôte
DESCRIPTION:Le Groupe Sport et Loisirs a le plaisir de vous proposer de participer\, le samedi 7 juin 2025\, au premier tournoi de jass de la Pentecôte. \nLes inscriptions auront lieu sur place dès 13h30 et le tournoi débutera à 14h00. \nAmbiance chaleureuse et décontractée assurée !! \nUn apéritif sera servi après la fin du tournoi. \nNous nous réjouissons de vous y retrouver nombreuses et nombreux.
URL:https://aubp.ch/event/tournoi-de-jass-de-la-pentecote/
LOCATION:Buvette
CATEGORIES:Loisirs
ATTACH;FMTTYPE=image/png:https://aubp.ch/wp-content/uploads/2025/05/Tournoi-jass-Pentecote-e1746517209822.png
END:VEVENT
BEGIN:VEVENT
DTSTART;TZID=Europe/Zurich:20241211T210000
DTEND;TZID=Europe/Zurich:20241212T070000
DTSTAMP:20260422T031056
CREATED:20241119T191143Z
LAST-MODIFIED:20241119T191302Z
UID:10006352-1733950800-1733986800@aubp.ch
SUMMARY:Tournoi de Jass de l'escalade
DESCRIPTION:Ah la belle Escalade ????\n\nTournoi convivial de jass se déroulant la nuit du 11 au 12 décembre. On vous attend par équipe de 2 déguisés pour l’occasion! On en profitera pour casser la fameuse marmite et profiterons pour entonner quelques chants traditionnels de cette belle fête genevoise. Ouvert à toutes et à tous! Des prix sympas seront à gagner!\n\nInscriptions dès 21h au prix de CHF 10 par personne\, début du tournoi à 22h.
URL:https://aubp.ch/event/tournoi-de-jass-de-lescalade/
LOCATION:Buvette
CATEGORIES:Loisirs
ATTACH;FMTTYPE=image/png:https://aubp.ch/wp-content/uploads/2024/11/Capture-decran-2024-11-19-201021-e1732043494418.png
END:VEVENT
END:VCALENDAR