BEGIN:VCALENDAR
VERSION:2.0
PRODID:-//Bains des Pâquis - ECPv6.15.20//NONSGML v1.0//EN
CALSCALE:GREGORIAN
METHOD:PUBLISH
X-ORIGINAL-URL:https://aubp.ch
X-WR-CALDESC:Évènements pour Bains des Pâquis
REFRESH-INTERVAL;VALUE=DURATION:PT1H
X-Robots-Tag:noindex
X-PUBLISHED-TTL:PT1H
BEGIN:VTIMEZONE
TZID:Europe/Zurich
BEGIN:DAYLIGHT
TZOFFSETFROM:+0100
TZOFFSETTO:+0200
TZNAME:CEST
DTSTART:20220327T010000
END:DAYLIGHT
BEGIN:STANDARD
TZOFFSETFROM:+0200
TZOFFSETTO:+0100
TZNAME:CET
DTSTART:20221030T010000
END:STANDARD
BEGIN:DAYLIGHT
TZOFFSETFROM:+0100
TZOFFSETTO:+0200
TZNAME:CEST
DTSTART:20230326T010000
END:DAYLIGHT
BEGIN:STANDARD
TZOFFSETFROM:+0200
TZOFFSETTO:+0100
TZNAME:CET
DTSTART:20231029T010000
END:STANDARD
BEGIN:DAYLIGHT
TZOFFSETFROM:+0100
TZOFFSETTO:+0200
TZNAME:CEST
DTSTART:20240331T010000
END:DAYLIGHT
BEGIN:STANDARD
TZOFFSETFROM:+0200
TZOFFSETTO:+0100
TZNAME:CET
DTSTART:20241027T010000
END:STANDARD
BEGIN:DAYLIGHT
TZOFFSETFROM:+0100
TZOFFSETTO:+0200
TZNAME:CEST
DTSTART:20250330T010000
END:DAYLIGHT
BEGIN:STANDARD
TZOFFSETFROM:+0200
TZOFFSETTO:+0100
TZNAME:CET
DTSTART:20251026T010000
END:STANDARD
BEGIN:DAYLIGHT
TZOFFSETFROM:+0100
TZOFFSETTO:+0200
TZNAME:CEST
DTSTART:20260329T010000
END:DAYLIGHT
BEGIN:STANDARD
TZOFFSETFROM:+0200
TZOFFSETTO:+0100
TZNAME:CET
DTSTART:20261025T010000
END:STANDARD
BEGIN:DAYLIGHT
TZOFFSETFROM:+0100
TZOFFSETTO:+0200
TZNAME:CEST
DTSTART:20270328T010000
END:DAYLIGHT
BEGIN:STANDARD
TZOFFSETFROM:+0200
TZOFFSETTO:+0100
TZNAME:CET
DTSTART:20271031T010000
END:STANDARD
END:VTIMEZONE
BEGIN:VEVENT
DTSTART;TZID=Europe/Zurich:20260417T121500
DTEND;TZID=Europe/Zurich:20260417T131500
DTSTAMP:20260419T215801
CREATED:20250622T171740Z
LAST-MODIFIED:20260310T133502Z
UID:10011275-1776428100-1776431700@aubp.ch
SUMMARY:Cours de Sport tous niveaux
DESCRIPTION:Envie de bouger\, de respirer et de prendre soin de vous dans un cadre unique ?\nDavid vous propose des cours de sport en extérieur aux Bains des Pâquis\, accessibles à tous-tes. À travers des exercices de mobilité et de renforcement\, venez (re)découvrir les bienfaits d’une activité physique bénéfique pour le corps et pour l’esprit. \nAu programme : exercices variés\, vue imprenable sur le lac\, et motivation garantie ! \nHoraires : tous les vendredis\, de 12h15 – 13h15\nMatériel à amener : tapis de yoga. Cours ouvert à tous – offerts par les Bains – sans inscription \nCotisation: CHF 20.-  par an pour l’AUBP\nEntrée aux bains: CHF 2.-  pendant la saison chaude \nEnseignant : David Collins\, coach
URL:https://aubp.ch/event/cours-de-sport-tous-niveaux/2026-04-17/
CATEGORIES:Sport
ATTACH;FMTTYPE=image/jpeg:https://aubp.ch/wp-content/uploads/2025/06/image00002.jpeg
END:VEVENT
BEGIN:VEVENT
DTSTART;TZID=Europe/Zurich:20250817T110000
DTEND;TZID=Europe/Zurich:20250817T160000
DTSTAMP:20260419T215801
CREATED:20250629T113928Z
LAST-MODIFIED:20250711T192444Z
UID:10011755-1755428400-1755446400@aubp.ch
SUMMARY:Portails Enchantés
DESCRIPTION:Danse synchronisée \nLe dimanche 17 août à 11 heures et 16 heures \nDe la danse… dans l’eau\, c’est ce que la troupe de spectacles aquatiques Vachement Synchro propose. \nLa pièce “Portails Enchantés” plonge le public dans un univers merveilleux où des créatures incarnent des sentiments puissants : la joie\, la mélancolie\, la colère\, ou encore l’émerveillement. Au travers de la narration d’une enfant\, les nageuses artistiques donnent vie à ces états d’âme par des mouvements fluides et une chorégraphie envoûtante. Elles exécuteront des portés et des figures aussi harmonieuses qu’impressionnantes. \nChorégraphie : Roxane Begg et Cynthia Hauser \nNatation artistique : Céline Chabloz\, Morgane Pouchèle\, Kristel Oeschger\, Roxane Begg\, Pamela Nicod et Émilie Pilet \nDécors et costumes : Alice Izzo \nVoix Off : Ophélie Cattin \nPhotographie : Luc-Antoine Vuilleumier \nMusique : Pierre Van Dormael – Soriba Kouyate – Otti Van des Werf\, Lindolfo Gargiulo – Lonepsi\, Derek – Brandon Fiechter\, Ramin Djawadi\, Otyken\, Les tambours du Bronx\, Ella Fitzgerald
URL:https://aubp.ch/event/portails-enchantes/
CATEGORIES:Sport
ATTACH;FMTTYPE=image/png:https://aubp.ch/wp-content/uploads/2025/06/Capture-decran-2025-06-29-a-13.34.46.png
END:VEVENT
BEGIN:VEVENT
DTSTART;TZID=Europe/Zurich:20250803T100000
DTEND;TZID=Europe/Zurich:20250803T160000
DTSTAMP:20260419T215801
CREATED:20250711T074017Z
LAST-MODIFIED:20250711T074017Z
UID:10011761-1754215200-1754236800@aubp.ch
SUMMARY:Challenge Workout
DESCRIPTION:Rejoignez la compétition estivale Full Body Workout & Natation aux Bains des Pâquis\, Genève ! Cet événement s’adresse exclusivement aux personnes entraînées\, prêtes à relever une série d’épreuves exigeantes mêlant force\, endurance et explosivité\, suivies d’une épreuve de natation. \nInformations clés \n– Pour qui ?\nCompétition réservée aux sportifs entraînés\, en solo ou en binôme (hommes\, femmes\, binômes mixtes). \n– Inscription\nLes inscriptions se font à la Rotonde des Bains des Pâquis\, le matin de l’événement\, dans la limite des places disponibles. \n– Paiement\nLe règlement de l’inscription s’effectue sur place\, le jour même de la compétition. \n– Déroulement\n– 9h00 : Accueil et enregistrement des participants à la Rotonde\n– 10h00 : Début des épreuves (prévoir d’éventuels retards)\n– Les participants s’affrontent en duels\, sous la supervision de juges\n– Respect des standards techniques exigés pour chaque mouvement\n– Podium et remise des prix à la fin de la journée \n– Catégories & Épreuves\n– Formats : Régulier & Élite\n– Catégories : Hommes\, Femmes\, Binômes mixtes\n– Les épreuves incluent : pompes\, squats\, burpees\, tractions\, dips\, exercices au poids du corps et nage en bassin \n– Solidarité\nUne partie des fonds sera reversée à une famille dans le besoin\, soutenue par la communauté des Bains des Pâquis. \nVenez vous challenger dans un esprit convivial et solidaire !
URL:https://aubp.ch/event/challenge-workout/
CATEGORIES:Sport
ATTACH;FMTTYPE=application/pdf:https://aubp.ch/wp-content/uploads/2025/07/BDP-challenge-Workout-finale-ASV.pdf
END:VEVENT
BEGIN:VEVENT
DTSTART;TZID=Europe/Zurich:20250719T130000
DTEND;TZID=Europe/Zurich:20250719T170000
DTSTAMP:20260419T215801
CREATED:20250618T091708Z
LAST-MODIFIED:20250620T140519Z
UID:10007760-1752930000-1752944400@aubp.ch
SUMMARY:Tournoi mixte de watervolley
DESCRIPTION:Venez participer à l’incontournable tournoi mixte estival de watervolley rythmé par la musique proposée par DJ Rouni.\nInscription à 13h.
URL:https://aubp.ch/event/tournoi-mixte-de-watervolley-3/
CATEGORIES:Sport
ATTACH;FMTTYPE=image/png:https://aubp.ch/wp-content/uploads/2025/06/Capture-decran-2025-06-18-a-11.14.57.png
END:VEVENT
BEGIN:VEVENT
DTSTART;TZID=Europe/Zurich:20250705T080000
DTEND;TZID=Europe/Zurich:20250705T170000
DTSTAMP:20260419T215801
CREATED:20250622T163423Z
LAST-MODIFIED:20250626T155721Z
UID:10007786-1751702400-1751734800@aubp.ch
SUMMARY:Le saut de la mort...
DESCRIPTION:Le Døds\, ou Saut de la Mort\, est un sport extrême norvégien où l’on saute d’une plateforme de 10 m en étoile\, avant de se replier juste avant l’impact. Jugé sur le style\, l’originalité et l’impact\, ce saut spectaculaire\, devenu populaire à l’international\, reste risqué et nécessite de l’entraînement. La compétition suisse de Døds permet à chacun de s’entraîner\, librement ou via les cours aux Bains des Pâquis\, pour présenter ses 3 sauts le 5 juillet 2025 lors de l’événement annuel !\n\nInscriptions : 10.- par personne.
URL:https://aubp.ch/event/le-saut-de-la-mort/
CATEGORIES:Sport
ATTACH;FMTTYPE=application/pdf:https://aubp.ch/wp-content/uploads/2025/06/dodz.pdf
END:VEVENT
BEGIN:VEVENT
DTSTART;TZID=Europe/Zurich:20240831T130000
DTEND;TZID=Europe/Zurich:20240831T183000
DTSTAMP:20260419T215801
CREATED:20240618T193815Z
LAST-MODIFIED:20240829T185555Z
UID:10003851-1725109200-1725129000@aubp.ch
SUMMARY:Tournoi mixte de watervolley
DESCRIPTION:Bienvenue à notre tournoi de Watervolley\, l’événement estival le plus rafraîchissant de l’année! \nPlongez dans l’action avec ce jeu palpitant\, combinant le plaisir du volleyball avec la fraîcheur de l’eau. Réunissez votre équipe\, défiez vos adversaires et montrez vos talents dans ce tournoi aquatique inoubliable. Que vous soyez un joueur expérimenté ou un débutant enthousiaste\, le Watervolley est ouvert à tous. \nPréparez-vous à des éclats de rire\, des glissades sur le terrain et une compétition amicale dans une ambiance estivale incomparable ! \nInscriptions à 13h00.
URL:https://aubp.ch/event/tournoi-mixte-de-watervolley-2/
CATEGORIES:Sport
ATTACH;FMTTYPE=image/png:https://aubp.ch/wp-content/uploads/2024/06/wp_31.png
END:VEVENT
BEGIN:VEVENT
DTSTART;TZID=Europe/Zurich:20240824T130000
DTEND;TZID=Europe/Zurich:20240824T180000
DTSTAMP:20260419T215801
CREATED:20240726T140235Z
LAST-MODIFIED:20240726T140235Z
UID:10004011-1724504400-1724522400@aubp.ch
SUMMARY:Championnat suisse de Døds
DESCRIPTION:Le championnat de Døds aura lieu aux Bains le 24 août dans l’après-midi. \nAu programme: \n\n13h00 à 13h55: entrainement\n14h00 à 15h20: premier et deuxième tour\n15h30 à 16h00: Finale\n16h30 à 18h00: Session Mini-Tramp\n\nDétails: \n\n3 døds différents à exécuter: un classique et deux freestyles\nInscription: CHF 15\nLimité à 25 participant·es\n\nInscriptions: \n\nTéléphone: 079 954 63 73\nInsta: @alexcentrique_
URL:https://aubp.ch/event/championnat-suisse-de-dods/
LOCATION:Waterpolo
CATEGORIES:Sport
ATTACH;FMTTYPE=image/png:https://aubp.ch/wp-content/uploads/2024/07/Sans-titre.png
END:VEVENT
BEGIN:VEVENT
DTSTART;TZID=Europe/Zurich:20240817T130000
DTEND;TZID=Europe/Zurich:20240817T170000
DTSTAMP:20260419T215801
CREATED:20240612T073722Z
LAST-MODIFIED:20240612T150356Z
UID:10003840-1723899600-1723914000@aubp.ch
SUMMARY:Tournoi de ping-pong
DESCRIPTION:A vos raquettes les pongistes ! Tournoi convivial de ping-pong ouvert à tous les niveaux\, tous sexes\, tous âges dans une ambiance conviviale. \nLes matches se jouent sur un set gagnant jusqu’à 21 points\, les demi-finales et la finale en 2 sets gagnants. \nLe matériel est à disposition\, l’inscription est gratuite et des prix sympathiques sont à gagner ! \nOn vous attend nombreux !
URL:https://aubp.ch/event/tournoi-de-ping-pong/2024-08-17/
CATEGORIES:Sport
ATTACH;FMTTYPE=image/png:https://aubp.ch/wp-content/uploads/2024/06/Sans-titre-e1718204472544.png
END:VEVENT
BEGIN:VEVENT
DTSTART;TZID=Europe/Zurich:20240810T143000
DTEND;TZID=Europe/Zurich:20240810T180000
DTSTAMP:20260419T215801
CREATED:20240716T091932Z
LAST-MODIFIED:20240808T192955Z
UID:10003999-1723300200-1723312800@aubp.ch
SUMMARY:Tournoi de Backgammon
DESCRIPTION:4ème édition du tournoi de Bains des Pâquis \nQuel pied ! Jouer au backgammon dans un endroit idyllique comme les bains avec d’autres passionnés. \nTournoi convivial de backgammon ouvert à tous les niveaux\, organisé par l’AUBP en partenariat avec l’AGB (Association Genevoise de Backgammon). Les matchs se jouent en 7 points\, des jeux de backgammon sont mis à disposition des joueurs. \nOn vous attend nombreux afin de passer un bon moment de détente\, de perfectionnement de son jeu ou afin de défier des joueurs déjà aguerris. \nDes prix sympas sont prévus pour les gagnants ! Faites chauffer vos dés ! \nSamedi 10 août à 14h30 \nInscriptions sur place dès 14h \nEntrée : 10.-
URL:https://aubp.ch/event/tournoi-de-backgammon/
CATEGORIES:Sport
ATTACH;FMTTYPE=image/png:https://aubp.ch/wp-content/uploads/2024/07/Unknown.png
END:VEVENT
BEGIN:VEVENT
DTSTART;TZID=Europe/Zurich:20240810T080000
DTEND;TZID=Europe/Zurich:20240810T140000
DTSTAMP:20260419T215801
CREATED:20240808T115601Z
LAST-MODIFIED:20240808T120124Z
UID:10004016-1723276800-1723298400@aubp.ch
SUMMARY:Psycho Fest: contest de grimpe
DESCRIPTION:Pour célébrer les 10 ans du Psychobloc (le bloc de grimpe dans l’eau)\, les Bains des Pâquis et l’association Structure proposent le Psycho Fest: compétition de grimpe\, slackline\, expo photo\, caisses voltigeuses et session DJ. \nProgramme: \n\n14h00: Inscriptions\n15h00 à 16h30: Compétition\n\nSession DJ: \n\n17h00 à 19h00: Omega Selecta &High Steppa\n19h00 à 20h00: Club Med Crew (Funk)\n20h00 à 20h45: Club Med Crew (House Disco)\n20h45 à 21h30: Nimportekoi\n21h30 à 22h15: Aoni & Qween C
URL:https://aubp.ch/event/psycho-fest-contest-de-grimpe/
LOCATION:Sur la jetée
CATEGORIES:Sport
ATTACH;FMTTYPE=image/png:https://aubp.ch/wp-content/uploads/2024/08/Psycho-fest.png
END:VEVENT
BEGIN:VEVENT
DTSTART;TZID=Europe/Zurich:20240727T130000
DTEND;TZID=Europe/Zurich:20240727T183000
DTSTAMP:20260419T215801
CREATED:20240618T193251Z
LAST-MODIFIED:20240708T175943Z
UID:10003849-1722085200-1722105000@aubp.ch
SUMMARY:Tournoi mixte de watervolley
DESCRIPTION:Bienvenue à notre tournoi de Watervolley\, l’événement estival le plus rafraîchissant de l’année! \nPlongez dans l’action avec ce jeu palpitant\, combinant le plaisir du volleyball avec la fraîcheur de l’eau. Réunissez votre équipe\, défiez vos adversaires et montrez vos talents dans ce tournoi aquatique inoubliable. Que vous soyez un joueur expérimenté ou un débutant enthousiaste\, le Watervolley est ouvert à tous. \nPréparez-vous à des éclats de rire\, des glissades sur le terrain et une compétition amicale dans une ambiance estivale incomparable ! \nInscriptions à 13h00.
URL:https://aubp.ch/event/tournoi-mixte-de-watervolley/
CATEGORIES:Sport
ATTACH;FMTTYPE=image/png:https://aubp.ch/wp-content/uploads/2024/06/wp_13.png
END:VEVENT
BEGIN:VEVENT
DTSTART;TZID=Europe/Zurich:20240714T110000
DTEND;TZID=Europe/Zurich:20240714T170000
DTSTAMP:20260419T215801
CREATED:20240626T123222Z
LAST-MODIFIED:20240626T123222Z
UID:10003985-1720954800-1720976400@aubp.ch
SUMMARY:Spectacle de natation synchro
DESCRIPTION:La troupe de natation artistique Vachement Synchro et l’illustratrice Alice Izzo unissent leur talent pour vous présenter un spectacle aquatique exceptionnel\, aussi harmonieux qu’impressionnant.Les nageuses évolueront en parfaite synchronisation dans des chorégraphies inspirées des phénomènes météorologiques. Elles exécuteront des portés et des figures évoquant la fluidité de l’eau\, la force du vent\, la chaleur du soleil et la mystique des orages. Accompagnées de musiques envoûtantes\, elles transformeront le bassin en une scène où l’eau et l’art ne font plus qu’un. \nLe 14 dimanche 14 juillet à 11h\, 15h et 18h.
URL:https://aubp.ch/event/spectacle-de-natation-synchro/
LOCATION:Waterpolo
CATEGORIES:Sport
ATTACH;FMTTYPE=application/pdf:https://aubp.ch/wp-content/uploads/2024/06/Affiche-BDB17juillet24_A5.pdf
END:VEVENT
BEGIN:VEVENT
DTSTART;TZID=Europe/Zurich:20240623T100000
DTEND;TZID=Europe/Zurich:20240623T170000
DTSTAMP:20260419T215801
CREATED:20240618T085358Z
LAST-MODIFIED:20240618T194054Z
UID:10003843-1719136800-1719162000@aubp.ch
SUMMARY:Relais des Bains
DESCRIPTION:Venez participer à la deuxième édition du relais des Bains en duo. \n3 catégories : adultes\, enfants\, mixtes. Distance : 120 mètres + 80 mètres. \n23 juin inscription dès  de 10 heures. Courses à 12 heures. \n2.- pour les adultes\, gratuit pour les enfants. \nEn cas de mauvais temps reporté au 30 juin.
URL:https://aubp.ch/event/relais-des-bains/
CATEGORIES:Sport
ATTACH;FMTTYPE=image/jpeg:https://aubp.ch/wp-content/uploads/2024/06/2024-06-15-Relais-AUBP-affiche-1-page-001.jpg
END:VEVENT
BEGIN:VEVENT
DTSTART;TZID=Europe/Zurich:20240320T183000
DTEND;TZID=Europe/Zurich:20240320T200000
DTSTAMP:20260419T215801
CREATED:20240128T181601Z
LAST-MODIFIED:20240128T184416Z
UID:10000069-1710959400-1710964800@aubp.ch
SUMMARY:Nage de nuit
DESCRIPTION:Saison 2023 / 2024\n  \nCette année encore l’AUBP vous propose des nages de nuit de 18h30 à 20h. \nLes mercredis : \n\n1er novembre 2023\n22 novembre 2023\n6 décembre 2023\n24 janvier 2024\n28 février 2024\n20 mars 2024\n\nAu programme\, thé chaud\, biscuits\, brasero… le tout sous la surveillance du Sauvetage! \n \n 
URL:https://aubp.ch/event/nage-de-nuit/2024-03-20/
CATEGORIES:Feature,Sport
ATTACH;FMTTYPE=image/jpeg:https://aubp.ch/wp-content/uploads/2024/01/Nage-Hivers.jpg
END:VEVENT
BEGIN:VEVENT
DTSTART;TZID=Europe/Zurich:20230917T120000
DTEND;TZID=Europe/Zurich:20230917T170000
DTSTAMP:20260419T215802
CREATED:20230925T072358Z
LAST-MODIFIED:20230925T072358Z
UID:10000001-1694952000-1694970000@aubp.ch
SUMMARY:Course autour du phare
DESCRIPTION:Le dimanche 17 septembre dès 12h \nComme chaque année\, le mois de septembre aux Bains est marqué par la mythique course à la nage autour du phare. \nDimanche 17 septembre\, nous prenons les inscriptions dès 12h00 à la Rotonde (CHF 5 pour les plus de 18 ans\, CHF 2 pour les mineurs). La course commence dès 14h avec le premier départ.
URL:https://aubp.ch/event/course-autour-du-phare/
LOCATION:Rotonde
CATEGORIES:Sport
ATTACH;FMTTYPE=image/jpeg:https://aubp.ch/wp-content/uploads/2023/09/Affiche-depart-page-001-scaled.jpg
END:VEVENT
END:VCALENDAR