BEGIN:VCALENDAR
VERSION:2.0
PRODID:-//Bains des Pâquis - ECPv6.15.20//NONSGML v1.0//EN
CALSCALE:GREGORIAN
METHOD:PUBLISH
X-ORIGINAL-URL:https://aubp.ch
X-WR-CALDESC:Évènements pour Bains des Pâquis
REFRESH-INTERVAL;VALUE=DURATION:PT1H
X-Robots-Tag:noindex
X-PUBLISHED-TTL:PT1H
BEGIN:VTIMEZONE
TZID:Europe/Zurich
BEGIN:DAYLIGHT
TZOFFSETFROM:+0100
TZOFFSETTO:+0200
TZNAME:CEST
DTSTART:20240331T010000
END:DAYLIGHT
BEGIN:STANDARD
TZOFFSETFROM:+0200
TZOFFSETTO:+0100
TZNAME:CET
DTSTART:20241027T010000
END:STANDARD
BEGIN:DAYLIGHT
TZOFFSETFROM:+0100
TZOFFSETTO:+0200
TZNAME:CEST
DTSTART:20250330T010000
END:DAYLIGHT
BEGIN:STANDARD
TZOFFSETFROM:+0200
TZOFFSETTO:+0100
TZNAME:CET
DTSTART:20251026T010000
END:STANDARD
BEGIN:DAYLIGHT
TZOFFSETFROM:+0100
TZOFFSETTO:+0200
TZNAME:CEST
DTSTART:20260329T010000
END:DAYLIGHT
BEGIN:STANDARD
TZOFFSETFROM:+0200
TZOFFSETTO:+0100
TZNAME:CET
DTSTART:20261025T010000
END:STANDARD
END:VTIMEZONE
BEGIN:VEVENT
DTSTART;TZID=Europe/Zurich:20250503T110000
DTEND;TZID=Europe/Zurich:20250503T120000
DTSTAMP:20260420T081912
CREATED:20250411T154835Z
LAST-MODIFIED:20250411T161910Z
UID:10006645-1746270000-1746273600@aubp.ch
SUMMARY:Apéro poétique
DESCRIPTION:Samedi 3 mai à 11h lecture de Leyla Tazber\, accompagnée par Dmitry Rasul-Kareye \nL’ouvrage Accordez-moi  de Leyla Tatzber\, paru récemment est un roman inspiré des musiques de Transylvanie qui rend hommage au labeur de l’immense Bartók Béla. Nous fêterons cette année 2025 l’anniversaire de sa mort. C’est donc avec un grand plaisir que nous lisons des extraits de son ouvrage pour participer à cet hommage. \nLeyla Tatzber enseigne\, écrit et organise régulièrement des rencontres littéraires. Elle est l’auteure de deux romans (Peut mieux faire et Tache de Beur) et d’un recueil de nouvelles\, (Rondes)\, publiés aux éditions de l’Hèbe ; d’un recueil de poésie (De mes dunes à tes flancs) aux éditions des Sables.  Elle a également rédigé́ plusieurs articles académiques ou littéraires dans diverses revues et réalisé des courts métrages avec le Service Écoles- Médias de Genève. \nAccordez-moi est son cinquième ouvrage. \nDmitry Rasul-Kareye \nClarinette solo de l’Orchestre de la Suisse Romande (Genève).\nPremier Grand Prix du Concours International Claude Debussy 2010 à Paris.\nAssociate of Royal Academy of Music (London).\nFondateur et Directeur de « Soloist Academy ». \nSa carrière de musicien d’orchestre a débuté en 2006\, lorsqu’il a rejoint les rangs de l’Orchestre du Festival de Verbier où il s’est aussi produit en solo avec Maître James Levine au piano. La même année\, il rejoindra temporairement l’Orchestre Symphonique de Birmingham qu’il quittera pour occuper le poste de clarinette solo à l’Orchestre Philharmonique de Tampere. En 2009\, il gagnera le concours de clarinette solo à l‘Orchestre de la Suisse Romande\, poste qu’il occupe actuellement.
URL:https://aubp.ch/event/apero-poetique-16/
CATEGORIES:Poésie
ATTACH;FMTTYPE=image/jpeg:https://aubp.ch/wp-content/uploads/2025/04/LeylaTatzber2025-PhilippePache-PhilippePache-0608-copie.jpg
END:VEVENT
BEGIN:VEVENT
DTSTART;TZID=Europe/Zurich:20250505T123000
DTEND;TZID=Europe/Zurich:20250505T133000
DTSTAMP:20260420T081912
CREATED:20241006T182111Z
LAST-MODIFIED:20241230T174409Z
UID:10005628-1746448200-1746451800@aubp.ch
SUMMARY:Cours de natation en eau froide
DESCRIPTION:Vous souhaitez commencer la nage en eau froide et rejoindre un mouvement de plusieurs centaines de personnes qui se baignent tout l’hiver aux Bains? Vous souhaitez profiter des nombreux bienfaits de la nage en eau froide (défenses immunitaires\, bien-être mental\, etc.)? \nDès le 7 octobre\, les Bains vous proposent des cours tous les lundis entre 12h30 et 13h30 par groupes de 8 au maximum pour vous donner toutes les clés pour vous lancer. \nCe cours s’adresse aux nageuses et nageurs intermédiaires et confirmé-es (on ne vous apprend pas à nager pendant le cours). \nInscriptions à la Rotonde des Bains\, CHF 10 par cours.
URL:https://aubp.ch/event/cours-de-natation-en-eau-froide/2025-05-05/
LOCATION:Sur la jetée
CATEGORIES:Nage
ATTACH;FMTTYPE=image/jpeg:https://aubp.ch/wp-content/uploads/2024/10/cours_natation.jpg
END:VEVENT
BEGIN:VEVENT
DTSTART;TZID=Europe/Zurich:20250507T100000
DTEND;TZID=Europe/Zurich:20250507T120000
DTSTAMP:20260420T081912
CREATED:20250429T185129Z
LAST-MODIFIED:20250904T045344Z
UID:10006960-1746612000-1746619200@aubp.ch
SUMMARY:La Traversée 2025: course annulée
DESCRIPTION:Nous sommes au regret de vous annoncer que la Traversée 2025 est définitivement annulée. \nLes conditions ne sont pas réunies pour que la manifestation puisse avoir lieu un de ces prochains dimanches dans les conditions de sécurité optimales auxquelles nous nous sommes engagés. \nNous tenons à remercier très chaleureusement les nombreuses personnes qui nous ont aidés une nouvelle fois dans cette aventure\, lesquelles\, pour la plupart\, se sont levées et préparées aux aurores dimanche dernier 31 août. \nMerci au Sauvetage\, aux paddleurs\, kayakistes\, amis bénévoles dévolus au transport des sacs et ravitaillement\, aux conducteurs de bateaux\, aux employés de l’AUBP\, à la Buvette des Bains – qui avait préparé de quoi faire une soupe pour tous les participants/es –\nà Genève Plage\, à la troupe OBAYA\, à la Police du lac qui nous a encadrés et conseillés comme chaque année\, aux fidèles samaritains\, au groupe Baigneurs de l’AUBP Pascal\, Alex\, Eustache\, Anne-So\, les deux Simon\, Mounir et à tous les autres Givrés Yves\, Pete\, David\,…\, à Luz et Tisse l’Avenir\, à Cédric Marendaz pour son affiche\, à nos familles et nos proches. \nMerci enfin à vous ! Votre enthousiasme nous nourrit\, et le plat sera resservi. \nContinuez à nager et …… \nA l’année prochaine!
URL:https://aubp.ch/event/la-traversee-2025/2025-05-07/
CATEGORIES:Nage
ATTACH;FMTTYPE=image/jpeg:https://aubp.ch/wp-content/uploads/2025/04/COURSE-ANNULEE.jpg
END:VEVENT
BEGIN:VEVENT
DTSTART;TZID=Europe/Zurich:20250508T190000
DTEND;TZID=Europe/Zurich:20250508T200000
DTSTAMP:20260420T081912
CREATED:20250429T185517Z
LAST-MODIFIED:20250501T201714Z
UID:10006964-1746730800-1746734400@aubp.ch
SUMMARY:Conférence: Le bonheur d'être soi
DESCRIPTION:Après de nombreuses crises d’angoisses et se sentant mourir de l’intérieur au travail\, Luc Berthoud prend la décision en 2020 de transformer sa vie. Il découvre son hypersensibilité et se lance dans des projets les plus variés (guérisseur\, conférencier\, coach etc.). \nVenez découvrir le récit inspirant de Luc\, nageur de l’aube aux Bains qui s’est autorisé à se rencontrer et vivre intensément la joie de l’enfant en lui. Il partagera ses clés qui l’aident à vivre le bonheur d’être soi. Aimant particulièrement l’échange\, Luc favorise les interactions et propose une partie de « questions – réponses ». \nLa conférence aura lieu dans la yourte des Bains des Pâquis\, entrée libre.
URL:https://aubp.ch/event/conference-le-bonheur-detre-soi/
CATEGORIES:Lien social
ATTACH;FMTTYPE=image/jpeg:https://aubp.ch/wp-content/uploads/2025/04/PHOTO-LB_8-mai.jpg
END:VEVENT
BEGIN:VEVENT
DTSTART;TZID=Europe/Zurich:20250510T140000
DTEND;TZID=Europe/Zurich:20250510T153000
DTSTAMP:20260420T081912
CREATED:20250304T210517Z
LAST-MODIFIED:20250304T210517Z
UID:10006636-1746885600-1746891000@aubp.ch
SUMMARY:Philo aux Bains: Intelligence artificielle\, connaissance et société avec Monsieur Phi
DESCRIPTION:L’intelligence artificielle bouleverse notre rapport à la connaissance\, au travail et aux machines. Entre promesses fascinantes et craintes légitimes\, elle redéfinit la manière dont nous appréhendons le monde\, la pensée et même notre propre humanité. Sommes-nous en train d’assister à une révolution cognitive ? L’IA peut-elle réellement penser\, comprendre ou savoir ? Et quelles conséquences ces avancées auront-elles sur la société et notre quotidien ? \nEn compagnie de Monsieur Phi\, philosophe\, Youtubeur et vulgarisateur reconnu\, nous interrogerons les grands enjeux de l’IA\, en lien avec la connaissance\, la robotisation et notre rapport aux machines. Quelle place l’humain conserve-t-il face à des systèmes toujours plus performants ? Que signifie « comprendre » dans un monde où les algorithmes produisent du savoir sans véritable conscience ? Et jusqu’où peut-on automatiser les décisions sans perdre le contrôle ? \nUn échange passionnant qui nous amènera à questionner les implications philosophiques\, éthiques et politiques d’un futur où l’intelligence n’est peut-être plus exclusivement humaine. \nLe café-philo aura lieu aux Bains des Pâquis\, sur la jetée\, sous la yourte\, et sera diffusé en direct sur Facebook et disponible en streaming sur YouTube. Entrée libre.
URL:https://aubp.ch/event/philo-aux-bains-intelligence-artificielle-connaissance-et-societe-avec-monsieur-phi/
LOCATION:Yourte
CATEGORIES:Philo
ATTACH;FMTTYPE=image/jpeg:https://aubp.ch/wp-content/uploads/2025/03/monsieur-phi-2.jpg
END:VEVENT
BEGIN:VEVENT
DTSTART;TZID=Europe/Zurich:20250510T140000
DTEND;TZID=Europe/Zurich:20250510T170000
DTSTAMP:20260420T081912
CREATED:20250424T104603Z
LAST-MODIFIED:20250507T134622Z
UID:10006646-1746885600-1746896400@aubp.ch
SUMMARY:Ateliers Coutures
DESCRIPTION:Ateliers Couture aux Bains des Pâquis\nL’association Tisser l’Avenir\, en partenariat avec L’AUBP\, vous invite à des ateliers couture au cours d’une après-midi de découverte\, de partage et de création. Dans un cadre unique et convivial\, venez apprendre ou perfectionner vos gestes lors d’ateliers ouverts à toutes et tous\, débutant·es comme confirmé·es. \nDate : Samedi 10 mai 2025Horaires : de 14h à 17hChaque session dure 50 minutesLieu : RotondeMatériel fourni \nInscription gratuite mais obligatoire\n\nLes ateliers proposés :\nMachine à coudreVenez apprendre à utiliser une machine à coudre\, à réaliser des coutures simples\, ou à vous lancer dans un petit projet textile.Capacité : 4 personnes par sessionSessions : 14h – 15h – 16h \nAtelier BroderieVous apprendrez différents points de base et pourrez personnaliser un tissu selon votre inspiration.Capacité : 4 personnes par sessionSessions : 14h – 15h – 16h \nAtelier TricotDécouvrez le plaisir de tricoter et réalisez vos premières mailles dans une ambiance conviviale.Capacité : 4 personnes par sessionSessions : 14h – 15h – 16h \n\nÀ propos de Tisser l’Avenir :\nhttps://www.tisser-lavenir.ch/ \nInstagram : https://www.instagram.com/tisser.lavenir/
URL:https://aubp.ch/event/ateliers-coutures/
LOCATION:Rotonde
CATEGORIES:Lien social
ATTACH;FMTTYPE=image/png:https://aubp.ch/wp-content/uploads/2025/04/ateliers-couture-tisser-lavenir-H-359-x-175-px-718-x-350-px.png
END:VEVENT
BEGIN:VEVENT
DTSTART;TZID=Europe/Zurich:20250512T123000
DTEND;TZID=Europe/Zurich:20250512T133000
DTSTAMP:20260420T081912
CREATED:20241006T182111Z
LAST-MODIFIED:20241230T174409Z
UID:10005629-1747053000-1747056600@aubp.ch
SUMMARY:Cours de natation en eau froide
DESCRIPTION:Vous souhaitez commencer la nage en eau froide et rejoindre un mouvement de plusieurs centaines de personnes qui se baignent tout l’hiver aux Bains? Vous souhaitez profiter des nombreux bienfaits de la nage en eau froide (défenses immunitaires\, bien-être mental\, etc.)? \nDès le 7 octobre\, les Bains vous proposent des cours tous les lundis entre 12h30 et 13h30 par groupes de 8 au maximum pour vous donner toutes les clés pour vous lancer. \nCe cours s’adresse aux nageuses et nageurs intermédiaires et confirmé-es (on ne vous apprend pas à nager pendant le cours). \nInscriptions à la Rotonde des Bains\, CHF 10 par cours.
URL:https://aubp.ch/event/cours-de-natation-en-eau-froide/2025-05-12/
LOCATION:Sur la jetée
CATEGORIES:Nage
ATTACH;FMTTYPE=image/jpeg:https://aubp.ch/wp-content/uploads/2024/10/cours_natation.jpg
END:VEVENT
BEGIN:VEVENT
DTSTART;TZID=Europe/Zurich:20250512T200000
DTEND;TZID=Europe/Zurich:20250512T233000
DTSTAMP:20260420T081912
CREATED:20241104T100627Z
LAST-MODIFIED:20241112T192049Z
UID:10006341-1747080000-1747092600@aubp.ch
SUMMARY:Full Moon Sauna
DESCRIPTION:Tous les soirs de pleine lune\, les saunas sont ouverts jusqu’à 23h30. \nProfitez de la magie des Bains de nuit avec un brasero\, de l’argile pour tartiner votre corps\, des glaçons et des morceaux d’orange. \nDates : 17 octobre\, 15 novembre\, 15 décembre\, 13 janvier\, 12 février\, 14 mars\, 13 avril et 12 mai.
URL:https://aubp.ch/event/full-moon-sauna/2025-05-12/
LOCATION:Sauna
CATEGORIES:Détente
ATTACH;FMTTYPE=image/png:https://aubp.ch/wp-content/uploads/2024/11/Capture-decran-2024-11-10-a-18.28.36.png
END:VEVENT
BEGIN:VEVENT
DTSTART;VALUE=DATE:20250515
DTEND;VALUE=DATE:20250519
DTSTAMP:20260420T081912
CREATED:20250429T183245Z
LAST-MODIFIED:20250515T104748Z
UID:10006958-1747267200-1747612799@aubp.ch
SUMMARY:Fête de la danse
DESCRIPTION:A la Fête de la Danse\, on s’émerveille\, on rencontre du monde\, on découvre des styles\, on s’interroge\, on se laisse envouter\, on se déhanche\, on rêve\, on discute\, … la vie quoi!
URL:https://aubp.ch/event/fete-de-la-danse/
CATEGORIES:Culture
ATTACH;FMTTYPE=image/png:https://aubp.ch/wp-content/uploads/2025/04/Capture-decran-2025-04-29-201842-e1745951890898.png
END:VEVENT
BEGIN:VEVENT
DTSTART;VALUE=DATE:20250518
DTEND;VALUE=DATE:20250519
DTSTAMP:20260420T081912
CREATED:20250224T143515Z
LAST-MODIFIED:20250524T120319Z
UID:10006630-1747526400-1747612799@aubp.ch
SUMMARY:Fin de la saison d'hiver
DESCRIPTION:Nos installations d’hiver (saunas\, hammam et bain turc) ferment le dimanche 18 mai au soir. \nLa mue printanière des Bains commence le lendemain pour une semaine de démontage des installations d’hiver!
URL:https://aubp.ch/event/nouveaux-horaires-sauna/
CATEGORIES:Détente
ATTACH;FMTTYPE=image/jpeg:https://aubp.ch/wp-content/uploads/2023/09/image-32192048.jpg
END:VEVENT
BEGIN:VEVENT
DTSTART;TZID=Europe/Zurich:20250519T123000
DTEND;TZID=Europe/Zurich:20250519T133000
DTSTAMP:20260420T081912
CREATED:20241006T182111Z
LAST-MODIFIED:20241230T174409Z
UID:10005630-1747657800-1747661400@aubp.ch
SUMMARY:Cours de natation en eau froide
DESCRIPTION:Vous souhaitez commencer la nage en eau froide et rejoindre un mouvement de plusieurs centaines de personnes qui se baignent tout l’hiver aux Bains? Vous souhaitez profiter des nombreux bienfaits de la nage en eau froide (défenses immunitaires\, bien-être mental\, etc.)? \nDès le 7 octobre\, les Bains vous proposent des cours tous les lundis entre 12h30 et 13h30 par groupes de 8 au maximum pour vous donner toutes les clés pour vous lancer. \nCe cours s’adresse aux nageuses et nageurs intermédiaires et confirmé-es (on ne vous apprend pas à nager pendant le cours). \nInscriptions à la Rotonde des Bains\, CHF 10 par cours.
URL:https://aubp.ch/event/cours-de-natation-en-eau-froide/2025-05-19/
LOCATION:Sur la jetée
CATEGORIES:Nage
ATTACH;FMTTYPE=image/jpeg:https://aubp.ch/wp-content/uploads/2024/10/cours_natation.jpg
END:VEVENT
BEGIN:VEVENT
DTSTART;TZID=Europe/Zurich:20250526T123000
DTEND;TZID=Europe/Zurich:20250526T133000
DTSTAMP:20260420T081912
CREATED:20241006T182111Z
LAST-MODIFIED:20241230T174409Z
UID:10005631-1748262600-1748266200@aubp.ch
SUMMARY:Cours de natation en eau froide
DESCRIPTION:Vous souhaitez commencer la nage en eau froide et rejoindre un mouvement de plusieurs centaines de personnes qui se baignent tout l’hiver aux Bains? Vous souhaitez profiter des nombreux bienfaits de la nage en eau froide (défenses immunitaires\, bien-être mental\, etc.)? \nDès le 7 octobre\, les Bains vous proposent des cours tous les lundis entre 12h30 et 13h30 par groupes de 8 au maximum pour vous donner toutes les clés pour vous lancer. \nCe cours s’adresse aux nageuses et nageurs intermédiaires et confirmé-es (on ne vous apprend pas à nager pendant le cours). \nInscriptions à la Rotonde des Bains\, CHF 10 par cours.
URL:https://aubp.ch/event/cours-de-natation-en-eau-froide/2025-05-26/
LOCATION:Sur la jetée
CATEGORIES:Nage
ATTACH;FMTTYPE=image/jpeg:https://aubp.ch/wp-content/uploads/2024/10/cours_natation.jpg
END:VEVENT
END:VCALENDAR