BEGIN:VCALENDAR
VERSION:2.0
PRODID:-//Bains des Pâquis - ECPv6.15.20//NONSGML v1.0//EN
CALSCALE:GREGORIAN
METHOD:PUBLISH
X-ORIGINAL-URL:https://aubp.ch
X-WR-CALDESC:Évènements pour Bains des Pâquis
REFRESH-INTERVAL;VALUE=DURATION:PT1H
X-Robots-Tag:noindex
X-PUBLISHED-TTL:PT1H
BEGIN:VTIMEZONE
TZID:Europe/Zurich
BEGIN:DAYLIGHT
TZOFFSETFROM:+0100
TZOFFSETTO:+0200
TZNAME:CEST
DTSTART:20260329T010000
END:DAYLIGHT
BEGIN:STANDARD
TZOFFSETFROM:+0200
TZOFFSETTO:+0100
TZNAME:CET
DTSTART:20261025T010000
END:STANDARD
BEGIN:DAYLIGHT
TZOFFSETFROM:+0100
TZOFFSETTO:+0200
TZNAME:CEST
DTSTART:20270328T010000
END:DAYLIGHT
BEGIN:STANDARD
TZOFFSETFROM:+0200
TZOFFSETTO:+0100
TZNAME:CET
DTSTART:20271031T010000
END:STANDARD
BEGIN:DAYLIGHT
TZOFFSETFROM:+0100
TZOFFSETTO:+0200
TZNAME:CEST
DTSTART:20280326T010000
END:DAYLIGHT
BEGIN:STANDARD
TZOFFSETFROM:+0200
TZOFFSETTO:+0100
TZNAME:CET
DTSTART:20281029T010000
END:STANDARD
END:VTIMEZONE
BEGIN:VEVENT
DTSTART;TZID=Europe/Zurich:20270201T123000
DTEND;TZID=Europe/Zurich:20270201T133000
DTSTAMP:20260423T033701
CREATED:20250904T114315Z
LAST-MODIFIED:20251209T120148Z
UID:10015539-1801485000-1801488600@aubp.ch
SUMMARY:Cours de natation en eau froide
DESCRIPTION:Vous souhaitez commencer la nage en eau froide et rejoindre un mouvement de plusieurs centaines de personnes qui se baignent tout l’hiver aux Bains? Vous souhaitez profiter des nombreux bienfaits de la nage en eau froide (défenses immunitaires\, bien-être mental\, etc.)? \nDès le 1er septembre\, les Bains vous proposent des cours tous les lundis entre 12h30 et 13h30 par groupes de 8 au maximum pour vous donner toutes les clés pour vous lancer. \nCe cours s’adresse aux nageuses et nageurs intermédiaires et confirmé-es (on ne vous apprend pas à nager pendant le cours). \nInscriptions à la Rotonde des Bains\, CHF 10 par cours.
URL:https://aubp.ch/event/cours-de-natation-en-eau-froide-3/2027-02-01/
LOCATION:Sur la jetée
CATEGORIES:Nage
ATTACH;FMTTYPE=image/jpeg:https://aubp.ch/wp-content/uploads/2024/10/cours_natation.jpg
END:VEVENT
BEGIN:VEVENT
DTSTART;TZID=Europe/Zurich:20270205T121500
DTEND;TZID=Europe/Zurich:20270205T131500
DTSTAMP:20260423T033701
CREATED:20250622T171740Z
LAST-MODIFIED:20260310T133502Z
UID:10011317-1801829700-1801833300@aubp.ch
SUMMARY:Cours de Sport tous niveaux
DESCRIPTION:Envie de bouger\, de respirer et de prendre soin de vous dans un cadre unique ?\nDavid vous propose des cours de sport en extérieur aux Bains des Pâquis\, accessibles à tous-tes. À travers des exercices de mobilité et de renforcement\, venez (re)découvrir les bienfaits d’une activité physique bénéfique pour le corps et pour l’esprit. \nAu programme : exercices variés\, vue imprenable sur le lac\, et motivation garantie ! \nHoraires : tous les vendredis\, de 12h15 – 13h15\nMatériel à amener : tapis de yoga. Cours ouvert à tous – offerts par les Bains – sans inscription \nCotisation: CHF 20.-  par an pour l’AUBP\nEntrée aux bains: CHF 2.-  pendant la saison chaude \nEnseignant : David Collins\, coach
URL:https://aubp.ch/event/cours-de-sport-tous-niveaux/2027-02-05/
CATEGORIES:Sport
ATTACH;FMTTYPE=image/jpeg:https://aubp.ch/wp-content/uploads/2025/06/image00002.jpeg
END:VEVENT
BEGIN:VEVENT
DTSTART;TZID=Europe/Zurich:20270206T100000
DTEND;TZID=Europe/Zurich:20270206T110000
DTSTAMP:20260423T033701
CREATED:20250528T172425Z
LAST-MODIFIED:20251118T140232Z
UID:10019149-1801908000-1801911600@aubp.ch
SUMMARY:Yoga & méditation
DESCRIPTION:Avec vue sur le lac\, entre les platanes du phare une pause bien-être adaptée au rythme des saisons est proposée par Natacha et Dalia en alternance. Les séances\, bienveillantes\, régénérantes et accessibles à touxtes\, invitent à se relier avec l’état intérieur\, prendre soin de soi et se ressourcer. \nÀ travers le mouvement\, la respiration consciente et la méditation\, la pratique permet d’harmoniser l’organisme\, d’honorer le moment présent et d’augmenter son énergie vitale. Retour à la sensation\, réveil du corps\, libération du souffle\, et relaxation sont au programme avant ou après la baignade. \nTous les samedis aux Bains\nD’octobre à  avril: 10h à 11h \nDe mai à septembre: 9h à 10h
URL:https://aubp.ch/event/yoga-2/2027-02-06/
CATEGORIES:Détente
ATTACH;FMTTYPE=image/jpeg:https://aubp.ch/wp-content/uploads/2023/09/yoga-e1706468553755.jpg
END:VEVENT
BEGIN:VEVENT
DTSTART;TZID=Europe/Zurich:20270208T123000
DTEND;TZID=Europe/Zurich:20270208T133000
DTSTAMP:20260423T033701
CREATED:20250904T114315Z
LAST-MODIFIED:20251209T120148Z
UID:10015540-1802089800-1802093400@aubp.ch
SUMMARY:Cours de natation en eau froide
DESCRIPTION:Vous souhaitez commencer la nage en eau froide et rejoindre un mouvement de plusieurs centaines de personnes qui se baignent tout l’hiver aux Bains? Vous souhaitez profiter des nombreux bienfaits de la nage en eau froide (défenses immunitaires\, bien-être mental\, etc.)? \nDès le 1er septembre\, les Bains vous proposent des cours tous les lundis entre 12h30 et 13h30 par groupes de 8 au maximum pour vous donner toutes les clés pour vous lancer. \nCe cours s’adresse aux nageuses et nageurs intermédiaires et confirmé-es (on ne vous apprend pas à nager pendant le cours). \nInscriptions à la Rotonde des Bains\, CHF 10 par cours.
URL:https://aubp.ch/event/cours-de-natation-en-eau-froide-3/2027-02-08/
LOCATION:Sur la jetée
CATEGORIES:Nage
ATTACH;FMTTYPE=image/jpeg:https://aubp.ch/wp-content/uploads/2024/10/cours_natation.jpg
END:VEVENT
BEGIN:VEVENT
DTSTART;TZID=Europe/Zurich:20270212T121500
DTEND;TZID=Europe/Zurich:20270212T131500
DTSTAMP:20260423T033701
CREATED:20250622T171740Z
LAST-MODIFIED:20260310T133502Z
UID:10011318-1802434500-1802438100@aubp.ch
SUMMARY:Cours de Sport tous niveaux
DESCRIPTION:Envie de bouger\, de respirer et de prendre soin de vous dans un cadre unique ?\nDavid vous propose des cours de sport en extérieur aux Bains des Pâquis\, accessibles à tous-tes. À travers des exercices de mobilité et de renforcement\, venez (re)découvrir les bienfaits d’une activité physique bénéfique pour le corps et pour l’esprit. \nAu programme : exercices variés\, vue imprenable sur le lac\, et motivation garantie ! \nHoraires : tous les vendredis\, de 12h15 – 13h15\nMatériel à amener : tapis de yoga. Cours ouvert à tous – offerts par les Bains – sans inscription \nCotisation: CHF 20.-  par an pour l’AUBP\nEntrée aux bains: CHF 2.-  pendant la saison chaude \nEnseignant : David Collins\, coach
URL:https://aubp.ch/event/cours-de-sport-tous-niveaux/2027-02-12/
CATEGORIES:Sport
ATTACH;FMTTYPE=image/jpeg:https://aubp.ch/wp-content/uploads/2025/06/image00002.jpeg
END:VEVENT
BEGIN:VEVENT
DTSTART;TZID=Europe/Zurich:20270213T100000
DTEND;TZID=Europe/Zurich:20270213T110000
DTSTAMP:20260423T033701
CREATED:20250528T172425Z
LAST-MODIFIED:20251118T140232Z
UID:10019150-1802512800-1802516400@aubp.ch
SUMMARY:Yoga & méditation
DESCRIPTION:Avec vue sur le lac\, entre les platanes du phare une pause bien-être adaptée au rythme des saisons est proposée par Natacha et Dalia en alternance. Les séances\, bienveillantes\, régénérantes et accessibles à touxtes\, invitent à se relier avec l’état intérieur\, prendre soin de soi et se ressourcer. \nÀ travers le mouvement\, la respiration consciente et la méditation\, la pratique permet d’harmoniser l’organisme\, d’honorer le moment présent et d’augmenter son énergie vitale. Retour à la sensation\, réveil du corps\, libération du souffle\, et relaxation sont au programme avant ou après la baignade. \nTous les samedis aux Bains\nD’octobre à  avril: 10h à 11h \nDe mai à septembre: 9h à 10h
URL:https://aubp.ch/event/yoga-2/2027-02-13/
CATEGORIES:Détente
ATTACH;FMTTYPE=image/jpeg:https://aubp.ch/wp-content/uploads/2023/09/yoga-e1706468553755.jpg
END:VEVENT
BEGIN:VEVENT
DTSTART;TZID=Europe/Zurich:20270215T123000
DTEND;TZID=Europe/Zurich:20270215T133000
DTSTAMP:20260423T033701
CREATED:20250904T114315Z
LAST-MODIFIED:20251209T120148Z
UID:10015541-1802694600-1802698200@aubp.ch
SUMMARY:Cours de natation en eau froide
DESCRIPTION:Vous souhaitez commencer la nage en eau froide et rejoindre un mouvement de plusieurs centaines de personnes qui se baignent tout l’hiver aux Bains? Vous souhaitez profiter des nombreux bienfaits de la nage en eau froide (défenses immunitaires\, bien-être mental\, etc.)? \nDès le 1er septembre\, les Bains vous proposent des cours tous les lundis entre 12h30 et 13h30 par groupes de 8 au maximum pour vous donner toutes les clés pour vous lancer. \nCe cours s’adresse aux nageuses et nageurs intermédiaires et confirmé-es (on ne vous apprend pas à nager pendant le cours). \nInscriptions à la Rotonde des Bains\, CHF 10 par cours.
URL:https://aubp.ch/event/cours-de-natation-en-eau-froide-3/2027-02-15/
LOCATION:Sur la jetée
CATEGORIES:Nage
ATTACH;FMTTYPE=image/jpeg:https://aubp.ch/wp-content/uploads/2024/10/cours_natation.jpg
END:VEVENT
BEGIN:VEVENT
DTSTART;TZID=Europe/Zurich:20270219T121500
DTEND;TZID=Europe/Zurich:20270219T131500
DTSTAMP:20260423T033701
CREATED:20250622T171740Z
LAST-MODIFIED:20260310T133502Z
UID:10011319-1803039300-1803042900@aubp.ch
SUMMARY:Cours de Sport tous niveaux
DESCRIPTION:Envie de bouger\, de respirer et de prendre soin de vous dans un cadre unique ?\nDavid vous propose des cours de sport en extérieur aux Bains des Pâquis\, accessibles à tous-tes. À travers des exercices de mobilité et de renforcement\, venez (re)découvrir les bienfaits d’une activité physique bénéfique pour le corps et pour l’esprit. \nAu programme : exercices variés\, vue imprenable sur le lac\, et motivation garantie ! \nHoraires : tous les vendredis\, de 12h15 – 13h15\nMatériel à amener : tapis de yoga. Cours ouvert à tous – offerts par les Bains – sans inscription \nCotisation: CHF 20.-  par an pour l’AUBP\nEntrée aux bains: CHF 2.-  pendant la saison chaude \nEnseignant : David Collins\, coach
URL:https://aubp.ch/event/cours-de-sport-tous-niveaux/2027-02-19/
CATEGORIES:Sport
ATTACH;FMTTYPE=image/jpeg:https://aubp.ch/wp-content/uploads/2025/06/image00002.jpeg
END:VEVENT
BEGIN:VEVENT
DTSTART;TZID=Europe/Zurich:20270220T100000
DTEND;TZID=Europe/Zurich:20270220T110000
DTSTAMP:20260423T033701
CREATED:20250528T172425Z
LAST-MODIFIED:20251118T140232Z
UID:10019151-1803117600-1803121200@aubp.ch
SUMMARY:Yoga & méditation
DESCRIPTION:Avec vue sur le lac\, entre les platanes du phare une pause bien-être adaptée au rythme des saisons est proposée par Natacha et Dalia en alternance. Les séances\, bienveillantes\, régénérantes et accessibles à touxtes\, invitent à se relier avec l’état intérieur\, prendre soin de soi et se ressourcer. \nÀ travers le mouvement\, la respiration consciente et la méditation\, la pratique permet d’harmoniser l’organisme\, d’honorer le moment présent et d’augmenter son énergie vitale. Retour à la sensation\, réveil du corps\, libération du souffle\, et relaxation sont au programme avant ou après la baignade. \nTous les samedis aux Bains\nD’octobre à  avril: 10h à 11h \nDe mai à septembre: 9h à 10h
URL:https://aubp.ch/event/yoga-2/2027-02-20/
CATEGORIES:Détente
ATTACH;FMTTYPE=image/jpeg:https://aubp.ch/wp-content/uploads/2023/09/yoga-e1706468553755.jpg
END:VEVENT
BEGIN:VEVENT
DTSTART;TZID=Europe/Zurich:20270222T123000
DTEND;TZID=Europe/Zurich:20270222T133000
DTSTAMP:20260423T033701
CREATED:20250904T114315Z
LAST-MODIFIED:20251209T120148Z
UID:10015542-1803299400-1803303000@aubp.ch
SUMMARY:Cours de natation en eau froide
DESCRIPTION:Vous souhaitez commencer la nage en eau froide et rejoindre un mouvement de plusieurs centaines de personnes qui se baignent tout l’hiver aux Bains? Vous souhaitez profiter des nombreux bienfaits de la nage en eau froide (défenses immunitaires\, bien-être mental\, etc.)? \nDès le 1er septembre\, les Bains vous proposent des cours tous les lundis entre 12h30 et 13h30 par groupes de 8 au maximum pour vous donner toutes les clés pour vous lancer. \nCe cours s’adresse aux nageuses et nageurs intermédiaires et confirmé-es (on ne vous apprend pas à nager pendant le cours). \nInscriptions à la Rotonde des Bains\, CHF 10 par cours.
URL:https://aubp.ch/event/cours-de-natation-en-eau-froide-3/2027-02-22/
LOCATION:Sur la jetée
CATEGORIES:Nage
ATTACH;FMTTYPE=image/jpeg:https://aubp.ch/wp-content/uploads/2024/10/cours_natation.jpg
END:VEVENT
BEGIN:VEVENT
DTSTART;TZID=Europe/Zurich:20270226T121500
DTEND;TZID=Europe/Zurich:20270226T131500
DTSTAMP:20260423T033701
CREATED:20250622T171740Z
LAST-MODIFIED:20260310T133502Z
UID:10011320-1803644100-1803647700@aubp.ch
SUMMARY:Cours de Sport tous niveaux
DESCRIPTION:Envie de bouger\, de respirer et de prendre soin de vous dans un cadre unique ?\nDavid vous propose des cours de sport en extérieur aux Bains des Pâquis\, accessibles à tous-tes. À travers des exercices de mobilité et de renforcement\, venez (re)découvrir les bienfaits d’une activité physique bénéfique pour le corps et pour l’esprit. \nAu programme : exercices variés\, vue imprenable sur le lac\, et motivation garantie ! \nHoraires : tous les vendredis\, de 12h15 – 13h15\nMatériel à amener : tapis de yoga. Cours ouvert à tous – offerts par les Bains – sans inscription \nCotisation: CHF 20.-  par an pour l’AUBP\nEntrée aux bains: CHF 2.-  pendant la saison chaude \nEnseignant : David Collins\, coach
URL:https://aubp.ch/event/cours-de-sport-tous-niveaux/2027-02-26/
CATEGORIES:Sport
ATTACH;FMTTYPE=image/jpeg:https://aubp.ch/wp-content/uploads/2025/06/image00002.jpeg
END:VEVENT
BEGIN:VEVENT
DTSTART;TZID=Europe/Zurich:20270227T100000
DTEND;TZID=Europe/Zurich:20270227T110000
DTSTAMP:20260423T033701
CREATED:20250528T172425Z
LAST-MODIFIED:20251118T140232Z
UID:10019152-1803722400-1803726000@aubp.ch
SUMMARY:Yoga & méditation
DESCRIPTION:Avec vue sur le lac\, entre les platanes du phare une pause bien-être adaptée au rythme des saisons est proposée par Natacha et Dalia en alternance. Les séances\, bienveillantes\, régénérantes et accessibles à touxtes\, invitent à se relier avec l’état intérieur\, prendre soin de soi et se ressourcer. \nÀ travers le mouvement\, la respiration consciente et la méditation\, la pratique permet d’harmoniser l’organisme\, d’honorer le moment présent et d’augmenter son énergie vitale. Retour à la sensation\, réveil du corps\, libération du souffle\, et relaxation sont au programme avant ou après la baignade. \nTous les samedis aux Bains\nD’octobre à  avril: 10h à 11h \nDe mai à septembre: 9h à 10h
URL:https://aubp.ch/event/yoga-2/2027-02-27/
CATEGORIES:Détente
ATTACH;FMTTYPE=image/jpeg:https://aubp.ch/wp-content/uploads/2023/09/yoga-e1706468553755.jpg
END:VEVENT
END:VCALENDAR