BEGIN:VCALENDAR
VERSION:2.0
PRODID:-//Bains des Pâquis - ECPv6.15.20//NONSGML v1.0//EN
CALSCALE:GREGORIAN
METHOD:PUBLISH
X-WR-CALNAME:Bains des Pâquis
X-ORIGINAL-URL:https://aubp.ch
X-WR-CALDESC:Évènements pour Bains des Pâquis
REFRESH-INTERVAL;VALUE=DURATION:PT1H
X-Robots-Tag:noindex
X-PUBLISHED-TTL:PT1H
BEGIN:VTIMEZONE
TZID:Europe/Zurich
BEGIN:DAYLIGHT
TZOFFSETFROM:+0100
TZOFFSETTO:+0200
TZNAME:CEST
DTSTART:20220327T010000
END:DAYLIGHT
BEGIN:STANDARD
TZOFFSETFROM:+0200
TZOFFSETTO:+0100
TZNAME:CET
DTSTART:20221030T010000
END:STANDARD
BEGIN:DAYLIGHT
TZOFFSETFROM:+0100
TZOFFSETTO:+0200
TZNAME:CEST
DTSTART:20230326T010000
END:DAYLIGHT
BEGIN:STANDARD
TZOFFSETFROM:+0200
TZOFFSETTO:+0100
TZNAME:CET
DTSTART:20231029T010000
END:STANDARD
BEGIN:DAYLIGHT
TZOFFSETFROM:+0100
TZOFFSETTO:+0200
TZNAME:CEST
DTSTART:20240331T010000
END:DAYLIGHT
BEGIN:STANDARD
TZOFFSETFROM:+0200
TZOFFSETTO:+0100
TZNAME:CET
DTSTART:20241027T010000
END:STANDARD
END:VTIMEZONE
BEGIN:VEVENT
DTSTART;VALUE=DATE:20230901
DTEND;VALUE=DATE:20231002
DTSTAMP:20260424T094429
CREATED:20231001T201634Z
LAST-MODIFIED:20231001T201634Z
UID:10000008-1693526400-1696204799@aubp.ch
SUMMARY:Beyond the Water
DESCRIPTION:Biennale de l’Art et de la Nature urbaine\n  \n8 oeuvres d’art majeures à découvrir aux Bains des Pâquis. \nLa deuxième édition de la biennale d’art et de nature urbaine (re)connecting.earth vise à (re)centrer l’attention sur les éléments naturels qui composent notre environnement urbain. Cette année\, grâce à des coopérations entre artistes et scientifiques\, la biennale mettra en lumière la thématique de l’eau et de la biodiversité autour du Léman. \nOrganisée en collaboration avec des associations et institutions artistiques et environnementales\, cette biennale présentera des oeuvres d’art créées par 25 artistes locaux et internationaux. En plus de l’exposition d’art public\, un programme de 30 jours sera proposé aux visiteurs\, comprenant des ateliers\, des performances\, des projections et des conférences. \nhttps://reconnecting.earth
URL:https://aubp.ch/event/beyond-the-water/
CATEGORIES:Exposition
ATTACH;FMTTYPE=image/jpeg:https://aubp.ch/wp-content/uploads/2023/10/Capture-decran-2023-08-21-a-18.14.25.jpg
END:VEVENT
BEGIN:VEVENT
DTSTART;TZID=Europe/Zurich:20230707T110000
DTEND;TZID=Europe/Zurich:20230707T170000
DTSTAMP:20260424T094429
CREATED:20231001T201456Z
LAST-MODIFIED:20231001T201456Z
UID:10000007-1688727600-1688749200@aubp.ch
SUMMARY:Le grand atlas du Léman
DESCRIPTION:Vernissage le 7 juillet à 11 heures \nQuel enfant n’a pas rêvé devant son grand atlas\, partir à la découverte de territoires inconnus ?
URL:https://aubp.ch/event/le-grand-atlas-du-leman/
CATEGORIES:Exposition,Vernissage
ATTACH;FMTTYPE=image/jpeg:https://aubp.ch/wp-content/uploads/2023/10/Capture-decran-2023-06-19-a-13.36.13.jpg
END:VEVENT
END:VCALENDAR