BEGIN:VCALENDAR
VERSION:2.0
PRODID:-//Bains des Pâquis - ECPv6.15.20//NONSGML v1.0//EN
CALSCALE:GREGORIAN
METHOD:PUBLISH
X-ORIGINAL-URL:https://aubp.ch
X-WR-CALDESC:Évènements pour Bains des Pâquis
REFRESH-INTERVAL;VALUE=DURATION:PT1H
X-Robots-Tag:noindex
X-PUBLISHED-TTL:PT1H
BEGIN:VTIMEZONE
TZID:Europe/Zurich
BEGIN:DAYLIGHT
TZOFFSETFROM:+0100
TZOFFSETTO:+0200
TZNAME:CEST
DTSTART:20250330T010000
END:DAYLIGHT
BEGIN:STANDARD
TZOFFSETFROM:+0200
TZOFFSETTO:+0100
TZNAME:CET
DTSTART:20251026T010000
END:STANDARD
BEGIN:DAYLIGHT
TZOFFSETFROM:+0100
TZOFFSETTO:+0200
TZNAME:CEST
DTSTART:20260329T010000
END:DAYLIGHT
BEGIN:STANDARD
TZOFFSETFROM:+0200
TZOFFSETTO:+0100
TZNAME:CET
DTSTART:20261025T010000
END:STANDARD
BEGIN:DAYLIGHT
TZOFFSETFROM:+0100
TZOFFSETTO:+0200
TZNAME:CEST
DTSTART:20270328T010000
END:DAYLIGHT
BEGIN:STANDARD
TZOFFSETFROM:+0200
TZOFFSETTO:+0100
TZNAME:CET
DTSTART:20271031T010000
END:STANDARD
END:VTIMEZONE
BEGIN:VEVENT
DTSTART;TZID=Europe/Zurich:20260518T123000
DTEND;TZID=Europe/Zurich:20260518T133000
DTSTAMP:20260421T140744
CREATED:20250904T114315Z
LAST-MODIFIED:20251209T120148Z
UID:10015502-1779107400-1779111000@aubp.ch
SUMMARY:Cours de natation en eau froide
DESCRIPTION:Vous souhaitez commencer la nage en eau froide et rejoindre un mouvement de plusieurs centaines de personnes qui se baignent tout l’hiver aux Bains? Vous souhaitez profiter des nombreux bienfaits de la nage en eau froide (défenses immunitaires\, bien-être mental\, etc.)? \nDès le 1er septembre\, les Bains vous proposent des cours tous les lundis entre 12h30 et 13h30 par groupes de 8 au maximum pour vous donner toutes les clés pour vous lancer. \nCe cours s’adresse aux nageuses et nageurs intermédiaires et confirmé-es (on ne vous apprend pas à nager pendant le cours). \nInscriptions à la Rotonde des Bains\, CHF 10 par cours.
URL:https://aubp.ch/event/cours-de-natation-en-eau-froide-3/2026-05-18/
LOCATION:Sur la jetée
CATEGORIES:Nage
ATTACH;FMTTYPE=image/jpeg:https://aubp.ch/wp-content/uploads/2024/10/cours_natation.jpg
END:VEVENT
BEGIN:VEVENT
DTSTART;TZID=Europe/Zurich:20260528T153000
DTEND;TZID=Europe/Zurich:20260528T183000
DTSTAMP:20260421T140744
CREATED:20260401T172149Z
LAST-MODIFIED:20260416T153530Z
UID:10027987-1779982200-1779993000@aubp.ch
SUMMARY:Viens t'asseoir je t'écoute
DESCRIPTION:Viens t’asseoir\, je t’écoute est de retour aux Bains des Pâquis pour la saison 2026. \nVenez vous asseoir face à une ou un inconnu\, raconter vos rêves ou vos coups de gueule\, parler de la pluie et du beau temps… \nNos bénévoles seront ravis de vous offrir une écoute confidentielle\, bienveillante et gratuite ! \nHâte de vous retrouver! \nLes dates à venir\, de 15h30 à 18h30 : \n\nJeudi 16 avril\nMardi 28 avril\nMardi 12 mai\nJeudi 28 mai\nDimanche 28 juin\nDimanche 26 Juillet\nDimanche 9 Août\nDimanche 27 Septembre\nDimanche 11 Octobre\n\nhttps://www.jetecoute.org/geneve
URL:https://aubp.ch/event/viens-tasseoir-je-tecoute-7-2/2026-05-28/
LOCATION:Sur la jetée
CATEGORIES:Annonces
ATTACH;FMTTYPE=image/jpeg:https://aubp.ch/wp-content/uploads/2026/01/WhatsApp-Image-2026-01-15-at-12.45.45.jpeg
END:VEVENT
BEGIN:VEVENT
DTSTART;TZID=Europe/Zurich:20260605T110000
DTEND;TZID=Europe/Zurich:20260811T200000
DTSTAMP:20260421T140744
CREATED:20260421T072239Z
LAST-MODIFIED:20260421T072239Z
UID:10028006-1780657200-1786478400@aubp.ch
SUMMARY:Exposition : les Ecritures de la rivière
DESCRIPTION:Le Musée de Carouge et les Bains des Pâquis proposent\, à l’été 2026\, un double rendez-vous autour de l’Arve et du regard sensible que lui porte l’artiste Éric Alibert. \nAu Musée de Carouge\, l’exposition Les écritures de la rivière invite à une immersion poétique dans l’univers de l’artiste franco-suisse. À travers des œuvres à l’encre de Chine et à l’aquarelle\, Éric Alibert explore la richesse discrète des rives de l’Arve\, observant avec attention la faune\, les rythmes et les formes du vivant. Son travail\, à la frontière entre figuration et abstraction\, propose une véritable « écriture » de la nature\, où chaque trait traduit une relation intime entre l’humain et son environnement. \nEn écho\, les Bains des Pâquis accueillent l’exposition Les Écritures de la rivière. Carouge et l’Arve du 5 juin au 11 août 2026. À travers une série de panneaux thématiques\, cette présentation propose une lecture historique et documentaire de la rivière : ses usages\, ses métiers\, ses aménagements\, ainsi que la richesse de sa faune et de sa flore. Des pièces issues des collections du Musée de Carouge viennent ponctuer ce parcours en plein air. \nDeux expositions complémentaires\, entre art et histoire\, pour redécouvrir l’Arve comme un paysage vivant et une source d’inspiration.
URL:https://aubp.ch/event/exposition-les-ecritures-de-la-riviere/
CATEGORIES:Exposition
ATTACH;FMTTYPE=image/jpeg:https://aubp.ch/wp-content/uploads/2026/04/Capture-decran-2026-04-21-a-09.19.14.jpg
END:VEVENT
BEGIN:VEVENT
DTSTART;TZID=Europe/Zurich:20260823T070000
DTEND;TZID=Europe/Zurich:20260823T120000
DTSTAMP:20260421T140744
CREATED:20260402T141424Z
LAST-MODIFIED:20260408T124107Z
UID:10027972-1787468400-1787486400@aubp.ch
SUMMARY:Lars Traversée
DESCRIPTION:Hommage à un ami parti trop tôt \nLars Traversée 2026 \nse déroulera le dimanche 23 août 2026. \nLes inscriptions sur le site https://latraversee-aubp.ch/ seront ouvertes le mercredi 6 mai dès 7h00.
URL:https://aubp.ch/event/lars-traversee/
CATEGORIES:Sport
ATTACH;FMTTYPE=image/jpeg:https://aubp.ch/wp-content/uploads/2026/04/Affiche-Traversee-002.jpg
END:VEVENT
END:VCALENDAR