BEGIN:VCALENDAR
VERSION:2.0
PRODID:-//Bains des Pâquis - ECPv6.15.20//NONSGML v1.0//EN
CALSCALE:GREGORIAN
METHOD:PUBLISH
X-ORIGINAL-URL:https://aubp.ch
X-WR-CALDESC:Évènements pour Bains des Pâquis
REFRESH-INTERVAL;VALUE=DURATION:PT1H
X-Robots-Tag:noindex
X-PUBLISHED-TTL:PT1H
BEGIN:VTIMEZONE
TZID:Europe/Zurich
BEGIN:DAYLIGHT
TZOFFSETFROM:+0100
TZOFFSETTO:+0200
TZNAME:CEST
DTSTART:20230326T010000
END:DAYLIGHT
BEGIN:STANDARD
TZOFFSETFROM:+0200
TZOFFSETTO:+0100
TZNAME:CET
DTSTART:20231029T010000
END:STANDARD
BEGIN:DAYLIGHT
TZOFFSETFROM:+0100
TZOFFSETTO:+0200
TZNAME:CEST
DTSTART:20240331T010000
END:DAYLIGHT
BEGIN:STANDARD
TZOFFSETFROM:+0200
TZOFFSETTO:+0100
TZNAME:CET
DTSTART:20241027T010000
END:STANDARD
BEGIN:DAYLIGHT
TZOFFSETFROM:+0100
TZOFFSETTO:+0200
TZNAME:CEST
DTSTART:20250330T010000
END:DAYLIGHT
BEGIN:STANDARD
TZOFFSETFROM:+0200
TZOFFSETTO:+0100
TZNAME:CET
DTSTART:20251026T010000
END:STANDARD
END:VTIMEZONE
BEGIN:VEVENT
DTSTART;TZID=Europe/Zurich:20240822T183000
DTEND;TZID=Europe/Zurich:20240822T233000
DTSTAMP:20260421T211651
CREATED:20240720T070312Z
LAST-MODIFIED:20240720T070312Z
UID:10004009-1724351400-1724369400@aubp.ch
SUMMARY:Soirée DJs: Biggy Bar
DESCRIPTION:Venez danser sur la jetée des Bains avec le Biggy Bar: des soirées DJs de 18h30 à 23h30. \n 
URL:https://aubp.ch/event/soiree-djs-biggy-bar/2024-08-22/
LOCATION:Sur la jetée
CATEGORIES:Musique
ATTACH;FMTTYPE=image/jpeg:https://aubp.ch/wp-content/uploads/2024/07/Affiche.jpg
END:VEVENT
BEGIN:VEVENT
DTSTART;TZID=Europe/Zurich:20240823T183000
DTEND;TZID=Europe/Zurich:20240823T233000
DTSTAMP:20260421T211651
CREATED:20240720T070312Z
LAST-MODIFIED:20240720T070312Z
UID:10004010-1724437800-1724455800@aubp.ch
SUMMARY:Soirée DJs: Biggy Bar
DESCRIPTION:Venez danser sur la jetée des Bains avec le Biggy Bar: des soirées DJs de 18h30 à 23h30. \n 
URL:https://aubp.ch/event/soiree-djs-biggy-bar/2024-08-23/
LOCATION:Sur la jetée
CATEGORIES:Musique
ATTACH;FMTTYPE=image/jpeg:https://aubp.ch/wp-content/uploads/2024/07/Affiche.jpg
END:VEVENT
BEGIN:VEVENT
DTSTART;TZID=Europe/Zurich:20240824T100000
DTEND;TZID=Europe/Zurich:20240824T110000
DTSTAMP:20260421T211651
CREATED:20240128T190548Z
LAST-MODIFIED:20241016T192346Z
UID:10006216-1724493600-1724497200@aubp.ch
SUMMARY:Yoga
DESCRIPTION:Proposée par Natachafaitduyoga\nAvec vue sur le lac\, entre les platanes du phare une pause bien-être adaptée au rythme des saisons est proposée par Natachafaitduyoga une fois par semaine. Les séances\, bienveillantes\, régénérantes et accessibles à touxtes\, invitent à se relier avec l’état intérieur\, prendre soin de soi et se ressourcer. \nÀ travers le mouvement\, la respiration consciente et la méditation\, la pratique permet d’harmoniser l’organisme\, d’honorer le moment présent et d’augmenter son énergie vitale. Retour à la sensation\, réveil du corps\, libération du souffle\, et relaxation sont au programme avant ou après la baignade. \nTous les samedis aux Bains\nD’octobre à  avril: 10h à 11h \nDe mai à septembre: 9h à 10h \n  \nhttps://www.instagram.com/natachafaitduyoga/ \nPour être tenu.e.x au courant : https://t.me/natachafaitduyoga
URL:https://aubp.ch/event/yoga/2024-08-24/
CATEGORIES:Détente
ATTACH;FMTTYPE=image/jpeg:https://aubp.ch/wp-content/uploads/2023/09/yoga-e1706468553755.jpg
END:VEVENT
BEGIN:VEVENT
DTSTART;TZID=Europe/Zurich:20240824T130000
DTEND;TZID=Europe/Zurich:20240824T180000
DTSTAMP:20260421T211651
CREATED:20240726T140235Z
LAST-MODIFIED:20240726T140235Z
UID:10004011-1724504400-1724522400@aubp.ch
SUMMARY:Championnat suisse de Døds
DESCRIPTION:Le championnat de Døds aura lieu aux Bains le 24 août dans l’après-midi. \nAu programme: \n\n13h00 à 13h55: entrainement\n14h00 à 15h20: premier et deuxième tour\n15h30 à 16h00: Finale\n16h30 à 18h00: Session Mini-Tramp\n\nDétails: \n\n3 døds différents à exécuter: un classique et deux freestyles\nInscription: CHF 15\nLimité à 25 participant·es\n\nInscriptions: \n\nTéléphone: 079 954 63 73\nInsta: @alexcentrique_
URL:https://aubp.ch/event/championnat-suisse-de-dods/
LOCATION:Waterpolo
CATEGORIES:Sport
ATTACH;FMTTYPE=image/png:https://aubp.ch/wp-content/uploads/2024/07/Sans-titre.png
END:VEVENT
END:VCALENDAR