BEGIN:VCALENDAR
VERSION:2.0
PRODID:-//Bains des Pâquis - ECPv6.15.20//NONSGML v1.0//EN
CALSCALE:GREGORIAN
METHOD:PUBLISH
X-ORIGINAL-URL:https://aubp.ch
X-WR-CALDESC:Évènements pour Bains des Pâquis
REFRESH-INTERVAL;VALUE=DURATION:PT1H
X-Robots-Tag:noindex
X-PUBLISHED-TTL:PT1H
BEGIN:VTIMEZONE
TZID:Europe/Zurich
BEGIN:DAYLIGHT
TZOFFSETFROM:+0100
TZOFFSETTO:+0200
TZNAME:CEST
DTSTART:20230326T010000
END:DAYLIGHT
BEGIN:STANDARD
TZOFFSETFROM:+0200
TZOFFSETTO:+0100
TZNAME:CET
DTSTART:20231029T010000
END:STANDARD
BEGIN:DAYLIGHT
TZOFFSETFROM:+0100
TZOFFSETTO:+0200
TZNAME:CEST
DTSTART:20240331T010000
END:DAYLIGHT
BEGIN:STANDARD
TZOFFSETFROM:+0200
TZOFFSETTO:+0100
TZNAME:CET
DTSTART:20241027T010000
END:STANDARD
BEGIN:DAYLIGHT
TZOFFSETFROM:+0100
TZOFFSETTO:+0200
TZNAME:CEST
DTSTART:20250330T010000
END:DAYLIGHT
BEGIN:STANDARD
TZOFFSETFROM:+0200
TZOFFSETTO:+0100
TZNAME:CET
DTSTART:20251026T010000
END:STANDARD
END:VTIMEZONE
BEGIN:VEVENT
DTSTART;TZID=Europe/Zurich:20240830T183000
DTEND;TZID=Europe/Zurich:20240830T200000
DTSTAMP:20260424T051403
CREATED:20240726T144335Z
LAST-MODIFIED:20240730T094039Z
UID:10004015-1725042600-1725048000@aubp.ch
SUMMARY:Concert: La Orquesta La Puntualidad
DESCRIPTION:C’est depuis 2013 et 3 albums que le groupe de salsa la Orquesta la Puntualidad fait danser le public au son de ses propres chansons. Réunissant autant des musiciens d’origine européenne que caribéenne\, l’orchestre des Pâquis est à l’image de la Suisse: cosmopolite. \nLe concert aura lieu sur la jetée des Bains.
URL:https://aubp.ch/event/orchestra-la-punctulidad/
LOCATION:Sur la jetée
CATEGORIES:Culture
ATTACH;FMTTYPE=image/png:https://aubp.ch/wp-content/uploads/2024/07/Capture-decran-2024-07-26-164648.png
END:VEVENT
BEGIN:VEVENT
DTSTART;TZID=Europe/Zurich:20240831T100000
DTEND;TZID=Europe/Zurich:20240831T110000
DTSTAMP:20260424T051403
CREATED:20240128T190548Z
LAST-MODIFIED:20241016T192346Z
UID:10006217-1725098400-1725102000@aubp.ch
SUMMARY:Yoga
DESCRIPTION:Proposée par Natachafaitduyoga\nAvec vue sur le lac\, entre les platanes du phare une pause bien-être adaptée au rythme des saisons est proposée par Natachafaitduyoga une fois par semaine. Les séances\, bienveillantes\, régénérantes et accessibles à touxtes\, invitent à se relier avec l’état intérieur\, prendre soin de soi et se ressourcer. \nÀ travers le mouvement\, la respiration consciente et la méditation\, la pratique permet d’harmoniser l’organisme\, d’honorer le moment présent et d’augmenter son énergie vitale. Retour à la sensation\, réveil du corps\, libération du souffle\, et relaxation sont au programme avant ou après la baignade. \nTous les samedis aux Bains\nD’octobre à  avril: 10h à 11h \nDe mai à septembre: 9h à 10h \n  \nhttps://www.instagram.com/natachafaitduyoga/ \nPour être tenu.e.x au courant : https://t.me/natachafaitduyoga
URL:https://aubp.ch/event/yoga/2024-08-31/
CATEGORIES:Détente
ATTACH;FMTTYPE=image/jpeg:https://aubp.ch/wp-content/uploads/2023/09/yoga-e1706468553755.jpg
END:VEVENT
BEGIN:VEVENT
DTSTART;TZID=Europe/Zurich:20240831T130000
DTEND;TZID=Europe/Zurich:20240831T183000
DTSTAMP:20260424T051403
CREATED:20240618T193815Z
LAST-MODIFIED:20240829T185555Z
UID:10003851-1725109200-1725129000@aubp.ch
SUMMARY:Tournoi mixte de watervolley
DESCRIPTION:Bienvenue à notre tournoi de Watervolley\, l’événement estival le plus rafraîchissant de l’année! \nPlongez dans l’action avec ce jeu palpitant\, combinant le plaisir du volleyball avec la fraîcheur de l’eau. Réunissez votre équipe\, défiez vos adversaires et montrez vos talents dans ce tournoi aquatique inoubliable. Que vous soyez un joueur expérimenté ou un débutant enthousiaste\, le Watervolley est ouvert à tous. \nPréparez-vous à des éclats de rire\, des glissades sur le terrain et une compétition amicale dans une ambiance estivale incomparable ! \nInscriptions à 13h00.
URL:https://aubp.ch/event/tournoi-mixte-de-watervolley-2/
CATEGORIES:Sport
ATTACH;FMTTYPE=image/png:https://aubp.ch/wp-content/uploads/2024/06/wp_31.png
END:VEVENT
END:VCALENDAR