BEGIN:VCALENDAR
VERSION:2.0
PRODID:-//Bains des Pâquis - ECPv6.15.20//NONSGML v1.0//EN
CALSCALE:GREGORIAN
METHOD:PUBLISH
X-WR-CALNAME:Bains des Pâquis
X-ORIGINAL-URL:https://aubp.ch
X-WR-CALDESC:Évènements pour Bains des Pâquis
REFRESH-INTERVAL;VALUE=DURATION:PT1H
X-Robots-Tag:noindex
X-PUBLISHED-TTL:PT1H
BEGIN:VTIMEZONE
TZID:Europe/Zurich
BEGIN:DAYLIGHT
TZOFFSETFROM:+0100
TZOFFSETTO:+0200
TZNAME:CEST
DTSTART:20240331T010000
END:DAYLIGHT
BEGIN:STANDARD
TZOFFSETFROM:+0200
TZOFFSETTO:+0100
TZNAME:CET
DTSTART:20241027T010000
END:STANDARD
BEGIN:DAYLIGHT
TZOFFSETFROM:+0100
TZOFFSETTO:+0200
TZNAME:CEST
DTSTART:20250330T010000
END:DAYLIGHT
BEGIN:STANDARD
TZOFFSETFROM:+0200
TZOFFSETTO:+0100
TZNAME:CET
DTSTART:20251026T010000
END:STANDARD
BEGIN:DAYLIGHT
TZOFFSETFROM:+0100
TZOFFSETTO:+0200
TZNAME:CEST
DTSTART:20260329T010000
END:DAYLIGHT
BEGIN:STANDARD
TZOFFSETFROM:+0200
TZOFFSETTO:+0100
TZNAME:CET
DTSTART:20261025T010000
END:STANDARD
END:VTIMEZONE
BEGIN:VEVENT
DTSTART;TZID=Europe/Zurich:20250414T123000
DTEND;TZID=Europe/Zurich:20250414T133000
DTSTAMP:20260424T164320
CREATED:20241006T182111Z
LAST-MODIFIED:20241230T174409Z
UID:10005625-1744633800-1744637400@aubp.ch
SUMMARY:Cours de natation en eau froide
DESCRIPTION:Vous souhaitez commencer la nage en eau froide et rejoindre un mouvement de plusieurs centaines de personnes qui se baignent tout l’hiver aux Bains? Vous souhaitez profiter des nombreux bienfaits de la nage en eau froide (défenses immunitaires\, bien-être mental\, etc.)? \nDès le 7 octobre\, les Bains vous proposent des cours tous les lundis entre 12h30 et 13h30 par groupes de 8 au maximum pour vous donner toutes les clés pour vous lancer. \nCe cours s’adresse aux nageuses et nageurs intermédiaires et confirmé-es (on ne vous apprend pas à nager pendant le cours). \nInscriptions à la Rotonde des Bains\, CHF 10 par cours.
URL:https://aubp.ch/event/cours-de-natation-en-eau-froide/2025-04-14/
LOCATION:Sur la jetée
CATEGORIES:Nage
ATTACH;FMTTYPE=image/jpeg:https://aubp.ch/wp-content/uploads/2024/10/cours_natation.jpg
END:VEVENT
BEGIN:VEVENT
DTSTART;TZID=Europe/Zurich:20250419T100000
DTEND;TZID=Europe/Zurich:20250419T110000
DTSTAMP:20260424T164320
CREATED:20240128T190548Z
LAST-MODIFIED:20241016T192346Z
UID:10006250-1745056800-1745060400@aubp.ch
SUMMARY:Yoga
DESCRIPTION:Proposée par Natachafaitduyoga\nAvec vue sur le lac\, entre les platanes du phare une pause bien-être adaptée au rythme des saisons est proposée par Natachafaitduyoga une fois par semaine. Les séances\, bienveillantes\, régénérantes et accessibles à touxtes\, invitent à se relier avec l’état intérieur\, prendre soin de soi et se ressourcer. \nÀ travers le mouvement\, la respiration consciente et la méditation\, la pratique permet d’harmoniser l’organisme\, d’honorer le moment présent et d’augmenter son énergie vitale. Retour à la sensation\, réveil du corps\, libération du souffle\, et relaxation sont au programme avant ou après la baignade. \nTous les samedis aux Bains\nD’octobre à  avril: 10h à 11h \nDe mai à septembre: 9h à 10h \n  \nhttps://www.instagram.com/natachafaitduyoga/ \nPour être tenu.e.x au courant : https://t.me/natachafaitduyoga
URL:https://aubp.ch/event/yoga/2025-04-19/
CATEGORIES:Détente
ATTACH;FMTTYPE=image/jpeg:https://aubp.ch/wp-content/uploads/2023/09/yoga-e1706468553755.jpg
END:VEVENT
BEGIN:VEVENT
DTSTART;TZID=Europe/Zurich:20250419T110000
DTEND;TZID=Europe/Zurich:20250419T120000
DTSTAMP:20260424T164320
CREATED:20250408T073019Z
LAST-MODIFIED:20250408T073239Z
UID:10006644-1745060400-1745064000@aubp.ch
SUMMARY:Apéro poétique
DESCRIPTION:En marge des mots \nSamedi 19 avril à 11h\, lecture de Yoanna Raccimolo. \nNée en 1977\, d’origine sarde et napolitaine\, elle se forme en sciences sociales politiques à l’université où elle travaillera en tant qu’assistante de recherche auprès du FNRS. Elle complète ses études avec une formation en droits humains. Elle élabore son mémoire en Russie où elle séjourne plus de six mois. Après avoir exercé dans le domaine social plusieurs années\, elle a décidé de se dédier pleinement à sa passion des mots. Dans un langage poétique\, elle explore la symbiose entre imaginaire et réel et rend compte de la complexité des identités multiples.
URL:https://aubp.ch/event/apero-poetique-15/
CATEGORIES:Poésie
ATTACH;FMTTYPE=image/jpeg:https://aubp.ch/wp-content/uploads/2025/04/Photo_YR.jpeg
END:VEVENT
END:VCALENDAR