BEGIN:VCALENDAR
VERSION:2.0
PRODID:-//Bains des Pâquis - ECPv6.15.20//NONSGML v1.0//EN
CALSCALE:GREGORIAN
METHOD:PUBLISH
X-ORIGINAL-URL:https://aubp.ch
X-WR-CALDESC:Évènements pour Bains des Pâquis
REFRESH-INTERVAL;VALUE=DURATION:PT1H
X-Robots-Tag:noindex
X-PUBLISHED-TTL:PT1H
BEGIN:VTIMEZONE
TZID:Europe/Zurich
BEGIN:DAYLIGHT
TZOFFSETFROM:+0100
TZOFFSETTO:+0200
TZNAME:CEST
DTSTART:20240331T010000
END:DAYLIGHT
BEGIN:STANDARD
TZOFFSETFROM:+0200
TZOFFSETTO:+0100
TZNAME:CET
DTSTART:20241027T010000
END:STANDARD
BEGIN:DAYLIGHT
TZOFFSETFROM:+0100
TZOFFSETTO:+0200
TZNAME:CEST
DTSTART:20250330T010000
END:DAYLIGHT
BEGIN:STANDARD
TZOFFSETFROM:+0200
TZOFFSETTO:+0100
TZNAME:CET
DTSTART:20251026T010000
END:STANDARD
BEGIN:DAYLIGHT
TZOFFSETFROM:+0100
TZOFFSETTO:+0200
TZNAME:CEST
DTSTART:20260329T010000
END:DAYLIGHT
BEGIN:STANDARD
TZOFFSETFROM:+0200
TZOFFSETTO:+0100
TZNAME:CET
DTSTART:20261025T010000
END:STANDARD
END:VTIMEZONE
BEGIN:VEVENT
DTSTART;TZID=Europe/Zurich:20250616T123000
DTEND;TZID=Europe/Zurich:20250616T133000
DTSTAMP:20260423T064312
CREATED:20241006T182111Z
LAST-MODIFIED:20241230T174409Z
UID:10005634-1750077000-1750080600@aubp.ch
SUMMARY:Cours de natation en eau froide
DESCRIPTION:Vous souhaitez commencer la nage en eau froide et rejoindre un mouvement de plusieurs centaines de personnes qui se baignent tout l’hiver aux Bains? Vous souhaitez profiter des nombreux bienfaits de la nage en eau froide (défenses immunitaires\, bien-être mental\, etc.)? \nDès le 7 octobre\, les Bains vous proposent des cours tous les lundis entre 12h30 et 13h30 par groupes de 8 au maximum pour vous donner toutes les clés pour vous lancer. \nCe cours s’adresse aux nageuses et nageurs intermédiaires et confirmé-es (on ne vous apprend pas à nager pendant le cours). \nInscriptions à la Rotonde des Bains\, CHF 10 par cours.
URL:https://aubp.ch/event/cours-de-natation-en-eau-froide/2025-06-16/
LOCATION:Sur la jetée
CATEGORIES:Nage
ATTACH;FMTTYPE=image/jpeg:https://aubp.ch/wp-content/uploads/2024/10/cours_natation.jpg
END:VEVENT
BEGIN:VEVENT
DTSTART;TZID=Europe/Zurich:20250616T190000
DTEND;TZID=Europe/Zurich:20250616T230000
DTSTAMP:20260423T064312
CREATED:20250614T105308Z
LAST-MODIFIED:20250614T105308Z
UID:10007756-1750100400-1750114800@aubp.ch
SUMMARY:Assemblée générale
DESCRIPTION:Lundi 16 juin à 19h\, assemblée générale de l’AUBP
URL:https://aubp.ch/event/assemblee-generale/
CATEGORIES:Annonces
ATTACH;FMTTYPE=image/jpeg:https://aubp.ch/wp-content/uploads/2025/06/Capture-decran-2025-06-14-a-12.38.21.jpg
END:VEVENT
BEGIN:VEVENT
DTSTART;TZID=Europe/Zurich:20250619T180000
DTEND;TZID=Europe/Zurich:20250619T193000
DTSTAMP:20260423T064312
CREATED:20250527T202645Z
LAST-MODIFIED:20250612T063500Z
UID:10006986-1750356000-1750361400@aubp.ch
SUMMARY:Concert des EPI
DESCRIPTION:À l’occasion de la Fête de la musique\, les bénéficiaires des EPI montent sur scène pour partager leurs créations musicales. Un concert en plein air\, ouvert à toutes et tous\, pour vibrer ensemble\, découvrir des styles variés et célébrer la musique dans un cadre exceptionnel. \nAu programme : rap\, chant\, musique électronique… et de belles surprises tout au long de la soirée. \nVenez nombreuses et nombreux soutenir les artistes des EPI et partager ce moment unique !
URL:https://aubp.ch/event/concert-des-epi/
LOCATION:Sur la jetée
CATEGORIES:Culture
ATTACH;FMTTYPE=image/jpeg:https://aubp.ch/wp-content/uploads/2025/05/Bandeau-Bains-des-Paquis-Mailchimp.jpg
END:VEVENT
BEGIN:VEVENT
DTSTART;TZID=Europe/Zurich:20250619T220000
DTEND;TZID=Europe/Zurich:20250619T230000
DTSTAMP:20260423T064312
CREATED:20250524T122249Z
LAST-MODIFIED:20250524T123344Z
UID:10006968-1750370400-1750374000@aubp.ch
SUMMARY:Projection de courts-métrages du festival Animatou
DESCRIPTION:Que diriez vous d’une séance de cinéma nocturne?\nImmersion totale\, les pieds dans dans l’eau sans masques ni tuba.\nCinema Spoutnik et Animatou vous invitent aux Bains des Pâquis pour une séance lacustre composée de films primés lors de précédentes éditions du Festival Animatou.\n\nAu programme:\n\n\nNun or Never de Jaalinoja Heta\, 2023\, Finlande\nLa Reine des Renards de Rosset Marina\, 2022\, Suisse\nPig de Leeuwerink Jorn\, 2022\, Pays-Bas\nWild SAlmon de Arieli Karni\, Freed Saul\, 2023\, UK\nAverage Happyness de Gehrig Maja\, 2019\, Suisse\nDon’t feed the pigeons de Niclass Antonin\, 2021\, UK\nBeurk! de Espuche Loïc\, 2024\, France\n\n\nAge conseillé: 12 ans \nLes projections auront lieu sur la jetée.
URL:https://aubp.ch/event/projection-de-courts-metrages-du-festival-animatou/
LOCATION:Sur la jetée
CATEGORIES:Culture
ATTACH;FMTTYPE=image/png:https://aubp.ch/wp-content/uploads/2025/05/animatou.png
END:VEVENT
BEGIN:VEVENT
DTSTART;TZID=Europe/Zurich:20250621T091500
DTEND;TZID=Europe/Zurich:20250621T101500
DTSTAMP:20260423T064312
CREATED:20250610T061436Z
LAST-MODIFIED:20250610T061436Z
UID:10007548-1750497300-1750500900@aubp.ch
SUMMARY:Cours de Taï Chi
DESCRIPTION:Tous les dimanches aux Bains \n\nDe juin à septembre: de 9h15 à 10h15\nD’octobre à mai: de 10h à 11h\n\nEn cas de pluie ou de vent: abri côté bistrot \nCours ouvert à tous – offerts par les Bains – sans inscription \n\nCotisation: CHF 20.-  par an pour l’AUBP\nEntrée aux bains: CHF 2.-  pendant la saison chaude\n\nEnseignantes pour le Taï-chi: Laurence Bovay\, Careen Croset\, Valérie Oppel\, Marianne Schweizer \nSens de l’orientation\, éloge de la lenteur\, tonus musculaire\, respiration\, méditation\, souplesse\, mémoire\, équilibre
URL:https://aubp.ch/event/cours-de-tai-chi/2025-06-21/
LOCATION:Sur la jetée
CATEGORIES:Détente
ATTACH;FMTTYPE=image/png:https://aubp.ch/wp-content/uploads/2025/06/IMG_7282-940x705-1.png
END:VEVENT
BEGIN:VEVENT
DTSTART;TZID=Europe/Zurich:20250621T100000
DTEND;TZID=Europe/Zurich:20250621T110000
DTSTAMP:20260423T064312
CREATED:20250528T172425Z
LAST-MODIFIED:20251118T140232Z
UID:10019064-1750500000-1750503600@aubp.ch
SUMMARY:Yoga & méditation
DESCRIPTION:Avec vue sur le lac\, entre les platanes du phare une pause bien-être adaptée au rythme des saisons est proposée par Natacha et Dalia en alternance. Les séances\, bienveillantes\, régénérantes et accessibles à touxtes\, invitent à se relier avec l’état intérieur\, prendre soin de soi et se ressourcer. \nÀ travers le mouvement\, la respiration consciente et la méditation\, la pratique permet d’harmoniser l’organisme\, d’honorer le moment présent et d’augmenter son énergie vitale. Retour à la sensation\, réveil du corps\, libération du souffle\, et relaxation sont au programme avant ou après la baignade. \nTous les samedis aux Bains\nD’octobre à  avril: 10h à 11h \nDe mai à septembre: 9h à 10h
URL:https://aubp.ch/event/yoga-2/2025-06-21/
CATEGORIES:Détente
ATTACH;FMTTYPE=image/jpeg:https://aubp.ch/wp-content/uploads/2023/09/yoga-e1706468553755.jpg
END:VEVENT
BEGIN:VEVENT
DTSTART;TZID=Europe/Zurich:20250621T180000
DTEND;TZID=Europe/Zurich:20250621T193000
DTSTAMP:20260423T064312
CREATED:20250528T132656Z
LAST-MODIFIED:20250528T133155Z
UID:10006988-1750528800-1750534200@aubp.ch
SUMMARY:Concert de Rude Égard
DESCRIPTION:Avec Rude Egard\, le jazz swing reprend des couleurs vives et effrontées. Entre élégance rétro et énergie brute\, ce quintet revisite les classiques du genre en y insufflant une dose généreuse de malice et de modernité. Leur répertoire\, nourri de standards revisités et de compositions originales\, évoque les clubs enfumés d’antan tout en gardant les pieds bien ancrés dans le présent. \nRude Egard\, c’est une invitation à danser\, à sourire\, et surtout à écouter avec le cœur. Attention\, ça balance — et sans aucune politesse. \nLe concert aura lieu sur la jetée.
URL:https://aubp.ch/event/concert-rude-egard/
LOCATION:Sur la jetée
CATEGORIES:Culture
ATTACH;FMTTYPE=image/jpeg:https://aubp.ch/wp-content/uploads/2025/05/Sans-titre-rotated-e1748439075250.jpg
END:VEVENT
BEGIN:VEVENT
DTSTART;TZID=Europe/Zurich:20250622T120000
DTEND;TZID=Europe/Zurich:20250622T150000
DTSTAMP:20260423T064312
CREATED:20250619T184659Z
LAST-MODIFIED:20250619T184659Z
UID:10007766-1750593600-1750604400@aubp.ch
SUMMARY:Le Relai des Bains
DESCRIPTION:Participez au fameux relai des Bains. \nInscriptions dès 10h00 (2.- pour les adultes\, gratuit pour les enfants). Courses à partir de 12h.
URL:https://aubp.ch/event/le-relai-des-bains/
CATEGORIES:Nage
ATTACH;FMTTYPE=image/png:https://aubp.ch/wp-content/uploads/2025/06/Capture-decran-2025-06-19-a-20.44.31.png
END:VEVENT
END:VCALENDAR