BEGIN:VCALENDAR
VERSION:2.0
PRODID:-//Bains des Pâquis - ECPv6.15.20//NONSGML v1.0//EN
CALSCALE:GREGORIAN
METHOD:PUBLISH
X-WR-CALNAME:Bains des Pâquis
X-ORIGINAL-URL:https://aubp.ch
X-WR-CALDESC:Évènements pour Bains des Pâquis
REFRESH-INTERVAL;VALUE=DURATION:PT1H
X-Robots-Tag:noindex
X-PUBLISHED-TTL:PT1H
BEGIN:VTIMEZONE
TZID:Europe/Zurich
BEGIN:DAYLIGHT
TZOFFSETFROM:+0100
TZOFFSETTO:+0200
TZNAME:CEST
DTSTART:20240331T010000
END:DAYLIGHT
BEGIN:STANDARD
TZOFFSETFROM:+0200
TZOFFSETTO:+0100
TZNAME:CET
DTSTART:20241027T010000
END:STANDARD
BEGIN:DAYLIGHT
TZOFFSETFROM:+0100
TZOFFSETTO:+0200
TZNAME:CEST
DTSTART:20250330T010000
END:DAYLIGHT
BEGIN:STANDARD
TZOFFSETFROM:+0200
TZOFFSETTO:+0100
TZNAME:CET
DTSTART:20251026T010000
END:STANDARD
BEGIN:DAYLIGHT
TZOFFSETFROM:+0100
TZOFFSETTO:+0200
TZNAME:CEST
DTSTART:20260329T010000
END:DAYLIGHT
BEGIN:STANDARD
TZOFFSETFROM:+0200
TZOFFSETTO:+0100
TZNAME:CET
DTSTART:20261025T010000
END:STANDARD
END:VTIMEZONE
BEGIN:VEVENT
DTSTART;TZID=Europe/Zurich:20250722T090000
DTEND;TZID=Europe/Zurich:20250828T103000
DTSTAMP:20260423T072053
CREATED:20250616T095814Z
LAST-MODIFIED:20250620T140130Z
UID:10007758-1753174800-1756377000@aubp.ch
SUMMARY:Dessins nomades
DESCRIPTION:Venez dessiner les mardis matins de l’été en groupe aux Bains avec une professionnelle! \nAu programme: \n\n22.07: Le sort est Jetée\n29.07: Ciel ma mouette !\n05.08: Couleurs de lac\n12.08: Contre vents et marées\n19.08: Profils des bains\n26.08: Lignes de fuites\n\nRendez-vous dès 8h45 devant la Rotonde \nActivité gratuite et accessible à tous\, dès 10 ans. \nEntrée aux Bains: 2.- ou 1.-AVS/Al\, Enfants \nAnimé par Delia Meyer \ninfo@dessin-nomade.ch / 078 886 92 93 \nC’est beau d’avoir l’âme occupée par l’art…
URL:https://aubp.ch/event/dessins-nomades/
CATEGORIES:Culture
ATTACH;FMTTYPE=image/png:https://aubp.ch/wp-content/uploads/2025/06/Capture-decran-2025-06-16-a-11.56.15.png
END:VEVENT
BEGIN:VEVENT
DTSTART;TZID=Europe/Zurich:20250728T060000
DTEND;TZID=Europe/Zurich:20250728T070000
DTSTAMP:20260423T072053
CREATED:20250612T110023Z
LAST-MODIFIED:20250616T104950Z
UID:10007694-1753682400-1753686000@aubp.ch
SUMMARY:Les Aubes 2025
DESCRIPTION:Chaque matin d’été\, à l’heure où la ville dort encore\, une musique s’élève sur la jetée. Les Aubes\, c’est un festival unique où 35 concerts viennent saluer le lever du soleil\, du 14 juillet au 17 août 2025. \nDepuis bientôt vingt ans\, ce rendez-vous matinal rassemble fêtards en fin de nuit\, familles en début de journée\, curieux de passage et fidèles de toujours. Une expérience à vivre les yeux mi-clos\, l’âme grande ouverte\, entre lac\, lumière et notes suspendues. \nUne invitation à ralentir\, écouter\, et se laisser surprendre par la beauté d’un moment simple\, fragile et collectif. \n– Découvrez le programme complet de l’édition 2025 des Aubes –
URL:https://aubp.ch/event/les-aubes-2025/2025-07-28/
LOCATION:Sur la jetée
CATEGORIES:Culture
ATTACH;FMTTYPE=image/png:https://aubp.ch/wp-content/uploads/2025/06/Affiche_Aubes_2025.png
END:VEVENT
BEGIN:VEVENT
DTSTART;TZID=Europe/Zurich:20250729T060000
DTEND;TZID=Europe/Zurich:20250729T070000
DTSTAMP:20260423T072053
CREATED:20250612T110023Z
LAST-MODIFIED:20250616T104950Z
UID:10007695-1753768800-1753772400@aubp.ch
SUMMARY:Les Aubes 2025
DESCRIPTION:Chaque matin d’été\, à l’heure où la ville dort encore\, une musique s’élève sur la jetée. Les Aubes\, c’est un festival unique où 35 concerts viennent saluer le lever du soleil\, du 14 juillet au 17 août 2025. \nDepuis bientôt vingt ans\, ce rendez-vous matinal rassemble fêtards en fin de nuit\, familles en début de journée\, curieux de passage et fidèles de toujours. Une expérience à vivre les yeux mi-clos\, l’âme grande ouverte\, entre lac\, lumière et notes suspendues. \nUne invitation à ralentir\, écouter\, et se laisser surprendre par la beauté d’un moment simple\, fragile et collectif. \n– Découvrez le programme complet de l’édition 2025 des Aubes –
URL:https://aubp.ch/event/les-aubes-2025/2025-07-29/
LOCATION:Sur la jetée
CATEGORIES:Culture
ATTACH;FMTTYPE=image/png:https://aubp.ch/wp-content/uploads/2025/06/Affiche_Aubes_2025.png
END:VEVENT
BEGIN:VEVENT
DTSTART;TZID=Europe/Zurich:20250730T060000
DTEND;TZID=Europe/Zurich:20250730T070000
DTSTAMP:20260423T072053
CREATED:20250612T110023Z
LAST-MODIFIED:20250616T104950Z
UID:10007696-1753855200-1753858800@aubp.ch
SUMMARY:Les Aubes 2025
DESCRIPTION:Chaque matin d’été\, à l’heure où la ville dort encore\, une musique s’élève sur la jetée. Les Aubes\, c’est un festival unique où 35 concerts viennent saluer le lever du soleil\, du 14 juillet au 17 août 2025. \nDepuis bientôt vingt ans\, ce rendez-vous matinal rassemble fêtards en fin de nuit\, familles en début de journée\, curieux de passage et fidèles de toujours. Une expérience à vivre les yeux mi-clos\, l’âme grande ouverte\, entre lac\, lumière et notes suspendues. \nUne invitation à ralentir\, écouter\, et se laisser surprendre par la beauté d’un moment simple\, fragile et collectif. \n– Découvrez le programme complet de l’édition 2025 des Aubes –
URL:https://aubp.ch/event/les-aubes-2025/2025-07-30/
LOCATION:Sur la jetée
CATEGORIES:Culture
ATTACH;FMTTYPE=image/png:https://aubp.ch/wp-content/uploads/2025/06/Affiche_Aubes_2025.png
END:VEVENT
BEGIN:VEVENT
DTSTART;TZID=Europe/Zurich:20250731T060000
DTEND;TZID=Europe/Zurich:20250731T070000
DTSTAMP:20260423T072053
CREATED:20250612T110023Z
LAST-MODIFIED:20250616T104950Z
UID:10007697-1753941600-1753945200@aubp.ch
SUMMARY:Les Aubes 2025
DESCRIPTION:Chaque matin d’été\, à l’heure où la ville dort encore\, une musique s’élève sur la jetée. Les Aubes\, c’est un festival unique où 35 concerts viennent saluer le lever du soleil\, du 14 juillet au 17 août 2025. \nDepuis bientôt vingt ans\, ce rendez-vous matinal rassemble fêtards en fin de nuit\, familles en début de journée\, curieux de passage et fidèles de toujours. Une expérience à vivre les yeux mi-clos\, l’âme grande ouverte\, entre lac\, lumière et notes suspendues. \nUne invitation à ralentir\, écouter\, et se laisser surprendre par la beauté d’un moment simple\, fragile et collectif. \n– Découvrez le programme complet de l’édition 2025 des Aubes –
URL:https://aubp.ch/event/les-aubes-2025/2025-07-31/
LOCATION:Sur la jetée
CATEGORIES:Culture
ATTACH;FMTTYPE=image/png:https://aubp.ch/wp-content/uploads/2025/06/Affiche_Aubes_2025.png
END:VEVENT
BEGIN:VEVENT
DTSTART;TZID=Europe/Zurich:20250731T183000
DTEND;TZID=Europe/Zurich:20250731T233000
DTSTAMP:20260423T072053
CREATED:20250731T090037Z
LAST-MODIFIED:20250731T090713Z
UID:10011767-1753986600-1754004600@aubp.ch
SUMMARY:Biggy bar
DESCRIPTION:Le collectif Lakeside Basement revient sur la jetée pour célébrer la fête nationale avec son énergie électrique. Acteurs essentiels de la culture électronique genevoise\, ils transforment chaque apparition au Biggy Bar en moment mémorable. Cette année encore\, ils sont prêts à faire trembler les Bains !\n\n\n\n18:30 – 23:30 | DJ Darka & DJ Don Pepe \n18:30 – 19:30 | Initiation à la salsa cubaine \nUne heure pour découvrir les bases de cette danse ensoleillée\, née dans les îles…\nCours 100% gratuit\, ouvert à toutes et tous ! \nDJ Darka\n_Reggaeton / Baile Funk / Afro / Hip Hop_ \nVéritable légende des soirées reggaeton\, baile funk et hip hop en Suisse\, DJ Darka est né à Genève. Chaque été\, il revient faire vibrer le Biggy Bar avec ses sets explosifs\, son énergie débordante et son talent incontestable. Le 31 juillet\, il promet de faire monter la température aux Bains des Pâquis ! \nDJ Don Pepe\n_Latino / Afro / Amapiano / House_\nComplice de longue date de DJ Darka\, Don Pepe est un DJ cubain qui débarque pour la première fois au Biggy Bar. Son énergie “caliente”\, à l’image de son slogan « 100 % fiesta »\, nous transporte au cœur des rythmes latinos. Préparez-vous à danser !
URL:https://aubp.ch/event/biggy-bar/
CATEGORIES:Culture
ATTACH;FMTTYPE=image/jpeg:https://aubp.ch/wp-content/uploads/2025/07/Capture-decran-2025-07-31-110146-e1753952581363.jpg
END:VEVENT
BEGIN:VEVENT
DTSTART;TZID=Europe/Zurich:20250801T060000
DTEND;TZID=Europe/Zurich:20250801T070000
DTSTAMP:20260423T072053
CREATED:20250612T110023Z
LAST-MODIFIED:20250616T104950Z
UID:10007698-1754028000-1754031600@aubp.ch
SUMMARY:Les Aubes 2025
DESCRIPTION:Chaque matin d’été\, à l’heure où la ville dort encore\, une musique s’élève sur la jetée. Les Aubes\, c’est un festival unique où 35 concerts viennent saluer le lever du soleil\, du 14 juillet au 17 août 2025. \nDepuis bientôt vingt ans\, ce rendez-vous matinal rassemble fêtards en fin de nuit\, familles en début de journée\, curieux de passage et fidèles de toujours. Une expérience à vivre les yeux mi-clos\, l’âme grande ouverte\, entre lac\, lumière et notes suspendues. \nUne invitation à ralentir\, écouter\, et se laisser surprendre par la beauté d’un moment simple\, fragile et collectif. \n– Découvrez le programme complet de l’édition 2025 des Aubes –
URL:https://aubp.ch/event/les-aubes-2025/2025-08-01/
LOCATION:Sur la jetée
CATEGORIES:Culture
ATTACH;FMTTYPE=image/png:https://aubp.ch/wp-content/uploads/2025/06/Affiche_Aubes_2025.png
END:VEVENT
BEGIN:VEVENT
DTSTART;TZID=Europe/Zurich:20250801T060000
DTEND;TZID=Europe/Zurich:20250801T200000
DTSTAMP:20260423T072053
CREATED:20250718T110359Z
LAST-MODIFIED:20250718T110720Z
UID:10011763-1754028000-1754078400@aubp.ch
SUMMARY:1er Août aux Bains
DESCRIPTION:Venez toutes et tous fêter le 1er août aux Bains \n6h Aube patriotique \n8h Tournoi de Jass \n14h Pêche aux Canards \n15h Joutes de Grimpe \n16h Lancer de la Pierre des Bains
URL:https://aubp.ch/event/1er-aout-aux-bains/
CATEGORIES:Loisirs
ATTACH;FMTTYPE=image/jpeg:https://aubp.ch/wp-content/uploads/2025/07/Capture-decran-2025-07-18-a-13.05.43.jpg
END:VEVENT
BEGIN:VEVENT
DTSTART;TZID=Europe/Zurich:20250801T121500
DTEND;TZID=Europe/Zurich:20250801T131500
DTSTAMP:20260423T072053
CREATED:20250622T171740Z
LAST-MODIFIED:20260310T133502Z
UID:10011238-1754050500-1754054100@aubp.ch
SUMMARY:Cours de Sport tous niveaux
DESCRIPTION:Envie de bouger\, de respirer et de prendre soin de vous dans un cadre unique ?\nDavid vous propose des cours de sport en extérieur aux Bains des Pâquis\, accessibles à tous-tes. À travers des exercices de mobilité et de renforcement\, venez (re)découvrir les bienfaits d’une activité physique bénéfique pour le corps et pour l’esprit. \nAu programme : exercices variés\, vue imprenable sur le lac\, et motivation garantie ! \nHoraires : tous les vendredis\, de 12h15 – 13h15\nMatériel à amener : tapis de yoga. Cours ouvert à tous – offerts par les Bains – sans inscription \nCotisation: CHF 20.-  par an pour l’AUBP\nEntrée aux bains: CHF 2.-  pendant la saison chaude \nEnseignant : David Collins\, coach
URL:https://aubp.ch/event/cours-de-sport-tous-niveaux/2025-08-01/
CATEGORIES:Sport
ATTACH;FMTTYPE=image/jpeg:https://aubp.ch/wp-content/uploads/2025/06/image00002.jpeg
END:VEVENT
BEGIN:VEVENT
DTSTART;TZID=Europe/Zurich:20250801T183000
DTEND;TZID=Europe/Zurich:20250801T233000
DTSTAMP:20260423T072053
CREATED:20250731T090543Z
LAST-MODIFIED:20250731T090700Z
UID:10011769-1754073000-1754091000@aubp.ch
SUMMARY:Biggy bar
DESCRIPTION:Le collectif Lakeside Basement revient sur la jetée pour célébrer la fête nationale avec son énergie électrique. Acteurs essentiels de la culture électronique genevoise\, ils transforment chaque apparition au Biggy Bar en moment mémorable. Cette année encore\, ils sont prêts à faire trembler les Bains !\n\n\n\n17:15 – 17:45 | Chilo\n_Rap / Hip Hop_ \nChilo est un artiste complet toujours en quête de nouvelles sonorités. Trap\, boom bap\, new school\, house… il ne s’arrête pas à un seul style\, et aime tout explorer. Il chante ses rêves\, rappe ses ambitions\, et prouve sa détermination quand il est sur scène. Après ses projets Jazz club\, ou encore voiture 15\, il est maintenant prêt à défendre sa dernière mixtape “Virage” et sera présent le premier août au Biggy Bar. \n18:15 – 18:45 | La Ligne\n_Rap_ \nLe groupe La Ligne se produit pour la première fois au Biggy Bar\, mais n’est pas inconnu des Pâquis : il a déjà participé aux Aubes Musicales. Attendez-vous à un concert intense\, aux textes affûtés et à l’énergie contagieuse. \n19:00 – 21:00 | Spice & Curls\n_Afro / Ragga / Afro-électronique_ \nDJ et productrice incontournable de la scène genevoise\, Spice & Curls fera vibrer les platines avec ses rythmes Afro\, ragga et afro-électro. Ses sets éclectiques et puissants nous embarquent dans un voyage sonore à travers l’Afrique. Une soirée pour danser et se reconnecter au soleil. \n21:00 – 23:30 | Lakeside Basement\n_House – Techno_
URL:https://aubp.ch/event/biggy-bar-2/
CATEGORIES:Culture
ATTACH;FMTTYPE=image/jpeg:https://aubp.ch/wp-content/uploads/2025/07/Capture-decran-2025-07-31-110146-e1753952581363.jpg
END:VEVENT
BEGIN:VEVENT
DTSTART;TZID=Europe/Zurich:20250802T060000
DTEND;TZID=Europe/Zurich:20250802T070000
DTSTAMP:20260423T072054
CREATED:20250612T110023Z
LAST-MODIFIED:20250616T104950Z
UID:10007699-1754114400-1754118000@aubp.ch
SUMMARY:Les Aubes 2025
DESCRIPTION:Chaque matin d’été\, à l’heure où la ville dort encore\, une musique s’élève sur la jetée. Les Aubes\, c’est un festival unique où 35 concerts viennent saluer le lever du soleil\, du 14 juillet au 17 août 2025. \nDepuis bientôt vingt ans\, ce rendez-vous matinal rassemble fêtards en fin de nuit\, familles en début de journée\, curieux de passage et fidèles de toujours. Une expérience à vivre les yeux mi-clos\, l’âme grande ouverte\, entre lac\, lumière et notes suspendues. \nUne invitation à ralentir\, écouter\, et se laisser surprendre par la beauté d’un moment simple\, fragile et collectif. \n– Découvrez le programme complet de l’édition 2025 des Aubes –
URL:https://aubp.ch/event/les-aubes-2025/2025-08-02/
LOCATION:Sur la jetée
CATEGORIES:Culture
ATTACH;FMTTYPE=image/png:https://aubp.ch/wp-content/uploads/2025/06/Affiche_Aubes_2025.png
END:VEVENT
BEGIN:VEVENT
DTSTART;TZID=Europe/Zurich:20250802T091500
DTEND;TZID=Europe/Zurich:20250802T101500
DTSTAMP:20260423T072054
CREATED:20250610T061436Z
LAST-MODIFIED:20250610T061436Z
UID:10007554-1754126100-1754129700@aubp.ch
SUMMARY:Cours de Taï Chi
DESCRIPTION:Tous les dimanches aux Bains \n\nDe juin à septembre: de 9h15 à 10h15\nD’octobre à mai: de 10h à 11h\n\nEn cas de pluie ou de vent: abri côté bistrot \nCours ouvert à tous – offerts par les Bains – sans inscription \n\nCotisation: CHF 20.-  par an pour l’AUBP\nEntrée aux bains: CHF 2.-  pendant la saison chaude\n\nEnseignantes pour le Taï-chi: Laurence Bovay\, Careen Croset\, Valérie Oppel\, Marianne Schweizer \nSens de l’orientation\, éloge de la lenteur\, tonus musculaire\, respiration\, méditation\, souplesse\, mémoire\, équilibre
URL:https://aubp.ch/event/cours-de-tai-chi/2025-08-02/
LOCATION:Sur la jetée
CATEGORIES:Détente
ATTACH;FMTTYPE=image/png:https://aubp.ch/wp-content/uploads/2025/06/IMG_7282-940x705-1.png
END:VEVENT
BEGIN:VEVENT
DTSTART;TZID=Europe/Zurich:20250802T100000
DTEND;TZID=Europe/Zurich:20250802T110000
DTSTAMP:20260423T072054
CREATED:20250528T172425Z
LAST-MODIFIED:20251118T140232Z
UID:10019070-1754128800-1754132400@aubp.ch
SUMMARY:Yoga & méditation
DESCRIPTION:Avec vue sur le lac\, entre les platanes du phare une pause bien-être adaptée au rythme des saisons est proposée par Natacha et Dalia en alternance. Les séances\, bienveillantes\, régénérantes et accessibles à touxtes\, invitent à se relier avec l’état intérieur\, prendre soin de soi et se ressourcer. \nÀ travers le mouvement\, la respiration consciente et la méditation\, la pratique permet d’harmoniser l’organisme\, d’honorer le moment présent et d’augmenter son énergie vitale. Retour à la sensation\, réveil du corps\, libération du souffle\, et relaxation sont au programme avant ou après la baignade. \nTous les samedis aux Bains\nD’octobre à  avril: 10h à 11h \nDe mai à septembre: 9h à 10h
URL:https://aubp.ch/event/yoga-2/2025-08-02/
CATEGORIES:Détente
ATTACH;FMTTYPE=image/jpeg:https://aubp.ch/wp-content/uploads/2023/09/yoga-e1706468553755.jpg
END:VEVENT
BEGIN:VEVENT
DTSTART;TZID=Europe/Zurich:20250803T060000
DTEND;TZID=Europe/Zurich:20250803T070000
DTSTAMP:20260423T072054
CREATED:20250612T110023Z
LAST-MODIFIED:20250616T104950Z
UID:10007700-1754200800-1754204400@aubp.ch
SUMMARY:Les Aubes 2025
DESCRIPTION:Chaque matin d’été\, à l’heure où la ville dort encore\, une musique s’élève sur la jetée. Les Aubes\, c’est un festival unique où 35 concerts viennent saluer le lever du soleil\, du 14 juillet au 17 août 2025. \nDepuis bientôt vingt ans\, ce rendez-vous matinal rassemble fêtards en fin de nuit\, familles en début de journée\, curieux de passage et fidèles de toujours. Une expérience à vivre les yeux mi-clos\, l’âme grande ouverte\, entre lac\, lumière et notes suspendues. \nUne invitation à ralentir\, écouter\, et se laisser surprendre par la beauté d’un moment simple\, fragile et collectif. \n– Découvrez le programme complet de l’édition 2025 des Aubes –
URL:https://aubp.ch/event/les-aubes-2025/2025-08-03/
LOCATION:Sur la jetée
CATEGORIES:Culture
ATTACH;FMTTYPE=image/png:https://aubp.ch/wp-content/uploads/2025/06/Affiche_Aubes_2025.png
END:VEVENT
BEGIN:VEVENT
DTSTART;TZID=Europe/Zurich:20250803T100000
DTEND;TZID=Europe/Zurich:20250803T160000
DTSTAMP:20260423T072054
CREATED:20250711T074017Z
LAST-MODIFIED:20250711T074017Z
UID:10011761-1754215200-1754236800@aubp.ch
SUMMARY:Challenge Workout
DESCRIPTION:Rejoignez la compétition estivale Full Body Workout & Natation aux Bains des Pâquis\, Genève ! Cet événement s’adresse exclusivement aux personnes entraînées\, prêtes à relever une série d’épreuves exigeantes mêlant force\, endurance et explosivité\, suivies d’une épreuve de natation. \nInformations clés \n– Pour qui ?\nCompétition réservée aux sportifs entraînés\, en solo ou en binôme (hommes\, femmes\, binômes mixtes). \n– Inscription\nLes inscriptions se font à la Rotonde des Bains des Pâquis\, le matin de l’événement\, dans la limite des places disponibles. \n– Paiement\nLe règlement de l’inscription s’effectue sur place\, le jour même de la compétition. \n– Déroulement\n– 9h00 : Accueil et enregistrement des participants à la Rotonde\n– 10h00 : Début des épreuves (prévoir d’éventuels retards)\n– Les participants s’affrontent en duels\, sous la supervision de juges\n– Respect des standards techniques exigés pour chaque mouvement\n– Podium et remise des prix à la fin de la journée \n– Catégories & Épreuves\n– Formats : Régulier & Élite\n– Catégories : Hommes\, Femmes\, Binômes mixtes\n– Les épreuves incluent : pompes\, squats\, burpees\, tractions\, dips\, exercices au poids du corps et nage en bassin \n– Solidarité\nUne partie des fonds sera reversée à une famille dans le besoin\, soutenue par la communauté des Bains des Pâquis. \nVenez vous challenger dans un esprit convivial et solidaire !
URL:https://aubp.ch/event/challenge-workout/
CATEGORIES:Sport
ATTACH;FMTTYPE=application/pdf:https://aubp.ch/wp-content/uploads/2025/07/BDP-challenge-Workout-finale-ASV.pdf
END:VEVENT
END:VCALENDAR