BEGIN:VCALENDAR
VERSION:2.0
PRODID:-//Bains des Pâquis - ECPv6.15.20//NONSGML v1.0//EN
CALSCALE:GREGORIAN
METHOD:PUBLISH
X-ORIGINAL-URL:https://aubp.ch
X-WR-CALDESC:Évènements pour Bains des Pâquis
REFRESH-INTERVAL;VALUE=DURATION:PT1H
X-Robots-Tag:noindex
X-PUBLISHED-TTL:PT1H
BEGIN:VTIMEZONE
TZID:Europe/Zurich
BEGIN:DAYLIGHT
TZOFFSETFROM:+0100
TZOFFSETTO:+0200
TZNAME:CEST
DTSTART:20240331T010000
END:DAYLIGHT
BEGIN:STANDARD
TZOFFSETFROM:+0200
TZOFFSETTO:+0100
TZNAME:CET
DTSTART:20241027T010000
END:STANDARD
BEGIN:DAYLIGHT
TZOFFSETFROM:+0100
TZOFFSETTO:+0200
TZNAME:CEST
DTSTART:20250330T010000
END:DAYLIGHT
BEGIN:STANDARD
TZOFFSETFROM:+0200
TZOFFSETTO:+0100
TZNAME:CET
DTSTART:20251026T010000
END:STANDARD
BEGIN:DAYLIGHT
TZOFFSETFROM:+0100
TZOFFSETTO:+0200
TZNAME:CEST
DTSTART:20260329T010000
END:DAYLIGHT
BEGIN:STANDARD
TZOFFSETFROM:+0200
TZOFFSETTO:+0100
TZNAME:CET
DTSTART:20261025T010000
END:STANDARD
END:VTIMEZONE
BEGIN:VEVENT
DTSTART;TZID=Europe/Zurich:20250722T090000
DTEND;TZID=Europe/Zurich:20250828T103000
DTSTAMP:20260424T023646
CREATED:20250616T095814Z
LAST-MODIFIED:20250620T140130Z
UID:10007758-1753174800-1756377000@aubp.ch
SUMMARY:Dessins nomades
DESCRIPTION:Venez dessiner les mardis matins de l’été en groupe aux Bains avec une professionnelle! \nAu programme: \n\n22.07: Le sort est Jetée\n29.07: Ciel ma mouette !\n05.08: Couleurs de lac\n12.08: Contre vents et marées\n19.08: Profils des bains\n26.08: Lignes de fuites\n\nRendez-vous dès 8h45 devant la Rotonde \nActivité gratuite et accessible à tous\, dès 10 ans. \nEntrée aux Bains: 2.- ou 1.-AVS/Al\, Enfants \nAnimé par Delia Meyer \ninfo@dessin-nomade.ch / 078 886 92 93 \nC’est beau d’avoir l’âme occupée par l’art…
URL:https://aubp.ch/event/dessins-nomades/
CATEGORIES:Culture
ATTACH;FMTTYPE=image/png:https://aubp.ch/wp-content/uploads/2025/06/Capture-decran-2025-06-16-a-11.56.15.png
END:VEVENT
BEGIN:VEVENT
DTSTART;TZID=Europe/Zurich:20250804T060000
DTEND;TZID=Europe/Zurich:20250804T070000
DTSTAMP:20260424T023646
CREATED:20250612T110023Z
LAST-MODIFIED:20250616T104950Z
UID:10007701-1754287200-1754290800@aubp.ch
SUMMARY:Les Aubes 2025
DESCRIPTION:Chaque matin d’été\, à l’heure où la ville dort encore\, une musique s’élève sur la jetée. Les Aubes\, c’est un festival unique où 35 concerts viennent saluer le lever du soleil\, du 14 juillet au 17 août 2025. \nDepuis bientôt vingt ans\, ce rendez-vous matinal rassemble fêtards en fin de nuit\, familles en début de journée\, curieux de passage et fidèles de toujours. Une expérience à vivre les yeux mi-clos\, l’âme grande ouverte\, entre lac\, lumière et notes suspendues. \nUne invitation à ralentir\, écouter\, et se laisser surprendre par la beauté d’un moment simple\, fragile et collectif. \n– Découvrez le programme complet de l’édition 2025 des Aubes –
URL:https://aubp.ch/event/les-aubes-2025/2025-08-04/
LOCATION:Sur la jetée
CATEGORIES:Culture
ATTACH;FMTTYPE=image/png:https://aubp.ch/wp-content/uploads/2025/06/Affiche_Aubes_2025.png
END:VEVENT
BEGIN:VEVENT
DTSTART;TZID=Europe/Zurich:20250805T060000
DTEND;TZID=Europe/Zurich:20250805T070000
DTSTAMP:20260424T023646
CREATED:20250612T110023Z
LAST-MODIFIED:20250616T104950Z
UID:10007702-1754373600-1754377200@aubp.ch
SUMMARY:Les Aubes 2025
DESCRIPTION:Chaque matin d’été\, à l’heure où la ville dort encore\, une musique s’élève sur la jetée. Les Aubes\, c’est un festival unique où 35 concerts viennent saluer le lever du soleil\, du 14 juillet au 17 août 2025. \nDepuis bientôt vingt ans\, ce rendez-vous matinal rassemble fêtards en fin de nuit\, familles en début de journée\, curieux de passage et fidèles de toujours. Une expérience à vivre les yeux mi-clos\, l’âme grande ouverte\, entre lac\, lumière et notes suspendues. \nUne invitation à ralentir\, écouter\, et se laisser surprendre par la beauté d’un moment simple\, fragile et collectif. \n– Découvrez le programme complet de l’édition 2025 des Aubes –
URL:https://aubp.ch/event/les-aubes-2025/2025-08-05/
LOCATION:Sur la jetée
CATEGORIES:Culture
ATTACH;FMTTYPE=image/png:https://aubp.ch/wp-content/uploads/2025/06/Affiche_Aubes_2025.png
END:VEVENT
BEGIN:VEVENT
DTSTART;TZID=Europe/Zurich:20250806T060000
DTEND;TZID=Europe/Zurich:20250806T070000
DTSTAMP:20260424T023646
CREATED:20250612T110023Z
LAST-MODIFIED:20250616T104950Z
UID:10007703-1754460000-1754463600@aubp.ch
SUMMARY:Les Aubes 2025
DESCRIPTION:Chaque matin d’été\, à l’heure où la ville dort encore\, une musique s’élève sur la jetée. Les Aubes\, c’est un festival unique où 35 concerts viennent saluer le lever du soleil\, du 14 juillet au 17 août 2025. \nDepuis bientôt vingt ans\, ce rendez-vous matinal rassemble fêtards en fin de nuit\, familles en début de journée\, curieux de passage et fidèles de toujours. Une expérience à vivre les yeux mi-clos\, l’âme grande ouverte\, entre lac\, lumière et notes suspendues. \nUne invitation à ralentir\, écouter\, et se laisser surprendre par la beauté d’un moment simple\, fragile et collectif. \n– Découvrez le programme complet de l’édition 2025 des Aubes –
URL:https://aubp.ch/event/les-aubes-2025/2025-08-06/
LOCATION:Sur la jetée
CATEGORIES:Culture
ATTACH;FMTTYPE=image/png:https://aubp.ch/wp-content/uploads/2025/06/Affiche_Aubes_2025.png
END:VEVENT
BEGIN:VEVENT
DTSTART;TZID=Europe/Zurich:20250806T090000
DTEND;TZID=Europe/Zurich:20250806T100000
DTSTAMP:20260424T023646
CREATED:20250622T060014Z
LAST-MODIFIED:20250806T155136Z
UID:10007772-1754470800-1754474400@aubp.ch
SUMMARY:Ateliers pour enfants: Duchamp aux Bains
DESCRIPTION:Sensibiliser à la nature grâce à l’art \nCet été\, les Bains des Pâquis accueillent les Ateliers créatifs Duchamp\, une invitation à explorer la biodiversité du lac Léman et le cycle de l’eau à travers le regard d’artistes contemporain·es. Destinés aux enfants de 6 à 12 ans\, ces ateliers ludiques et gratuits éveillent la curiosité et le sens artistique tout en sensibilisant à la beauté fragile de notre environnement. \nDates : \n\n2 juillet\n4 juillet\n9 juillet\n11 juillet\n6 août\n8 août\n13 août\n15 août\n\nHoraire : 09h00 – 11h30 \nRendez-vous à la rotonde \nInscription (dans la limite des places disponibles) : contact@art-werk.ch \nUne belle occasion d’apprendre en s’amusant\, les pieds presque dans l’eau ! \nAteliers proposés en collaboration avec Art-werk
URL:https://aubp.ch/event/ateliers-pour-enfants-duchamp-aux-bains/2025-08-06/
LOCATION:Rotonde
CATEGORIES:Culture
ATTACH;FMTTYPE=image/jpeg:https://aubp.ch/wp-content/uploads/2025/06/B23_ateliers_lac_bdp_chaboche-1.jpg
END:VEVENT
BEGIN:VEVENT
DTSTART;TZID=Europe/Zurich:20250807T060000
DTEND;TZID=Europe/Zurich:20250807T070000
DTSTAMP:20260424T023646
CREATED:20250612T110023Z
LAST-MODIFIED:20250616T104950Z
UID:10007704-1754546400-1754550000@aubp.ch
SUMMARY:Les Aubes 2025
DESCRIPTION:Chaque matin d’été\, à l’heure où la ville dort encore\, une musique s’élève sur la jetée. Les Aubes\, c’est un festival unique où 35 concerts viennent saluer le lever du soleil\, du 14 juillet au 17 août 2025. \nDepuis bientôt vingt ans\, ce rendez-vous matinal rassemble fêtards en fin de nuit\, familles en début de journée\, curieux de passage et fidèles de toujours. Une expérience à vivre les yeux mi-clos\, l’âme grande ouverte\, entre lac\, lumière et notes suspendues. \nUne invitation à ralentir\, écouter\, et se laisser surprendre par la beauté d’un moment simple\, fragile et collectif. \n– Découvrez le programme complet de l’édition 2025 des Aubes –
URL:https://aubp.ch/event/les-aubes-2025/2025-08-07/
LOCATION:Sur la jetée
CATEGORIES:Culture
ATTACH;FMTTYPE=image/png:https://aubp.ch/wp-content/uploads/2025/06/Affiche_Aubes_2025.png
END:VEVENT
BEGIN:VEVENT
DTSTART;TZID=Europe/Zurich:20250808T060000
DTEND;TZID=Europe/Zurich:20250808T070000
DTSTAMP:20260424T023646
CREATED:20250612T110023Z
LAST-MODIFIED:20250616T104950Z
UID:10007705-1754632800-1754636400@aubp.ch
SUMMARY:Les Aubes 2025
DESCRIPTION:Chaque matin d’été\, à l’heure où la ville dort encore\, une musique s’élève sur la jetée. Les Aubes\, c’est un festival unique où 35 concerts viennent saluer le lever du soleil\, du 14 juillet au 17 août 2025. \nDepuis bientôt vingt ans\, ce rendez-vous matinal rassemble fêtards en fin de nuit\, familles en début de journée\, curieux de passage et fidèles de toujours. Une expérience à vivre les yeux mi-clos\, l’âme grande ouverte\, entre lac\, lumière et notes suspendues. \nUne invitation à ralentir\, écouter\, et se laisser surprendre par la beauté d’un moment simple\, fragile et collectif. \n– Découvrez le programme complet de l’édition 2025 des Aubes –
URL:https://aubp.ch/event/les-aubes-2025/2025-08-08/
LOCATION:Sur la jetée
CATEGORIES:Culture
ATTACH;FMTTYPE=image/png:https://aubp.ch/wp-content/uploads/2025/06/Affiche_Aubes_2025.png
END:VEVENT
BEGIN:VEVENT
DTSTART;TZID=Europe/Zurich:20250808T090000
DTEND;TZID=Europe/Zurich:20250808T113000
DTSTAMP:20260424T023646
CREATED:20250622T060014Z
LAST-MODIFIED:20250806T155136Z
UID:10007773-1754643600-1754652600@aubp.ch
SUMMARY:Ateliers pour enfants: Duchamp aux Bains
DESCRIPTION:Sensibiliser à la nature grâce à l’art \nCet été\, les Bains des Pâquis accueillent les Ateliers créatifs Duchamp\, une invitation à explorer la biodiversité du lac Léman et le cycle de l’eau à travers le regard d’artistes contemporain·es. Destinés aux enfants de 6 à 12 ans\, ces ateliers ludiques et gratuits éveillent la curiosité et le sens artistique tout en sensibilisant à la beauté fragile de notre environnement. \nDates : \n\n2 juillet\n4 juillet\n9 juillet\n11 juillet\n6 août\n8 août\n13 août\n15 août\n\nHoraire : 09h00 – 11h30 \nRendez-vous à la rotonde \nInscription (dans la limite des places disponibles) : contact@art-werk.ch \nUne belle occasion d’apprendre en s’amusant\, les pieds presque dans l’eau ! \nAteliers proposés en collaboration avec Art-werk
URL:https://aubp.ch/event/ateliers-pour-enfants-duchamp-aux-bains/2025-08-08/
LOCATION:Rotonde
CATEGORIES:Culture
ATTACH;FMTTYPE=image/jpeg:https://aubp.ch/wp-content/uploads/2025/06/B23_ateliers_lac_bdp_chaboche-1.jpg
END:VEVENT
BEGIN:VEVENT
DTSTART;TZID=Europe/Zurich:20250808T121500
DTEND;TZID=Europe/Zurich:20250808T131500
DTSTAMP:20260424T023646
CREATED:20250622T171740Z
LAST-MODIFIED:20260310T133502Z
UID:10011239-1754655300-1754658900@aubp.ch
SUMMARY:Cours de Sport tous niveaux
DESCRIPTION:Envie de bouger\, de respirer et de prendre soin de vous dans un cadre unique ?\nDavid vous propose des cours de sport en extérieur aux Bains des Pâquis\, accessibles à tous-tes. À travers des exercices de mobilité et de renforcement\, venez (re)découvrir les bienfaits d’une activité physique bénéfique pour le corps et pour l’esprit. \nAu programme : exercices variés\, vue imprenable sur le lac\, et motivation garantie ! \nHoraires : tous les vendredis\, de 12h15 – 13h15\nMatériel à amener : tapis de yoga. Cours ouvert à tous – offerts par les Bains – sans inscription \nCotisation: CHF 20.-  par an pour l’AUBP\nEntrée aux bains: CHF 2.-  pendant la saison chaude \nEnseignant : David Collins\, coach
URL:https://aubp.ch/event/cours-de-sport-tous-niveaux/2025-08-08/
CATEGORIES:Sport
ATTACH;FMTTYPE=image/jpeg:https://aubp.ch/wp-content/uploads/2025/06/image00002.jpeg
END:VEVENT
BEGIN:VEVENT
DTSTART;TZID=Europe/Zurich:20250809T060000
DTEND;TZID=Europe/Zurich:20250809T070000
DTSTAMP:20260424T023646
CREATED:20250612T110023Z
LAST-MODIFIED:20250616T104950Z
UID:10007706-1754719200-1754722800@aubp.ch
SUMMARY:Les Aubes 2025
DESCRIPTION:Chaque matin d’été\, à l’heure où la ville dort encore\, une musique s’élève sur la jetée. Les Aubes\, c’est un festival unique où 35 concerts viennent saluer le lever du soleil\, du 14 juillet au 17 août 2025. \nDepuis bientôt vingt ans\, ce rendez-vous matinal rassemble fêtards en fin de nuit\, familles en début de journée\, curieux de passage et fidèles de toujours. Une expérience à vivre les yeux mi-clos\, l’âme grande ouverte\, entre lac\, lumière et notes suspendues. \nUne invitation à ralentir\, écouter\, et se laisser surprendre par la beauté d’un moment simple\, fragile et collectif. \n– Découvrez le programme complet de l’édition 2025 des Aubes –
URL:https://aubp.ch/event/les-aubes-2025/2025-08-09/
LOCATION:Sur la jetée
CATEGORIES:Culture
ATTACH;FMTTYPE=image/png:https://aubp.ch/wp-content/uploads/2025/06/Affiche_Aubes_2025.png
END:VEVENT
BEGIN:VEVENT
DTSTART;TZID=Europe/Zurich:20250809T091500
DTEND;TZID=Europe/Zurich:20250809T101500
DTSTAMP:20260424T023646
CREATED:20250610T061436Z
LAST-MODIFIED:20250610T061436Z
UID:10007555-1754730900-1754734500@aubp.ch
SUMMARY:Cours de Taï Chi
DESCRIPTION:Tous les dimanches aux Bains \n\nDe juin à septembre: de 9h15 à 10h15\nD’octobre à mai: de 10h à 11h\n\nEn cas de pluie ou de vent: abri côté bistrot \nCours ouvert à tous – offerts par les Bains – sans inscription \n\nCotisation: CHF 20.-  par an pour l’AUBP\nEntrée aux bains: CHF 2.-  pendant la saison chaude\n\nEnseignantes pour le Taï-chi: Laurence Bovay\, Careen Croset\, Valérie Oppel\, Marianne Schweizer \nSens de l’orientation\, éloge de la lenteur\, tonus musculaire\, respiration\, méditation\, souplesse\, mémoire\, équilibre
URL:https://aubp.ch/event/cours-de-tai-chi/2025-08-09/
LOCATION:Sur la jetée
CATEGORIES:Détente
ATTACH;FMTTYPE=image/png:https://aubp.ch/wp-content/uploads/2025/06/IMG_7282-940x705-1.png
END:VEVENT
BEGIN:VEVENT
DTSTART;TZID=Europe/Zurich:20250809T100000
DTEND;TZID=Europe/Zurich:20250809T110000
DTSTAMP:20260424T023646
CREATED:20250528T172425Z
LAST-MODIFIED:20251118T140232Z
UID:10019071-1754733600-1754737200@aubp.ch
SUMMARY:Yoga & méditation
DESCRIPTION:Avec vue sur le lac\, entre les platanes du phare une pause bien-être adaptée au rythme des saisons est proposée par Natacha et Dalia en alternance. Les séances\, bienveillantes\, régénérantes et accessibles à touxtes\, invitent à se relier avec l’état intérieur\, prendre soin de soi et se ressourcer. \nÀ travers le mouvement\, la respiration consciente et la méditation\, la pratique permet d’harmoniser l’organisme\, d’honorer le moment présent et d’augmenter son énergie vitale. Retour à la sensation\, réveil du corps\, libération du souffle\, et relaxation sont au programme avant ou après la baignade. \nTous les samedis aux Bains\nD’octobre à  avril: 10h à 11h \nDe mai à septembre: 9h à 10h
URL:https://aubp.ch/event/yoga-2/2025-08-09/
CATEGORIES:Détente
ATTACH;FMTTYPE=image/jpeg:https://aubp.ch/wp-content/uploads/2023/09/yoga-e1706468553755.jpg
END:VEVENT
BEGIN:VEVENT
DTSTART;TZID=Europe/Zurich:20250809T140000
DTEND;TZID=Europe/Zurich:20250809T180000
DTSTAMP:20260424T023646
CREATED:20250711T072716Z
LAST-MODIFIED:20250716T093740Z
UID:10011757-1754748000-1754762400@aubp.ch
SUMMARY:Grand tournoi de Backgammon
DESCRIPTION:Quel pied ! Jouer au backgammon dans un endroit idyllique comme les bains avec d’autres passionnés. \nTournoi convivial de backgammon ouvert à tous les niveaux\, organisé par l’AUBP en partenariat avec l’AGB (Association Genevoise de Backgammon). \nOn vous attend nombreux afin de passer un bon moment de détente\, de perfectionnement de son jeu ou afin de défier des joueurs déjà aguerris. Des prix sympas sont prévus pour les gagnants ! Faites chauffer vos dés ! \nCommunication importante !!! : Veuillez venir équipés de vos boards de backgammon. Car l’année passée nous étions 84 joueurs. \n 
URL:https://aubp.ch/event/grand-tournoi-de-backgammon/
CATEGORIES:Loisirs
ATTACH;FMTTYPE=image/jpeg:https://aubp.ch/wp-content/uploads/2025/07/Backgammon-e1752658648630.jpg
END:VEVENT
BEGIN:VEVENT
DTSTART;TZID=Europe/Zurich:20250810T060000
DTEND;TZID=Europe/Zurich:20250810T070000
DTSTAMP:20260424T023646
CREATED:20250612T110023Z
LAST-MODIFIED:20250616T104950Z
UID:10007707-1754805600-1754809200@aubp.ch
SUMMARY:Les Aubes 2025
DESCRIPTION:Chaque matin d’été\, à l’heure où la ville dort encore\, une musique s’élève sur la jetée. Les Aubes\, c’est un festival unique où 35 concerts viennent saluer le lever du soleil\, du 14 juillet au 17 août 2025. \nDepuis bientôt vingt ans\, ce rendez-vous matinal rassemble fêtards en fin de nuit\, familles en début de journée\, curieux de passage et fidèles de toujours. Une expérience à vivre les yeux mi-clos\, l’âme grande ouverte\, entre lac\, lumière et notes suspendues. \nUne invitation à ralentir\, écouter\, et se laisser surprendre par la beauté d’un moment simple\, fragile et collectif. \n– Découvrez le programme complet de l’édition 2025 des Aubes –
URL:https://aubp.ch/event/les-aubes-2025/2025-08-10/
LOCATION:Sur la jetée
CATEGORIES:Culture
ATTACH;FMTTYPE=image/png:https://aubp.ch/wp-content/uploads/2025/06/Affiche_Aubes_2025.png
END:VEVENT
END:VCALENDAR