BEGIN:VCALENDAR
VERSION:2.0
PRODID:-//Bains des Pâquis - ECPv6.15.20//NONSGML v1.0//EN
CALSCALE:GREGORIAN
METHOD:PUBLISH
X-WR-CALNAME:Bains des Pâquis
X-ORIGINAL-URL:https://aubp.ch
X-WR-CALDESC:Évènements pour Bains des Pâquis
REFRESH-INTERVAL;VALUE=DURATION:PT1H
X-Robots-Tag:noindex
X-PUBLISHED-TTL:PT1H
BEGIN:VTIMEZONE
TZID:Europe/Zurich
BEGIN:DAYLIGHT
TZOFFSETFROM:+0100
TZOFFSETTO:+0200
TZNAME:CEST
DTSTART:20250330T010000
END:DAYLIGHT
BEGIN:STANDARD
TZOFFSETFROM:+0200
TZOFFSETTO:+0100
TZNAME:CET
DTSTART:20251026T010000
END:STANDARD
BEGIN:DAYLIGHT
TZOFFSETFROM:+0100
TZOFFSETTO:+0200
TZNAME:CEST
DTSTART:20260329T010000
END:DAYLIGHT
BEGIN:STANDARD
TZOFFSETFROM:+0200
TZOFFSETTO:+0100
TZNAME:CET
DTSTART:20261025T010000
END:STANDARD
BEGIN:DAYLIGHT
TZOFFSETFROM:+0100
TZOFFSETTO:+0200
TZNAME:CEST
DTSTART:20270328T010000
END:DAYLIGHT
BEGIN:STANDARD
TZOFFSETFROM:+0200
TZOFFSETTO:+0100
TZNAME:CET
DTSTART:20271031T010000
END:STANDARD
END:VTIMEZONE
BEGIN:VEVENT
DTSTART;TZID=Europe/Zurich:20260430T153000
DTEND;TZID=Europe/Zurich:20261025T183000
DTSTAMP:20260421T104404
CREATED:20260401T172149Z
LAST-MODIFIED:20260416T153530Z
UID:10028000-1777563000-1792953000@aubp.ch
SUMMARY:Viens t'asseoir je t'écoute
DESCRIPTION:Viens t’asseoir\, je t’écoute est de retour aux Bains des Pâquis pour la saison 2026. \nVenez vous asseoir face à une ou un inconnu\, raconter vos rêves ou vos coups de gueule\, parler de la pluie et du beau temps… \nNos bénévoles seront ravis de vous offrir une écoute confidentielle\, bienveillante et gratuite ! \nHâte de vous retrouver! \nLes dates à venir\, de 15h30 à 18h30 : \n\nJeudi 16 avril\nMardi 28 avril\nMardi 12 mai\nJeudi 28 mai\nDimanche 28 juin\nDimanche 26 Juillet\nDimanche 9 Août\nDimanche 27 Septembre\nDimanche 11 Octobre\n\nhttps://www.jetecoute.org/geneve
URL:https://aubp.ch/event/viens-tasseoir-je-tecoute-7-2/2026-04-30/
LOCATION:Sur la jetée
CATEGORIES:Annonces
ATTACH;FMTTYPE=image/jpeg:https://aubp.ch/wp-content/uploads/2026/01/WhatsApp-Image-2026-01-15-at-12.45.45.jpeg
END:VEVENT
BEGIN:VEVENT
DTSTART;TZID=Europe/Zurich:20260605T110000
DTEND;TZID=Europe/Zurich:20260811T200000
DTSTAMP:20260421T104404
CREATED:20260421T072239Z
LAST-MODIFIED:20260421T072239Z
UID:10028006-1780657200-1786478400@aubp.ch
SUMMARY:Exposition : les Ecritures de la rivière
DESCRIPTION:Le Musée de Carouge et les Bains des Pâquis proposent\, à l’été 2026\, un double rendez-vous autour de l’Arve et du regard sensible que lui porte l’artiste Éric Alibert. \nAu Musée de Carouge\, l’exposition Les écritures de la rivière invite à une immersion poétique dans l’univers de l’artiste franco-suisse. À travers des œuvres à l’encre de Chine et à l’aquarelle\, Éric Alibert explore la richesse discrète des rives de l’Arve\, observant avec attention la faune\, les rythmes et les formes du vivant. Son travail\, à la frontière entre figuration et abstraction\, propose une véritable « écriture » de la nature\, où chaque trait traduit une relation intime entre l’humain et son environnement. \nEn écho\, les Bains des Pâquis accueillent l’exposition Les Écritures de la rivière. Carouge et l’Arve du 5 juin au 11 août 2026. À travers une série de panneaux thématiques\, cette présentation propose une lecture historique et documentaire de la rivière : ses usages\, ses métiers\, ses aménagements\, ainsi que la richesse de sa faune et de sa flore. Des pièces issues des collections du Musée de Carouge viennent ponctuer ce parcours en plein air. \nDeux expositions complémentaires\, entre art et histoire\, pour redécouvrir l’Arve comme un paysage vivant et une source d’inspiration.
URL:https://aubp.ch/event/exposition-les-ecritures-de-la-riviere/
CATEGORIES:Exposition
ATTACH;FMTTYPE=image/jpeg:https://aubp.ch/wp-content/uploads/2026/04/Capture-decran-2026-04-21-a-09.19.14.jpg
END:VEVENT
BEGIN:VEVENT
DTSTART;TZID=Europe/Zurich:20260803T123000
DTEND;TZID=Europe/Zurich:20260803T133000
DTSTAMP:20260421T104404
CREATED:20250904T114315Z
LAST-MODIFIED:20251209T120148Z
UID:10015513-1785760200-1785763800@aubp.ch
SUMMARY:Cours de natation en eau froide
DESCRIPTION:Vous souhaitez commencer la nage en eau froide et rejoindre un mouvement de plusieurs centaines de personnes qui se baignent tout l’hiver aux Bains? Vous souhaitez profiter des nombreux bienfaits de la nage en eau froide (défenses immunitaires\, bien-être mental\, etc.)? \nDès le 1er septembre\, les Bains vous proposent des cours tous les lundis entre 12h30 et 13h30 par groupes de 8 au maximum pour vous donner toutes les clés pour vous lancer. \nCe cours s’adresse aux nageuses et nageurs intermédiaires et confirmé-es (on ne vous apprend pas à nager pendant le cours). \nInscriptions à la Rotonde des Bains\, CHF 10 par cours.
URL:https://aubp.ch/event/cours-de-natation-en-eau-froide-3/2026-08-03/
LOCATION:Sur la jetée
CATEGORIES:Nage
ATTACH;FMTTYPE=image/jpeg:https://aubp.ch/wp-content/uploads/2024/10/cours_natation.jpg
END:VEVENT
BEGIN:VEVENT
DTSTART;TZID=Europe/Zurich:20260807T121500
DTEND;TZID=Europe/Zurich:20260807T131500
DTSTAMP:20260421T104404
CREATED:20250622T171740Z
LAST-MODIFIED:20260310T133502Z
UID:10011291-1786104900-1786108500@aubp.ch
SUMMARY:Cours de Sport tous niveaux
DESCRIPTION:Envie de bouger\, de respirer et de prendre soin de vous dans un cadre unique ?\nDavid vous propose des cours de sport en extérieur aux Bains des Pâquis\, accessibles à tous-tes. À travers des exercices de mobilité et de renforcement\, venez (re)découvrir les bienfaits d’une activité physique bénéfique pour le corps et pour l’esprit. \nAu programme : exercices variés\, vue imprenable sur le lac\, et motivation garantie ! \nHoraires : tous les vendredis\, de 12h15 – 13h15\nMatériel à amener : tapis de yoga. Cours ouvert à tous – offerts par les Bains – sans inscription \nCotisation: CHF 20.-  par an pour l’AUBP\nEntrée aux bains: CHF 2.-  pendant la saison chaude \nEnseignant : David Collins\, coach
URL:https://aubp.ch/event/cours-de-sport-tous-niveaux/2026-08-07/
CATEGORIES:Sport
ATTACH;FMTTYPE=image/jpeg:https://aubp.ch/wp-content/uploads/2025/06/image00002.jpeg
END:VEVENT
BEGIN:VEVENT
DTSTART;TZID=Europe/Zurich:20260808T100000
DTEND;TZID=Europe/Zurich:20260808T110000
DTSTAMP:20260421T104404
CREATED:20250528T172425Z
LAST-MODIFIED:20251118T140232Z
UID:10019123-1786183200-1786186800@aubp.ch
SUMMARY:Yoga & méditation
DESCRIPTION:Avec vue sur le lac\, entre les platanes du phare une pause bien-être adaptée au rythme des saisons est proposée par Natacha et Dalia en alternance. Les séances\, bienveillantes\, régénérantes et accessibles à touxtes\, invitent à se relier avec l’état intérieur\, prendre soin de soi et se ressourcer. \nÀ travers le mouvement\, la respiration consciente et la méditation\, la pratique permet d’harmoniser l’organisme\, d’honorer le moment présent et d’augmenter son énergie vitale. Retour à la sensation\, réveil du corps\, libération du souffle\, et relaxation sont au programme avant ou après la baignade. \nTous les samedis aux Bains\nD’octobre à  avril: 10h à 11h \nDe mai à septembre: 9h à 10h
URL:https://aubp.ch/event/yoga-2/2026-08-08/
CATEGORIES:Détente
ATTACH;FMTTYPE=image/jpeg:https://aubp.ch/wp-content/uploads/2023/09/yoga-e1706468553755.jpg
END:VEVENT
BEGIN:VEVENT
DTSTART;TZID=Europe/Zurich:20260809T100000
DTEND;TZID=Europe/Zurich:20260809T110000
DTSTAMP:20260421T104404
CREATED:20250816T115202Z
LAST-MODIFIED:20251006T082755Z
UID:10019900-1786269600-1786273200@aubp.ch
SUMMARY:Taï Chi
DESCRIPTION:Tous les dimanches aux Bains \n\nDe juin à septembre: de 9h15 à 10h15\nD’octobre à mai: de 10h à 11h\n\nEn cas de pluie ou de vent: abri côté bistrot \nCours ouvert à tous – offerts par les Bains – sans inscription \n\nCotisation: CHF 20.-  par an pour l’AUBP\nEntrée aux bains: CHF 2.-  pendant la saison chaude\n\nEnseignantes pour le Taï-chi: Laurence Bovay\, Careen Croset\, Valérie Oppel\, Marianne Schweizer \nSens de l’orientation\, éloge de la lenteur\, tonus musculaire\, respiration\, méditation\, souplesse\, mémoire\, équilibre
URL:https://aubp.ch/event/cours-de-tai-chi-2/2026-08-09/
LOCATION:Sur la jetée
CATEGORIES:Détente
ATTACH;FMTTYPE=image/png:https://aubp.ch/wp-content/uploads/2025/06/IMG_7282-940x705-1.png
END:VEVENT
BEGIN:VEVENT
DTSTART;TZID=Europe/Zurich:20260809T153000
DTEND;TZID=Europe/Zurich:20260809T183000
DTSTAMP:20260421T104404
CREATED:20260401T172149Z
LAST-MODIFIED:20260416T153530Z
UID:10027990-1786289400-1786300200@aubp.ch
SUMMARY:Viens t'asseoir je t'écoute
DESCRIPTION:Viens t’asseoir\, je t’écoute est de retour aux Bains des Pâquis pour la saison 2026. \nVenez vous asseoir face à une ou un inconnu\, raconter vos rêves ou vos coups de gueule\, parler de la pluie et du beau temps… \nNos bénévoles seront ravis de vous offrir une écoute confidentielle\, bienveillante et gratuite ! \nHâte de vous retrouver! \nLes dates à venir\, de 15h30 à 18h30 : \n\nJeudi 16 avril\nMardi 28 avril\nMardi 12 mai\nJeudi 28 mai\nDimanche 28 juin\nDimanche 26 Juillet\nDimanche 9 Août\nDimanche 27 Septembre\nDimanche 11 Octobre\n\nhttps://www.jetecoute.org/geneve
URL:https://aubp.ch/event/viens-tasseoir-je-tecoute-7-2/2026-08-09/
LOCATION:Sur la jetée
CATEGORIES:Annonces
ATTACH;FMTTYPE=image/jpeg:https://aubp.ch/wp-content/uploads/2026/01/WhatsApp-Image-2026-01-15-at-12.45.45.jpeg
END:VEVENT
END:VCALENDAR