BEGIN:VCALENDAR
VERSION:2.0
PRODID:-//Bains des Pâquis - ECPv6.15.20//NONSGML v1.0//EN
CALSCALE:GREGORIAN
METHOD:PUBLISH
X-ORIGINAL-URL:https://aubp.ch
X-WR-CALDESC:Évènements pour Bains des Pâquis
REFRESH-INTERVAL;VALUE=DURATION:PT1H
X-Robots-Tag:noindex
X-PUBLISHED-TTL:PT1H
BEGIN:VTIMEZONE
TZID:Europe/Zurich
BEGIN:DAYLIGHT
TZOFFSETFROM:+0100
TZOFFSETTO:+0200
TZNAME:CEST
DTSTART:20250330T010000
END:DAYLIGHT
BEGIN:STANDARD
TZOFFSETFROM:+0200
TZOFFSETTO:+0100
TZNAME:CET
DTSTART:20251026T010000
END:STANDARD
BEGIN:DAYLIGHT
TZOFFSETFROM:+0100
TZOFFSETTO:+0200
TZNAME:CEST
DTSTART:20260329T010000
END:DAYLIGHT
BEGIN:STANDARD
TZOFFSETFROM:+0200
TZOFFSETTO:+0100
TZNAME:CET
DTSTART:20261025T010000
END:STANDARD
BEGIN:DAYLIGHT
TZOFFSETFROM:+0100
TZOFFSETTO:+0200
TZNAME:CEST
DTSTART:20270328T010000
END:DAYLIGHT
BEGIN:STANDARD
TZOFFSETFROM:+0200
TZOFFSETTO:+0100
TZNAME:CET
DTSTART:20271031T010000
END:STANDARD
END:VTIMEZONE
BEGIN:VEVENT
DTSTART;VALUE=DATE:20260418
DTEND;VALUE=DATE:20260527
DTSTAMP:20260422T014359
CREATED:20260327T174859Z
LAST-MODIFIED:20260408T123441Z
UID:10027968-1776470400-1779839999@aubp.ch
SUMMARY:Expo fête de la danse
DESCRIPTION:La Fête de la Danse Genève célèbre ses 20 ans ! A cette occasion\, nous vous invitons à remonter le temps à travers une exposition photos\, qui prendra ses quartiers aux Bains des Pâquis\, du 18 avril au 26 mai 2026. \n\n\nIntitulée « La danse fait la fête dans les rues de Genève depuis 20 ans »\, cette exposition rétrospective présente 240 photographies\, en grand et petit formats. Ces images fortes racontent la magie de la Fête de la Danse Genève\, qui a su\, au fil des ans\, saupoudrer de paillettes la vie quotidienne de la population. Nombre de ces instants inoubliables se tiennent aux Bains des Pâquis! \n\n\nDes spectacles dans la rue\, des initiations à la Maison des Arts du Grütli\, un bal dans une cour… Au mois de mai\, chaque année\, la danse se glisse partout\, amenant sa poésie\, ses revendications et son art de relier les gens. \n\n\nLa fête a été créée par Reso (une faîtière de la danse en Suisse). Elle a pour objectif de célébrer la danse sous toutes ses formes. Avec vous et pour vous! \n\n\n A Genève\, la fête est cantonale\, égrainant ses 200 activités sur les deux rives du Rhône. Plongez dans cette aventure hors normes en baladant votre regard. Laissez-vous porter par cette grande fête collective qui fait danser Genève! \n\n\nL’exposition sera vernie en grandes pompes\, en présence des photographes\, le jour de la soirée d’inauguration de la 20e Fête de la Danse Genève\, le jeudi 7 mai. Mais n’hésitez pas à découvrir cette exposition dès le 18 avril. \nPhotographie : Tod auf dem Boot\, Cie Vloeistof\, Bains des Pâquis\, 2015 ©David Bourgeade
URL:https://aubp.ch/event/fete-de-la-danse-2/
CATEGORIES:Culture
ATTACH;FMTTYPE=image/jpeg:https://aubp.ch/wp-content/uploads/2026/03/c_15.05.07-fete-de-la-danse-0363-David-Bourgeade.jpeg
END:VEVENT
BEGIN:VEVENT
DTSTART;TZID=Europe/Zurich:20260418T110000
DTEND;TZID=Europe/Zurich:20260418T120000
DTSTAMP:20260422T014359
CREATED:20260316T142848Z
LAST-MODIFIED:20260323T084642Z
UID:10027964-1776510000-1776513600@aubp.ch
SUMMARY:Apéro poétique
DESCRIPTION:Le samedi 18 avril\, dans le cadre du projet DIAL A POEM\, Julien Maret est l’invité des Bains des Pâquis. \nA l’occasion des Apéros Poétiques\, l’auteur lira un texte inédit\, écrit spécialement pour cette invitation des Bains. \nJulien Maret\, vit et travaille à Genève.\nPar le passé\, il a animé après les avoir créées les revues «L’Ablate» et «Coma». Il collabore régulièrement dans de nombreuses autres revues. Deux livres de lui sont parus aux éditions José Corti : Rengaine\, 2011 et Ameublement\, 2014. 
URL:https://aubp.ch/event/apero-poetique-31/
CATEGORIES:Poésie
ATTACH;FMTTYPE=image/jpeg:https://aubp.ch/wp-content/uploads/2026/03/tete_Maret.jpg
END:VEVENT
BEGIN:VEVENT
DTSTART;TZID=Europe/Zurich:20260425T110000
DTEND;TZID=Europe/Zurich:20260425T120000
DTSTAMP:20260422T014359
CREATED:20260420T140029Z
LAST-MODIFIED:20260420T140029Z
UID:10028002-1777114800-1777118400@aubp.ch
SUMMARY:Apéro poétique
DESCRIPTION:lecture de Fanny Briand et Philippe Constantin ce samedi à 11 heures dans la yourte. \nNée à l’automne 1980\, c’est dans les grands espaces de la campagne genevoise que Fanny pose ses premiers regards\, face au Jura. Plus tard\, elle tâtera d’abord l’art en général à l’ESBA\, rêvera de voyage et de montagne\, avant de se former à l’architecture du paysage. C’est dans un bureau d’architectes qu’elle aiguise sa sensibilité au monde ; grande échelle\, petite échelle\, espace public ou privé\, rural ou urbain\, elle aborde le paysage sous différentes coutures\, toujours spatiales. Depuis quelques années\, elle est revenue à ce qui ne l’avait\, en fait\, jamais vraiment quittée ; le dessin et l’écriture. Elle cherche\, dans le trait et dans les mots\, les micros fissures où nos racines s’implantent. \nElle co-fonde l’association “Poésie ambulante” (www.poesieambulante.com) en 2017 et rejoint le comité de rédaction du Journal des Bains la même année. Elle partage actuellement son temps entre sa charge d’enseignement à l’Hepia et des projets créatifs\, personnels ou collaboratifs.
URL:https://aubp.ch/event/apero-poetique-33/
CATEGORIES:Poésie
ATTACH;FMTTYPE=image/avif:https://aubp.ch/wp-content/uploads/2026/04/6078d6_be5e7951ff5f4fe3b0212b4cb9242e85mv2.jpg.avif
END:VEVENT
BEGIN:VEVENT
DTSTART;TZID=Europe/Zurich:20260430T193000
DTEND;TZID=Europe/Zurich:20260430T203000
DTSTAMP:20260422T014359
CREATED:20260402T142148Z
LAST-MODIFIED:20260408T124117Z
UID:10027973-1777577400-1777581000@aubp.ch
SUMMARY:Impro clown
DESCRIPTION:Quatre clowns\, une MC et une bonne dose d’imprévu : préparez-vous à plonger dans un bain d’émotions… et de fous rires !\nRendez-vous jeudi 30 avril de 19h30 à 20h30 aux Bains des Pâquis pour une heure d’Impro Clown aussi déjantée que poétique. Sur scène\, 4 clowns survoltés et une maîtresse de cérémonie aux commandes orchestrent un joyeux chaos\, entre improvisation\, surprises et éclats de rire.\nDans l’ambiance chaleureuse de la yourte\, cette dernière représentation de la saison 2025/2026 promet une avalanche de clowneries\, de tendresse et de moments suspendus. Ici on vient se faire chatouilller les zygomatiques… et repartir l’esprit léger !\nUn spectacle unique pour décrocher du quotidien et se laisser emporter par une explosion de joie.
URL:https://aubp.ch/event/impro-clown-3/
CATEGORIES:Culture
ATTACH;FMTTYPE=image/jpeg:https://aubp.ch/wp-content/uploads/2025/10/Capture-decran-2025-10-22-a-17.28.35.jpg
END:VEVENT
BEGIN:VEVENT
DTSTART;VALUE=DATE:20260507
DTEND;VALUE=DATE:20260511
DTSTAMP:20260422T014359
CREATED:20260327T175226Z
LAST-MODIFIED:20260331T191754Z
UID:10027969-1778112000-1778457599@aubp.ch
SUMMARY:Fête de la danse
DESCRIPTION:La Fête de la Danse Genève célèbre sa 20e édition du 6 au 10 mai 2026 ! Mis à l’honneur\, les Bains des Pâquis accueillent la soirée d’inauguration\, une exposition rétrospective\, deux spectacles nationaux et bien d’autres délices. Welcome ! \nLa soirée d’inauguration aura lieu le jeudi 7 mai. Elle débutera avec le vernissage de l’exposition de photographies et sera suivie du spectacle JINX 103\, qui avait marqué la Fête de la Danse il y a 15 ans. Avec ce spectacle\, les danseurs genevois Jozsef Trefeli et Gabor Varga s’appuient sur leur héritage folklorique hongrois pour proposer une écriture rythmée mêlant percussions corporelles et mouvements rapides. \nLa soirée se poursuivra avec un DJ set de Ubuntu Live\, pour une ambiance afrobeat vibrante et festive — idéale pour se déhancher et célébrer ensemble! \nLe dimanche 10 mai\, la semaine se clôturera en beauté avec des cours de tai-chi et d’afrodanse\, ponctués par deux spectacles en tournée nationale dans le cadre de la Fête de la Danse. Avec Le Cycle\, la Compagnie Kane explore le lien entre croissance\, déclin et renouveau dans la nature. Puissance garantie! \nAvec OUVERTURE\, Géraldine Chollet s’inspire du théâtre des mystères médiéval\, mêlant sacré et profane. Le public\, formant un cercle\, devient acteur du rituel : les performeur·se·s dansent au centre\, rejoignent parfois la procession\, puis y retournent\, créant un tourbillon collectif. \nCette édition anniversaire de la Fête de la Danse se savoure dans 9 communes\, avec un programme fun et détonnant\, regroupant 200 activités. Spectacles\, soirées\, initiations… Quel que soit votre âge et votre style\, venez célébrer la danse avec nous!
URL:https://aubp.ch/event/fete-de-la-danse-3/
CATEGORIES:Culture
ATTACH;FMTTYPE=image/jpeg:https://aubp.ch/wp-content/uploads/2026/03/270326_FDD.jpg
END:VEVENT
BEGIN:VEVENT
DTSTART;TZID=Europe/Zurich:20260509T110000
DTEND;TZID=Europe/Zurich:20260509T120000
DTSTAMP:20260422T014359
CREATED:20260416T145207Z
LAST-MODIFIED:20260416T145207Z
UID:10027980-1778324400-1778328000@aubp.ch
SUMMARY:Apéro poétique
DESCRIPTION:Apéro poétique avec Fabienne Radi \nFabienne Radi écrit (essais\, fictions\, poèmes)\, fait des éditions d’artiste (livres\, affiches\, disque) et enseigne à la Haute école d’art et de design (HEAD Genève) en arts visuels. Sa première formation en géologie lui a apporté l’amour des couches\, sa brève incursion dans la bibliothéconomie a suscité un engouement pour les classements\, ses études en art sur le tard ont transformé son regard sur les objets du quotidien. Les titres\, les plis\, les malentendus\, les coupes de cheveux\, les dentistes\, Shelley Duvall et Paul Newman sont des motifs récurrents dans son travail. Elle est née à Fribourg\, vit à Genève\, se rend régulièrement en Gruyère.
URL:https://aubp.ch/event/apero-poetique-32/
CATEGORIES:Poésie
ATTACH;FMTTYPE=image/jpeg:https://aubp.ch/wp-content/uploads/2026/04/FAB.MITAINE.OK-credit-Julien-Chavaillaz-2022-copie-2-1-e1666170299909.jpg
END:VEVENT
BEGIN:VEVENT
DTSTART;TZID=Europe/Zurich:20260512T110000
DTEND;TZID=Europe/Zurich:20260626T200000
DTSTAMP:20260422T014359
CREATED:20260420T141514Z
LAST-MODIFIED:20260420T141514Z
UID:10028004-1778583600-1782504000@aubp.ch
SUMMARY:Exposition Ella Maillart et le Léman
DESCRIPTION:Vernissage le 12 mai à 11 heures \nUne exposition qui retrace l’Odyssée lémanique d’Ella Maillart et Hermine de Saussure
URL:https://aubp.ch/event/exposition-ella-maillart-et-le-leman/
CATEGORIES:Exposition
ATTACH;FMTTYPE=image/jpeg:https://aubp.ch/wp-content/uploads/2026/04/Affiche-BDP-EM-copie.jpg
END:VEVENT
BEGIN:VEVENT
DTSTART;TZID=Europe/Zurich:20260605T110000
DTEND;TZID=Europe/Zurich:20260811T200000
DTSTAMP:20260422T014359
CREATED:20260421T072239Z
LAST-MODIFIED:20260421T072239Z
UID:10028006-1780657200-1786478400@aubp.ch
SUMMARY:Exposition : les Ecritures de la rivière
DESCRIPTION:Le Musée de Carouge et les Bains des Pâquis proposent\, à l’été 2026\, un double rendez-vous autour de l’Arve et du regard sensible que lui porte l’artiste Éric Alibert. \nAu Musée de Carouge\, l’exposition Les écritures de la rivière invite à une immersion poétique dans l’univers de l’artiste franco-suisse. À travers des œuvres à l’encre de Chine et à l’aquarelle\, Éric Alibert explore la richesse discrète des rives de l’Arve\, observant avec attention la faune\, les rythmes et les formes du vivant. Son travail\, à la frontière entre figuration et abstraction\, propose une véritable « écriture » de la nature\, où chaque trait traduit une relation intime entre l’humain et son environnement. \nEn écho\, les Bains des Pâquis accueillent l’exposition Les Écritures de la rivière. Carouge et l’Arve du 5 juin au 11 août 2026. À travers une série de panneaux thématiques\, cette présentation propose une lecture historique et documentaire de la rivière : ses usages\, ses métiers\, ses aménagements\, ainsi que la richesse de sa faune et de sa flore. Des pièces issues des collections du Musée de Carouge viennent ponctuer ce parcours en plein air. \nDeux expositions complémentaires\, entre art et histoire\, pour redécouvrir l’Arve comme un paysage vivant et une source d’inspiration.
URL:https://aubp.ch/event/exposition-les-ecritures-de-la-riviere/
CATEGORIES:Exposition
ATTACH;FMTTYPE=image/jpeg:https://aubp.ch/wp-content/uploads/2026/04/Capture-decran-2026-04-21-a-09.19.14.jpg
END:VEVENT
BEGIN:VEVENT
DTSTART;TZID=Europe/Zurich:20260823T070000
DTEND;TZID=Europe/Zurich:20260823T120000
DTSTAMP:20260422T014359
CREATED:20260402T141424Z
LAST-MODIFIED:20260408T124107Z
UID:10027972-1787468400-1787486400@aubp.ch
SUMMARY:Lars Traversée
DESCRIPTION:Hommage à un ami parti trop tôt \nLars Traversée 2026 \nse déroulera le dimanche 23 août 2026. \nLes inscriptions sur le site https://latraversee-aubp.ch/ seront ouvertes le mercredi 6 mai dès 7h00.
URL:https://aubp.ch/event/lars-traversee/
CATEGORIES:Sport
ATTACH;FMTTYPE=image/jpeg:https://aubp.ch/wp-content/uploads/2026/04/Affiche-Traversee-002.jpg
END:VEVENT
END:VCALENDAR